BEGIN:VCALENDAR
VERSION:2.0
PRODID:-//CICUS · Centro de Iniciativas Culturales de la Universidad de Sevilla - ECPv6.15.20//NONSGML v1.0//EN
CALSCALE:GREGORIAN
METHOD:PUBLISH
X-WR-CALNAME:CICUS · Centro de Iniciativas Culturales de la Universidad de Sevilla
X-ORIGINAL-URL:https://cicus.us.es
X-WR-CALDESC:Eventos para CICUS · Centro de Iniciativas Culturales de la Universidad de Sevilla
REFRESH-INTERVAL;VALUE=DURATION:PT1H
X-Robots-Tag:noindex
X-PUBLISHED-TTL:PT1H
BEGIN:VTIMEZONE
TZID:Europe/Madrid
BEGIN:DAYLIGHT
TZOFFSETFROM:+0100
TZOFFSETTO:+0200
TZNAME:CEST
DTSTART:20250330T010000
END:DAYLIGHT
BEGIN:STANDARD
TZOFFSETFROM:+0200
TZOFFSETTO:+0100
TZNAME:CET
DTSTART:20251026T010000
END:STANDARD
BEGIN:DAYLIGHT
TZOFFSETFROM:+0100
TZOFFSETTO:+0200
TZNAME:CEST
DTSTART:20260329T010000
END:DAYLIGHT
BEGIN:STANDARD
TZOFFSETFROM:+0200
TZOFFSETTO:+0100
TZNAME:CET
DTSTART:20261025T010000
END:STANDARD
BEGIN:DAYLIGHT
TZOFFSETFROM:+0100
TZOFFSETTO:+0200
TZNAME:CEST
DTSTART:20270328T010000
END:DAYLIGHT
BEGIN:STANDARD
TZOFFSETFROM:+0200
TZOFFSETTO:+0100
TZNAME:CET
DTSTART:20271031T010000
END:STANDARD
END:VTIMEZONE
BEGIN:VEVENT
DTSTART;TZID=Europe/Madrid:20260601T110000
DTEND;TZID=Europe/Madrid:20260605T110000
DTSTAMP:20260421T225507
CREATED:20260417T172118Z
LAST-MODIFIED:20260420T173449Z
UID:81594-1780311600-1780657200@cicus.us.es
SUMMARY:EXPOSICIÓN · PLURIVERSAL. COLECCIONES UNIVERSITARIAS DE GRANADA Y SEVILLA
DESCRIPTION:Fecha: del 28 de abril al 17 de julio de 2026\nInauguración: martes 28 de abril\, a las 13 h\nHorario: de lunes a viernes\, de 11 a 20 h (viernes\, hasta 19:45)\n* Horario especial de verano por determinar\nComisariado: Luis Méndez Rodríguez – Mª Luisa Bellido Gant – Francisco José Sánchez Montalbán\nLugar: Sala EP1 · CICUS (C/ Madre de Dios\, 1) \n· ADQUIRIR INVITACIÓN\n· VER CARTEL\n \nLa exposición PLURIVERSAL. Colecciones universitarias de Granada y Sevilla forma parte de la conmemoración del V Centenario de fundación de la Universidad de Granada (Carlos V en 1526) y se realiza en colaboración con la Universidad de Sevilla. Esta muestra subraya el papel fundamental de la historia\, la memoria\, la identidad y la conservación para estas dos instituciones. \nEsta exposición examina el patrimonio de ambas instituciones a través del concepto de «Pluriversalismo». Esta perspectiva promueve la idea de que múltiples realidades\, culturas y visiones del mundo pueden coexistir de forma armónica\, en oposición al universalismo de un modelo único. \nSe plasma esta armonía mediante la convergencia dialógica de las diversas colecciones patrimoniales de las dos universidades\, fundadas en el siglo XVI (Sevilla en 1505 y Granada en 1526). Así\, se ofrecen visiones descentralizadas\, diversas y en continua construcción que reflejan la riqueza de sus historias. \n\nDescubre más sobre la exposición en la web de Patrimonio Cultural de la Universidad de Sevilla \n\n  \nCARTEL  \n \n 
URL:https://cicus.us.es/evento/pluriversal06/
LOCATION:CICUS – EP1\, c/Madre de Dios 1-3\, Sevilla\, España
ATTACH;FMTTYPE=image/jpeg:https://cicus.us.es/wp-content/uploads/2026/03/evento1869.jpg
END:VEVENT
END:VCALENDAR