BEGIN:VCALENDAR
VERSION:2.0
PRODID:-//CICUS · Centro de Iniciativas Culturales de la Universidad de Sevilla - ECPv6.15.20//NONSGML v1.0//EN
CALSCALE:GREGORIAN
METHOD:PUBLISH
X-WR-CALNAME:CICUS · Centro de Iniciativas Culturales de la Universidad de Sevilla
X-ORIGINAL-URL:https://cicus.us.es
X-WR-CALDESC:Eventos para CICUS · Centro de Iniciativas Culturales de la Universidad de Sevilla
REFRESH-INTERVAL;VALUE=DURATION:PT1H
X-Robots-Tag:noindex
X-PUBLISHED-TTL:PT1H
BEGIN:VTIMEZONE
TZID:Europe/Madrid
BEGIN:DAYLIGHT
TZOFFSETFROM:+0100
TZOFFSETTO:+0200
TZNAME:CEST
DTSTART:20250330T010000
END:DAYLIGHT
BEGIN:STANDARD
TZOFFSETFROM:+0200
TZOFFSETTO:+0100
TZNAME:CET
DTSTART:20251026T010000
END:STANDARD
BEGIN:DAYLIGHT
TZOFFSETFROM:+0100
TZOFFSETTO:+0200
TZNAME:CEST
DTSTART:20260329T010000
END:DAYLIGHT
BEGIN:STANDARD
TZOFFSETFROM:+0200
TZOFFSETTO:+0100
TZNAME:CET
DTSTART:20261025T010000
END:STANDARD
BEGIN:DAYLIGHT
TZOFFSETFROM:+0100
TZOFFSETTO:+0200
TZNAME:CEST
DTSTART:20270328T010000
END:DAYLIGHT
BEGIN:STANDARD
TZOFFSETFROM:+0200
TZOFFSETTO:+0100
TZNAME:CET
DTSTART:20271031T010000
END:STANDARD
END:VTIMEZONE
BEGIN:VEVENT
DTSTART;TZID=Europe/Madrid:20260427T100000
DTEND;TZID=Europe/Madrid:20260430T100000
DTSTAMP:20260424T185614
CREATED:20260222T225949Z
LAST-MODIFIED:20260324T131228Z
UID:80971-1777284000-1777543200@cicus.us.es
SUMMARY:EXPOSICIÓN · CELIA MORGADO. “PODRÍA HABER SIDO DE OTRO MODO”
DESCRIPTION:PROYECTO GANADOR EN LA CONVOCATORIA DE PROYECTOS ARTÍSTICOS CICUS\, 2025 \nFecha: del 12 de marzo al 30 de mayo de 2026\nHorario*: de lunes a viernes de 10 a 20 h (viernes hasta las 19:45)\n* Horario especial de Semana Santa y Feria: de 10 a 13:30 h (Jueves y Viernes Santo\, y Miércoles de Feria\, CERRADO)\nLugar: Sala MDD · CICUS (C/ Madre de Dios\, 1) \n· VER / DESCARGAR CARTEL\n· ADQUIRIR INVITACIÓN \nUmbrales de la percepción: memoria\, materia y paisaje en tránsito \nLa promoción de la cultura y de la creación artística constituye uno de los principios fundamentales de la Universidad de Sevilla\, que\, desde una visión amplia y comprometida\, entiende el arte como una forma de conocimiento y como un espacio privilegiado para el encuentro entre sensibilidades diversas. En esta línea\, el Centro de Iniciativas Culturales de la Universidad de Sevilla (CICUS) impulsa desde 2014 convocatorias de proyectos expositivos destinadas a fomentar la investigación y la producción artística contemporánea\, consolidándose como una de las líneas estratégicas de su programa de premios y reconocimientos. \nLa Convocatoria de Proyectos Artísticos se concibe como un instrumento de apoyo integral a la creación\, orientado tanto a la selección de propuestas rigurosas como a su producción y exhibición en un contexto institucional de referencia. Este programa no solo favorece la visibilidad pública de artistas y agentes culturales\, sino que contribuye a su inserción en los circuitos profesionales\, ampliando al mismo tiempo el acceso de la ciudadanía a prácticas contemporáneas que enriquecen la experiencia estética y expanden las formas de mirar. Así\, la universidad a través del lenguaje del arte. \nLa propuesta ganadora de la presente edición\, desarrollada por la artista y docente Celia Morgado bajo el título Podría haber sido de otro modo\, ha sido especialmente valorada por la comisión de selección por la solidez de su planteamiento conceptual\, la coherencia entre investigación y formalización plástica y su afinado diálogo con el espacio expositivo. Su proyecto\, de fuerte carga introspectiva y evocadora\, entrelaza naturaleza\, percepción y memoria para construir un imaginario sensible que activa múltiples resonancias en quien se aproxima a él. \nLuis F. Martínez Montiel\nVicerrector de Cultura y Patrimonio
URL:https://cicus.us.es/evento/celiamorgado-07/
LOCATION:CICUS – Sala MDD\, c/Madre de Dios 1-3\, Sevilla\, España
ATTACH;FMTTYPE=image/jpeg:https://cicus.us.es/wp-content/uploads/2026/02/evento1840.jpg
END:VEVENT
BEGIN:VEVENT
DTSTART;TZID=Europe/Madrid:20260428T110000
DTEND;TZID=Europe/Madrid:20260430T110000
DTSTAMP:20260424T185614
CREATED:20260417T172001Z
LAST-MODIFIED:20260420T173021Z
UID:81588-1777374000-1777546800@cicus.us.es
SUMMARY:EXPOSICIÓN · PLURIVERSAL. COLECCIONES UNIVERSITARIAS DE GRANADA Y SEVILLA
DESCRIPTION:Fecha: del 28 de abril al 17 de julio de 2026\nInauguración: martes 28 de abril\, a las 13 h\nHorario: de lunes a viernes\, de 11 a 20 h (viernes\, hasta 19:45)\n* Horario especial de verano por determinar\nComisariado: Luis Méndez Rodríguez – Mª Luisa Bellido Gant – Francisco José Sánchez Montalbán\nLugar: Sala EP1 · CICUS (C/ Madre de Dios\, 1) \n· ADQUIRIR INVITACIÓN\n· VER CARTEL\n \nLa exposición PLURIVERSAL. Colecciones universitarias de Granada y Sevilla forma parte de la conmemoración del V Centenario de fundación de la Universidad de Granada (Carlos V en 1526) y se realiza en colaboración con la Universidad de Sevilla. Esta muestra subraya el papel fundamental de la historia\, la memoria\, la identidad y la conservación para estas dos instituciones. \nEsta exposición examina el patrimonio de ambas instituciones a través del concepto de «Pluriversalismo». Esta perspectiva promueve la idea de que múltiples realidades\, culturas y visiones del mundo pueden coexistir de forma armónica\, en oposición al universalismo de un modelo único. \nSe plasma esta armonía mediante la convergencia dialógica de las diversas colecciones patrimoniales de las dos universidades\, fundadas en el siglo XVI (Sevilla en 1505 y Granada en 1526). Así\, se ofrecen visiones descentralizadas\, diversas y en continua construcción que reflejan la riqueza de sus historias. \n\nDescubre más sobre la exposición en la web de Patrimonio Cultural de la Universidad de Sevilla \n\n  \nCARTEL  \n \n 
URL:https://cicus.us.es/evento/pluriversal01/
LOCATION:CICUS – EP1\, c/Madre de Dios 1-3\, Sevilla\, España
ATTACH;FMTTYPE=image/jpeg:https://cicus.us.es/wp-content/uploads/2026/03/evento1869.jpg
END:VEVENT
BEGIN:VEVENT
DTSTART;TZID=Europe/Madrid:20260428T180000
DTEND;TZID=Europe/Madrid:20260428T180000
DTSTAMP:20260424T185614
CREATED:20260330T121642Z
LAST-MODIFIED:20260424T164702Z
UID:81468-1777399200-1777399200@cicus.us.es
SUMMARY:LA CIENCIA LEE · FILOLOGÍA Y NUEVAS TECNOLOGÍAS\, con la coordinadora María García Antuña
DESCRIPTION:PROGRAMA COMPLETO LA CIENCIA LEE 2026 \nFecha: martes 28 de abril de 2026\nHora: 18 h\nLugar: CICUS (c/ Madre de Dios\, 1) \nINSCRIPCIÓN: 3€ (incluye un café de cortesía) \nEn las últimas décadas\, los avances tecnológicos han transformado de manera profunda no solo la vida cotidiana\, sino también los fundamentos teóricos\, metodológicos y didácticos de la filología. En este contexto\, el presente volumen explora de forma crítica y divulgativa la intersección entre filología y nuevas tecnologías\, atendiendo tanto a sus aplicaciones educativas como a sus implicaciones investigadoras y sociales. \nEl monográfico\, integrado por catorce contribuciones de investigadores de la Universidad de Sevilla o vinculados a ella y publicado en la colección Ciencia al alcance de la Editorial Universidad de Sevilla\, concibe el conocimiento científico como un saber colectivo orientado a la transferencia social. Desde esta perspectiva\, los capítulos abordan un amplio abanico de enfoques y herramientas tecnológicas que están redefiniendo el estudio del lenguaje\, la literatura y la cultura. \nEntre los temas tratados se incluyen la creatividad literaria y audiovisual mediante narrativas transmedia\, la robótica social aplicada a contextos hospitalarios\, la poesía visual generada por inteligencia artificial\, las posibilidades didácticas del metaverso\, los retos de la inteligencia artificial en la fonética forense y la atribución de autoría\, la edición digital de textos mediante plataformas como TEITOK\, así como los avances y límites del procesamiento automático del lenguaje. Asimismo\, se reflexiona sobre el impacto de las tecnologías en el uso del lenguaje\, la enseñanza de lenguas en un mundo globalizado y la innovación en la didáctica lingüística. \nEl volumen se cierra con una reflexión sobre el papel de las humanidades digitales en el horizonte de la transhumanización\, subrayando la necesidad de un equilibrio entre innovación tecnológica\, pensamiento crítico y responsabilidad social. \nEn conjunto\, esta obra ofrece una visión renovada y plural de la filología contemporánea\, poniendo de relieve su capacidad de adaptación a los cambios tecnológicos y su papel fundamental en la comprensión crítica de una sociedad en constante transformación. \nMaría García Antuña es doctora en Lingüística (sobresaliente cum laude\, mención de Doctorado Europeo y Premio Extraordinario en Artes y Humanidades por la Universidad de Cádiz) y doctora en Ciencias Forenses por la Universidad de Alcalá (sobresaliente cum laude). Es licenciada en Filología Alemana y en Lingüística\, esta última con Premio Extraordinario. \nEn la actualidad es Profesora Titular de la Universidad de Sevilla\, donde ocupa el cargo de Vicedecana de Estudiantes\, Emprendimiento y Compromiso Social de la Facultad de Filología. \nSu formación de posgrado incluye el Máster Universitario en Traducción de Textos con Fines Específicos\, Interpretación y Doblaje (Universidad de Sevilla)\, el Máster en Lingüística Forense (Universitat Pompeu Fabra) y el Máster en Ciencias Policiales (Universidad de Alcalá). \nSu investigación se centra en la enseñanza de lenguas con fines profesionales\, la lingüística de corpus y terminología y la lingüística forense. Forma parte desde 2006 del grupo de investigación de excelencia Semaínein (HUM-142) y ha sido investigadora principal de tres proyectos interuniversitarios en el ámbito de la lingüística forense financiados por el Gobierno de Cantabria (Cátedra Comillas). \nHa participado en numerosos proyectos de investigación aplicada\, contratos OTRI y convenios con organismos oficiales y empresas privadas\, destacando su colaboración con el Laboratorio de Acústica Forense de la Policía Científica y el Instituto de Ciencias Policiales de la Universidad de Alcalá. Ha realizado estancias de investigación en diversas universidades europeas\, entre ellas Duisburg-Essen\, Bielefeld\, Saarbrücken\, Köln\, Heidelberg\, La Sapienza y MGIMO de Moscú. \nHa desarrollado su actividad docente en las universidades de Cádiz\, Cantabria y Sevilla\, así como en el CIESE-Comillas\, y cuenta con una amplia experiencia en gestión universitaria. \n  \n\n‘La Ciencia Lee’ es una iniciativa del Secretariado Divulgación Científica y Cultural de la Universidad de Sevilla en colaboración con el Centro de Iniciativas Culturales de la Universidad de Sevilla (CICUS) y la Editorial Universidad de Sevilla. \nMás info: https://laciencialee.wordpress.com/ \n 
URL:https://cicus.us.es/evento/filologia-y-nuevas-tecnologias/
LOCATION:Café El Oasis de la Gata · CICUS\, C/ Madre de Dios\, 1\, Sevilla\, SEvilla
ATTACH;FMTTYPE=image/jpeg:https://cicus.us.es/wp-content/uploads/2026/03/evento1866.jpg
END:VEVENT
BEGIN:VEVENT
DTSTART;TZID=Europe/Madrid:20260428T190000
DTEND;TZID=Europe/Madrid:20260428T190000
DTSTAMP:20260424T185614
CREATED:20260322T222420Z
LAST-MODIFIED:20260331T120534Z
UID:81350-1777402800-1777402800@cicus.us.es
SUMMARY:Presentación de “El sambenito. Historia cotidiana de la Inquisición” (El Paseo Editorial)\, de Manuel Peña Díaz
DESCRIPTION:Fecha: martes 28 de abril de 2026\nHora: 19 h\nLugar: Espacio LIC (1º PLANTA) · CICUS (c/ Madre de Dios\, 1)\nIntervienen: Manuel Peña Díaz\, Carlos Mármol\, Eva Díaz Pérez y David González Romero \nADQUIRIR INVITACIONES* \n* Las entradas / invitaciones se pueden adquirir en www.cicus.us.es/entradas o en la taquilla del CICUS desde el lunes de la semana anterior a la celebración de la actividad. \nLa historia de una de las marcas mayores de la Inquisición\, el sambenito\, quizás el símbolo más potente de la vigilancia cotidiana del todopoderoso tribunal; contada por Manuel Peña con maestría y curiosas resonancias de actualidad. \n¿Por qué colgar un sambenito\, poner verde o tirar de la manta son expresiones que han sobrevivido hasta nuestros días en el imaginario y el vocabulario de todo el mundo hispánico y no nos suenan tan lejanas? El tópico inquisitorial siempre ha puesto en el centro la imagen de los autos de fe y los quemaderos. Solemnes\, multitudinarios y violentos\, han fascinado tanto a historiadores como al público con sus hogueras y cuerpos ardiendo. Sin embargo\, hubo otras realidades más consistentes y cotidianas que se interiorizaron con enorme profundidad a lo largo de los tres siglos y medio en que existió el Santo Oficio. El sambenito fue una de las representaciones de la Inquisición más conocidas y compartidas por los fieles y súbditos de aquellos tiempos. \nLas conocidas tensiones entre cristianos viejos y nuevos\, con el trasfondo de la honra y la limpieza de sangre\, ¿favorecieron la difusión y arraigo de las infamias y sus símbolos? En este estudio se examinan los sambenitos que\, día tras día\, los condenados por herejía portaron\, sufrieron y vieron expuestos e\, igualmente\, los no acusados usaron como estigma y arma arrojadiza. El sambenito fue el gran icono inquisitorial por excelencia\, pero ¿cuántos tipos hubo y cómo fueron cambiando con el paso del tiempo?\, ¿su popularización fue el verdadero triunfo de la propaganda del Santo Oficio?\, ¿cuánto de resistencia y cuánto de complicidad hubo en su lastimoso éxito? La historia de una de las marcas mayores de la Inquisición\, el sambenito\, quizás el símbolo más potente de la vigilancia cotidiana del todopoderoso tribunal; contada por Manuel Peña con maestría y curiosas resonancias de actualidad. \nMANUEL PEÑA DÍAZ  \nEs Catedrático de Historia Moderna en la Universidad de Córdoba. Sus investigaciones se han centrado en la historia de la vida cotidiana de los siglos XVI al XVIII\, en la historia del libro\, la lectura y la censura inquisitorial. Entre sus libros destacan Escribir y prohibir: Inquisición y censura en los Siglos de Oro (2015) y Una historia no oficial de Cataluña. Cincuenta momentos (2019). Ha sido editor de Poder y cultura festiva en la Andalucía moderna (2006)\, Las Españas que (no) pudieron ser. Herejías\, exilios y otras conciencias (siglos XVI-XX) (2009)\, La vida cotidiana en el mundo hispánico (siglos XVI-XVIII) (2012)\, La Inquisición. Viejos temas\, nuevas lecturas (2015). Ha sido director de la revista Andalucía en la Historia (Centro de Estudios Andaluces). \nCARLOS MÁRMOL \nEs escritor y periodista. Doctor en Teoría de la Literatura. Escribe columnas de opinión en ‘La Vanguardia’ y es el Coordinador Editorial de ‘Letra Global’\, el spin-off cultural de ‘Crónica Global’. Su web: www.carlosmarmol.es. \nEVA DÍAZ PÉREZ \nEscritora y periodista. Entre sus novelas están Memoria de cenizas\, El sueño del gramático\, El color de los ángeles o El club de la memoria (Finalista del Premio Nadal 2008). Es miembro de la Real Academia Sevillana de Buenas Letras y de la Real Academia Hispanoamericana de Cádiz. Su último libro es Sevilla. Biografía de la ciudad dorada. \nDAVID GONZÁLEZ ROMERO \nEs editor del sello El Paseo desde 2016\, y coeditor de El Paseíllo desde 2022. Dedicado a la edición desde 1999\, también es crítico literario ocasional y Doctor en Literatura y Comunicación por la Universidad de Sevilla.
URL:https://cicus.us.es/evento/elsambenito/
LOCATION:CICUS – Laboratorio de Investigaciones Contemporáneas\, c/ Madre de Dios\, 1\, Sevilla
ATTACH;FMTTYPE=image/jpeg:https://cicus.us.es/wp-content/uploads/2026/03/evento1857.jpg
END:VEVENT
BEGIN:VEVENT
DTSTART;TZID=Europe/Madrid:20260428T190000
DTEND;TZID=Europe/Madrid:20260428T190000
DTSTAMP:20260424T185614
CREATED:20260329T212203Z
LAST-MODIFIED:20260331T120532Z
UID:81440-1777402800-1777402800@cicus.us.es
SUMMARY:CINECLUB LA GOLFA · THE WATERMELON WOMAN
DESCRIPTION:Día de la visibilidad lésbica \nFecha: martes 28 de abril de 2026\nHora: 19 h\nLugar: Auditorio · CICUS (C/ Madre de Dios\, 1) \nADQUIRIR INVITACIONES* \n* Las entradas / invitaciones se pueden adquirir en www.cicus.us.es/entradas o en la taquilla del CICUS desde el lunes de la semana anterior a la celebración de la actividad. \n** Habrá invitaciones de última hora disponibles en la taquilla una vez haya accedido a la sala el público con entrada\, aproximadamente diez minutos antes del evento\, siempre que no se haya completado el aforo. \nUna de las fechas más importante para el colectivo es el 26 de abril\, Día de la Visibilidad Lésbica. Trabajar por esa visibilidad es el objetivo principal del proyecto La GOLFA que trae en cada proyección una parte de la historia del cine queer y sáfico. La película elegida para conmemorar este día es la ópera prima de Cheryl Dunye\, una directora pionera y que trabaja desde una perspectiva antirracista\, además de representar al colectivo lésbico. Volveremos a aprovechar esta oportunidad para pasarlo bien entre lesbianas. \nTHE WATERMELON WOMAN\n(Cheryl Dunye\, EE. UU.\, 1996\, 90 min\, V.O.S.E.) \nCheryl es una joven negra y lesbiana que trabaja en Filadelfia con su mejor amiga Tamara y que está envuelta en un proyecto de película sobre su búsqueda de una actriz negra de Filadelfia que apareció en las películas de los años 30 y fue conocida como «La Mujer Sandía». \nCHERRYL DUNYE. Es una directora\, guionista y actriz pionera del cine queer y feminista. Nacida en Liberia y criada en Estados Unidos\, irrumpió en los años noventa con un estilo propio que mezcla documental\, ficción y autobiografía. Su ópera prima\, The Watermelon Woman (1996)\, fue la primera película dirigida por una mujer negra lesbiana en obtener distribución comercial\, convirtiéndose en un hito cultural. A lo largo de su carrera\, Dunye ha explorado la identidad\, la memoria y la representación afroamericana con humor\, ingenio y una mirada profundamente crítica. Hoy es una figura esencial del cine independiente. \n  \n\nUna actividad de Colectivo La Golfa
URL:https://cicus.us.es/evento/the-watermelon-woman/
LOCATION:Cicus – Auditorio\, C/ Madre de Dios\, 1\, Sevilla\, España
ATTACH;FMTTYPE=image/jpeg:https://cicus.us.es/wp-content/uploads/2026/03/evento1862.jpg
END:VEVENT
END:VCALENDAR