BEGIN:VCALENDAR
VERSION:2.0
PRODID:-//CICUS · Centro de Iniciativas Culturales de la Universidad de Sevilla - ECPv6.15.20//NONSGML v1.0//EN
CALSCALE:GREGORIAN
METHOD:PUBLISH
X-WR-CALNAME:CICUS · Centro de Iniciativas Culturales de la Universidad de Sevilla
X-ORIGINAL-URL:https://cicus.us.es
X-WR-CALDESC:Eventos para CICUS · Centro de Iniciativas Culturales de la Universidad de Sevilla
REFRESH-INTERVAL;VALUE=DURATION:PT1H
X-Robots-Tag:noindex
X-PUBLISHED-TTL:PT1H
BEGIN:VTIMEZONE
TZID:Europe/Madrid
BEGIN:DAYLIGHT
TZOFFSETFROM:+0100
TZOFFSETTO:+0200
TZNAME:CEST
DTSTART:20230326T010000
END:DAYLIGHT
BEGIN:STANDARD
TZOFFSETFROM:+0200
TZOFFSETTO:+0100
TZNAME:CET
DTSTART:20231029T010000
END:STANDARD
BEGIN:DAYLIGHT
TZOFFSETFROM:+0100
TZOFFSETTO:+0200
TZNAME:CEST
DTSTART:20240331T010000
END:DAYLIGHT
BEGIN:STANDARD
TZOFFSETFROM:+0200
TZOFFSETTO:+0100
TZNAME:CET
DTSTART:20241027T010000
END:STANDARD
BEGIN:DAYLIGHT
TZOFFSETFROM:+0100
TZOFFSETTO:+0200
TZNAME:CEST
DTSTART:20250330T010000
END:DAYLIGHT
BEGIN:STANDARD
TZOFFSETFROM:+0200
TZOFFSETTO:+0100
TZNAME:CET
DTSTART:20251026T010000
END:STANDARD
END:VTIMEZONE
BEGIN:VEVENT
DTSTART;TZID=Europe/Madrid:20241031T200000
DTEND;TZID=Europe/Madrid:20241031T200000
DTSTAMP:20260424T075622
CREATED:20240916T205555Z
LAST-MODIFIED:20241025T124813Z
UID:73559-1730404800-1730404800@cicus.us.es
SUMMARY:ESTRÉNATE · CÍA. HILANDERAS PRODUCCIONES. "CATALINA Y ELENA"
DESCRIPTION:CICLO ESTRÉNATE 2024 \nFecha: Jueves 31 de octubre 2024\nHora: 20 h.\nLugar: Auditorio · CICUS \nADQUIRIR ENTRADAS: 5 € \nCATALINA Y ELENA es un proyecto de investigación teatral sobre la identidad de género en el Barroco a través de las vidas de Catalina de Erauso\, más conocida como «La monja alférez»\, y Eleno de Céspedes – nacida Elena de Céspedes-. \nAmbos vivieron como hombres\, pero tuvieron suertes muy distintas. «La monja alférez» consiguió el reconocimiento de Felipe II y del Papa Urbano VIII y logró vivir como quiso. Por su parte\, Eleno de Céspedes fue condenado por la Inquisición a 200 azotes públicos y reclusión durante diez años en un hospital. \nEl proceso de investigación parte de los testimonios de ambos\, recogidos en la comedia La monja alférez (Juan Pérez de Montalván\, 1625)\, la autobiografía de Catalina de Erauso y las actas de la Inquisición del proceso de Eleno de Céspedes\, entre otra bibliografía de la época\, para construir un relato de vida\, diferencias sociales e identidad de género. \nSINOPSIS \nCatalina de Erauso “La monja alférez” y Elena de Céspedes nacieron mujeres\, pero vivieron como hombres. Lo hicieron en épocas diferentes y con suertes diferentes. Mientras que el primero lograba el reconocimiento del poder civil y religioso en el siglo XVII\, el segundo fue cuestionado toda su vida y juzgado por la Inquisición en el XVI. ¿Qué se dirían si se encontraran? ¿Qué supusieron sus historias para la sociedad de la época? Un relato de dos vidas excepcionales\, diferencias sociales e identidad de género. \nFICHA ARTÍSTICA \nDirección y dramaturgia: Teresa Espejo\nActrices: Irina Gimeno Gabarda y Lola Tinés\nAyudantía de dirección: Alberto Gómez Taboada\nDiseño de iluminación: José Muñoz\nDiseño sonoro: Teresa Espejo\nEscenografía: Hilanderas Producciones\nVestuario: Irina Gimeno en colaboración con Factoría Teatro\nLucha escénica: José García Aguilar\nProducción: Hilanderas Producciones y Las Furias \nDuración: 70 minutos. \nWeb de la compañía: www.hilanderasproducciones.com \n  \n\nTEASER \n \n 
URL:https://cicus.us.es/evento/estrenate2024_17/
LOCATION:Cicus – Auditorio\, C/ Madre de Dios\, 1\, Sevilla\, España
ATTACH;FMTTYPE=image/jpeg:https://cicus.us.es/wp-content/uploads/2024/09/evento1423.jpg
END:VEVENT
END:VCALENDAR