BEGIN:VCALENDAR
VERSION:2.0
PRODID:-//CICUS · Centro de Iniciativas Culturales de la Universidad de Sevilla - ECPv6.15.20//NONSGML v1.0//EN
CALSCALE:GREGORIAN
METHOD:PUBLISH
X-WR-CALNAME:CICUS · Centro de Iniciativas Culturales de la Universidad de Sevilla
X-ORIGINAL-URL:https://cicus.us.es
X-WR-CALDESC:Eventos para CICUS · Centro de Iniciativas Culturales de la Universidad de Sevilla
REFRESH-INTERVAL;VALUE=DURATION:PT1H
X-Robots-Tag:noindex
X-PUBLISHED-TTL:PT1H
BEGIN:VTIMEZONE
TZID:Europe/Madrid
BEGIN:DAYLIGHT
TZOFFSETFROM:+0100
TZOFFSETTO:+0200
TZNAME:CEST
DTSTART:20230326T010000
END:DAYLIGHT
BEGIN:STANDARD
TZOFFSETFROM:+0200
TZOFFSETTO:+0100
TZNAME:CET
DTSTART:20231029T010000
END:STANDARD
BEGIN:DAYLIGHT
TZOFFSETFROM:+0100
TZOFFSETTO:+0200
TZNAME:CEST
DTSTART:20240331T010000
END:DAYLIGHT
BEGIN:STANDARD
TZOFFSETFROM:+0200
TZOFFSETTO:+0100
TZNAME:CET
DTSTART:20241027T010000
END:STANDARD
BEGIN:DAYLIGHT
TZOFFSETFROM:+0100
TZOFFSETTO:+0200
TZNAME:CEST
DTSTART:20250330T010000
END:DAYLIGHT
BEGIN:STANDARD
TZOFFSETFROM:+0200
TZOFFSETTO:+0100
TZNAME:CET
DTSTART:20251026T010000
END:STANDARD
END:VTIMEZONE
BEGIN:VEVENT
DTSTART;TZID=Europe/Madrid:20241014T110000
DTEND;TZID=Europe/Madrid:20241018T110000
DTSTAMP:20260425T014827
CREATED:20240925T083223Z
LAST-MODIFIED:20240925T083223Z
UID:73778-1728903600-1729249200@cicus.us.es
SUMMARY:Exposición · Instrucciones para escribir el siglo 21
DESCRIPTION:JORGE CARRIÓN / AGUSTÍN FERNÁNDEZ MALLO / ELOY FERNÁNDEZ PORTA \nFecha: del 4 al 18 de octubre de 2024\nHorario: de 11 a 21 h (de lunes a viernes y durante el fin de semana de la celebración de Bookstock) \nLugar: Sala MDD · CICUS (C/ Madre de Dios\, 1) \nAl final\, el Efecto 2000 no fue un apagón tecnológico\, sino la toma de conciencia de que el siglo 21 sería muy distinto del XX. Tras la irrupción de internet y el shock de la caída de las Torres Gemelas\, no obstante\, buena parte de la literatura española se mantuvo fiel a los códigos del realismo y la metaliteratura de los años 90. Pero también surgieron poéticas que buscaron nuevas formas de representar el mundo que se nos aceleraba y pixelaba. \nRevistas como Lateral y Quimera\, editoriales independientes como Debate\, DVD o Berenice\, los encuentros Nuevos Narradores en Santiago de Compostela (coordinado por Germán Sierra) y Neo3 en Barcelona (dirigido por Eloy Fernández Porta)\, publicaciones digitales como Cuaderno de Lecturas (el blog de Vicente Luis Mora) y antologías como Mutantes (editada por Julio Ortega y Juan Francisco Ferré) fueron las plataformas de visibilidad\, durante los años 2000\, de una nueva generación de escritores y escritoras\, caracterizados por un perfil cosmopolita y experimental\, entre los que también figuraron Mercedes Cebrián\, Robert Juan-Cantavella\, Manuel Vilas o Lolita Bosch. \nVeinte años después de aquella efervescencia\, Bookstock propone el zoom a tres de aquellos autores. Tres escritores que han seguido trabajando en una línea tanto literaria como transmedia y se han convertido en nombres imprescindibles de la literatura de hoy en nuestro idioma: Jorge Carrión\, Agustín Fernández Mallo y Eloy Fernández Porta. Los unen ciertas afinidades estéticas\, la amistad\, la colaboración\, la escritura tanto de narrativa como de ensayo\, el interés por la teoría y la práctica en otros lenguajes artísticos y\, sobre todo\, nuestra voluntad de reunirlos en esta exposición\, porque somos fans. \n  \n  \n\nOrganizan Revista Jotdown y Revista Mercurio en colaboración con el Ministerio de Cultura. Gobierno de España y CICUS.
URL:https://cicus.us.es/evento/instruccionesescribirelsiglo21_02-2/
LOCATION:CICUS – Sala MDD\, c/Madre de Dios 1-3\, Sevilla\, España
ATTACH;FMTTYPE=image/jpeg:https://cicus.us.es/wp-content/uploads/2024/09/evento1437.jpg
END:VEVENT
BEGIN:VEVENT
DTSTART;TZID=Europe/Madrid:20241015T193000
DTEND;TZID=Europe/Madrid:20241015T193000
DTSTAMP:20260425T014827
CREATED:20241002T112456Z
LAST-MODIFIED:20241010T150949Z
UID:73952-1729020600-1729020600@cicus.us.es
SUMMARY:Presentación del libro “Las reinas del mar. Memorias de una vida aventurera”\, de Mauricio Wiesenthal
DESCRIPTION:Fecha: martes 15 de octubre de 2024\nHora: 19:30 h.\nLugar: Auditorio  · CICUS (c/ Madre de Dios\, 1)\nIntervienen: Mauricio Wiesenthal (profesor y escritor) y Francisco J. Vázquez (abogado\, periodista y poeta) \nADQUIRIR INVITACIÓN \n«Quizá debo comenzar explicando que mi vida de escritor ha sido bastante aventurera\, más divertida y laboriosa que segura\, y mucho más arriesgada y tormentosa que rentable. Tampoco es raro\, si pensamos que el oficio de escribir es quehacer de horizonte: quesoñarde cielo\, como las navegaciones». \nEn esta fascinante epopeya—a veces memoria feliz\, crónica de mil viajes narrados en escenarios de novela y de cine—Mauricio Wiesenthal nos embarca a bordo de legendarios navíos\, repletos de historias románticas\, de amores\, de lugares y de vidas apasionantes cuya memoria recupera este viajero empedernido. Las reinas del mar nos descubre que lo mejor de la travesía no reside en el regreso al puerto seguro del hogar\, sino en las personas\, las experiencias y los relatos que atesoramos a lo largo del viaje de la vida\, un teatro infinito con un escenario siempre cambiante. \nMAURICIO WIESENTHAL \nAdemás de escritor\, ha sido profesor de Historia de la Cultura y conferenciante invitado en múltiples universidades. Entre sus obras destacan los ensayos La belle époque del Orient Express (1979) e Imagen de España (1984) y la novela El testamento de Nobel (1985). Su pensamiento y su estilo literario son herederos del gran legado cultural europeo\, tradición en la que se inscribe su «Trilogía europea» (Libro de Réquiems\, 2004; El esnobismo de las golondrinas\, 2007; y Luz de vísperas\, 2008). Con la editorial Acantilado se han publicadoS iguiendo mi camino (2013)\, Rainer Maria Rilke (2015)\, La hispanibundia (2018)\,Orient-Express (2020)\, El derecho a disentir (2021) y Las reinas del mar (2024). \nEn 2015 se le otorgó la Medalla de Oro al Mérito en las Bellas Artes de España. Y en febrero de 2016 le concedieron el I Premio Revista de Occidente-Ámbito Cultural\, destinado a «reconocer la obra de una personalidad relevante de la cultura española e internacional». \nFRANCISCO J. VÁZQUEZ \nAbogado\, periodista y poeta\, es igualmente administrador de la Asociación Española de Lucha contra el cáncer y un apasionado de la historia\, la navegación y los archivos. La palabra escrita y hablada ha sido uno de sus medios de expresión\, como articulista en medios de comunicación\, como El Correo de Andalucía; pregonero de la Semana Santa en 2003\, además de haber publicado en 2022 el poemario «Cuaderno de la Jara«. \n  \n\nActividad organizada en colaboración con la editorial Acantilado y Librería Palas
URL:https://cicus.us.es/evento/wiesenthal/
LOCATION:Cicus – Auditorio\, C/ Madre de Dios\, 1\, Sevilla\, España
ATTACH;FMTTYPE=image/jpeg:https://cicus.us.es/wp-content/uploads/2024/10/evento1457.jpg
END:VEVENT
END:VCALENDAR