BEGIN:VCALENDAR
VERSION:2.0
PRODID:-//CICUS · Centro de Iniciativas Culturales de la Universidad de Sevilla - ECPv6.15.20//NONSGML v1.0//EN
CALSCALE:GREGORIAN
METHOD:PUBLISH
X-ORIGINAL-URL:https://cicus.us.es
X-WR-CALDESC:Eventos para CICUS · Centro de Iniciativas Culturales de la Universidad de Sevilla
REFRESH-INTERVAL;VALUE=DURATION:PT1H
X-Robots-Tag:noindex
X-PUBLISHED-TTL:PT1H
BEGIN:VTIMEZONE
TZID:Europe/Madrid
BEGIN:DAYLIGHT
TZOFFSETFROM:+0100
TZOFFSETTO:+0200
TZNAME:CEST
DTSTART:20230326T010000
END:DAYLIGHT
BEGIN:STANDARD
TZOFFSETFROM:+0200
TZOFFSETTO:+0100
TZNAME:CET
DTSTART:20231029T010000
END:STANDARD
BEGIN:DAYLIGHT
TZOFFSETFROM:+0100
TZOFFSETTO:+0200
TZNAME:CEST
DTSTART:20240331T010000
END:DAYLIGHT
BEGIN:STANDARD
TZOFFSETFROM:+0200
TZOFFSETTO:+0100
TZNAME:CET
DTSTART:20241027T010000
END:STANDARD
BEGIN:DAYLIGHT
TZOFFSETFROM:+0100
TZOFFSETTO:+0200
TZNAME:CEST
DTSTART:20250330T010000
END:DAYLIGHT
BEGIN:STANDARD
TZOFFSETFROM:+0200
TZOFFSETTO:+0100
TZNAME:CET
DTSTART:20251026T010000
END:STANDARD
END:VTIMEZONE
BEGIN:VEVENT
DTSTART;TZID=Europe/Madrid:20241004T110000
DTEND;TZID=Europe/Madrid:20241006T110000
DTSTAMP:20260425T165958
CREATED:20240924T200106Z
LAST-MODIFIED:20240925T083430Z
UID:73692-1728039600-1728212400@cicus.us.es
SUMMARY:Exposición · Instrucciones para escribir el siglo 21
DESCRIPTION:JORGE CARRIÓN / AGUSTÍN FERNÁNDEZ MALLO / ELOY FERNÁNDEZ PORTA \nFecha: del 4 al 18 de octubre de 2024\nHorario: de 11 a 21 h (de lunes a viernes y durante el fin de semana de la celebración de Bookstock) \nLugar: Sala MDD · CICUS (C/ Madre de Dios\, 1) \nAl final\, el Efecto 2000 no fue un apagón tecnológico\, sino la toma de conciencia de que el siglo 21 sería muy distinto del XX. Tras la irrupción de internet y el shock de la caída de las Torres Gemelas\, no obstante\, buena parte de la literatura española se mantuvo fiel a los códigos del realismo y la metaliteratura de los años 90. Pero también surgieron poéticas que buscaron nuevas formas de representar el mundo que se nos aceleraba y pixelaba. \nRevistas como Lateral y Quimera\, editoriales independientes como Debate\, DVD o Berenice\, los encuentros Nuevos Narradores en Santiago de Compostela (coordinado por Germán Sierra) y Neo3 en Barcelona (dirigido por Eloy Fernández Porta)\, publicaciones digitales como Cuaderno de Lecturas (el blog de Vicente Luis Mora) y antologías como Mutantes (editada por Julio Ortega y Juan Francisco Ferré) fueron las plataformas de visibilidad\, durante los años 2000\, de una nueva generación de escritores y escritoras\, caracterizados por un perfil cosmopolita y experimental\, entre los que también figuraron Mercedes Cebrián\, Robert Juan-Cantavella\, Manuel Vilas o Lolita Bosch. \nVeinte años después de aquella efervescencia\, Bookstock propone el zoom a tres de aquellos autores. Tres escritores que han seguido trabajando en una línea tanto literaria como transmedia y se han convertido en nombres imprescindibles de la literatura de hoy en nuestro idioma: Jorge Carrión\, Agustín Fernández Mallo y Eloy Fernández Porta. Los unen ciertas afinidades estéticas\, la amistad\, la colaboración\, la escritura tanto de narrativa como de ensayo\, el interés por la teoría y la práctica en otros lenguajes artísticos y\, sobre todo\, nuestra voluntad de reunirlos en esta exposición\, porque somos fans. \n  \n  \n\nOrganizan Revista Jotdown y Revista Mercurio en colaboración con el Ministerio de Cultura. Gobierno de España y CICUS.
URL:https://cicus.us.es/evento/instruccionesescribirelsiglo21/
LOCATION:CICUS – Sala MDD\, c/Madre de Dios 1-3\, Sevilla\, España
ATTACH;FMTTYPE=image/jpeg:https://cicus.us.es/wp-content/uploads/2024/09/evento1437.jpg
END:VEVENT
BEGIN:VEVENT
DTSTART;TZID=Europe/Madrid:20241004T170000
DTEND;TZID=Europe/Madrid:20241006T170000
DTSTAMP:20260425T165958
CREATED:20240922T214739Z
LAST-MODIFIED:20240927T095907Z
UID:73624-1728061200-1728234000@cicus.us.es
SUMMARY:BOOKSTOCK 2024
DESCRIPTION:Fecha y hora:\n* Viernes 4 de octubre\, de 17 a 22 h.\n* Sábado 5 de octubre\, de 11 a 22 h.\n* Domingo 6 de octubre\, de 11 a 15 h.\nLugar: CICUS (C/ Madre de Dios\, 1) \n· VER / DESCARGAR CARTEL \nEl festival BOOKSTOCK celebrará su séptima edición del viernes 4 al domingo 6 de octubre en el Centro de Iniciativas Culturales de la Universidad de Sevilla (CICUS). Tres jornadas dedicadas a la literatura y la música\, con presentaciones\, mesas redondas\, conciertos y una exposición\, todas ellas actividades de acceso libre\, que reunirán a importantes nombres propios del panorama nacional. Este año celebramos los 30 años de Galaxia Gutenberg\, los 20 años de la Generación Afterpop y los 10 años de Salamandra Graphic. Además\, esta cita organizada por las revistas Jot Down y Mercurio incluirá la presencia de una veintena de editoriales independientes\, que pondrán a disposición de los visitantes su amplio fondo de catálogo en una serie de estands repartidos por el recinto. \nContaremos con autores de la talla de Agustín Fernández Mallo\, Laura Fernández\, Jorge Carrión\, Eloy Fernández Porta\, Anapurna\, Javier Olivares\, Ana Penyas\, Bartolomé Seguí\, Marina Velasco\, Vicente Luis Mora\, Mario Cuenca\, Eva Díaz Pérez y Coradino Vega\, entre otros. \nComo evoca su nombre\, BOOKSTOCK nació en el año 2016 con la vocación de aunar libros y música en un festival independiente\, y de constituir un espacio en el que las editoriales puedan ofrecer su fondo de catálogo más allá del bombardeo de nuevos títulos propio de estos tiempos; una forma de dar valor a esas publicaciones que a veces pasan desapercibidas y de ampliar su vida en los estantes de todo bibliófilo. \nMás info: https://bookstock.es/ \nPROGRAMA BOOKSTOCK \nViernes 4 OCT\, 2024 \n· 17 h. Sala MDD.\nInauguración exposición  Instrucciones para escribir el siglo 21 \n· 17:45 h. Auditorio.\nPresentación Medianenas & milhombres de Eloy Fernández Porta \n· 18:30 h. Auditorio.\nPresentación Volver para contarlo de Andrea Calamari \n· 19 h. Sala MDD. \nPresentación Los Galindos de Francisco Gil Chaparro \n· 19:15 h. Auditorio.\nPresentación Madre de corazón atómico de Agustín Fernández Mallo \n· 20 h. Auditorio.\nConversación La memoria de Europa en sus libros entre Eva Díaz Pérez y Mercedes de Pablos \n· 21 h. Patio.\nConcierto de Verano Cruel. \nSábado 5 OCT\, 2024 \n· 11:30 h. Auditorio.\nPresentación Cúbit de Vicente Luis Mora \n· 11:30 h. Sala MDD\nCharla La obra literaria de Nicolás Martínez Cerezo con Pepe Cueto \n· 12:30 h. Auditorio.\nPresentación de Hay un monstruo en el lago de Laura Fernández \n· 13:15 h. Auditorio.\nMesa redonda Los diez años de Salamandra Graphic  con Catalina Mejía\, Javier Olivares\, Ana Penyas\, Bartolomé Seguí y Marina Velasco Marta \n· 17 h. Auditorio.\nPresentación de Aurora Q de Mario Cuenca Sandoval \n· 17:45 h. Auditorio.\nPresentación Entre mujeres de Coradino Vega \n· 18 h. Sala MDD.\nPresentación Gatos. Antología Poética con Ricardo Álamo y Javier Salvago \n· 18:30 h. Auditorio.\nPresentación Malaherba de Bartolomé Seguí \n· 19:15 h. Auditorio.\nMesa redonda ¿Generación Afterpop? con Jorge Carrión\, Agustín Fernández Mallo\, Eloy Fernández Porta y Laura Fernández \n· 19:30 h. Sala MDD\nPresentación Se enciende y se apaga una luz de Ángel Vázquez\, con Rocío Rojas-Marcos y Juan Bonilla \n· 20:15 h. Auditorio.\nMesa redonda Arte Casual con Francisco Ferrer Lerín\, Ángel L. Fernández Recuero y Carmen Aguayo \n· 21:30. Patio.\nConcierto de Chencho Fernández \nDomingo 6 OCT\, 2024 \n· 11 h. Auditorio.\nPresentación Sudando lágrimas de Daniel Fernández Lafuente \n· 11 h. Sala MDD.\nPresentación La niña de la Manoli de Juande Ibáñez y Rocío Niebla \n· 11:45 h. Auditorio.\nPresentación Samuel & Beckett de Jorge Carrión y Javier Olivares \n· 12 h. Sala MDD.\nPresentación Destino de la luz. Antología (1962-1999) de Luis Feria\, con Ignacio F. Garmendia y Antonio Álvarez de la Rosa \n· 12:30 h. Auditorio.\nMesa redonda Los treinta años de Galaxia Gutenberg con Vicente Luis Mora\, Mario Cuenca Sandoval\, Eva Díaz Pérez y Coradino Vega \n· 13:30 h. Auditorio.\nPresentación Que no se olvide de Marina Velasco Marta \n  \n \n  \n  \n\nOrganizan Revista Jotdown y Revista Mercurio en colaboración con el Ministerio de Cultura. Gobierno de España y CICUS.
URL:https://cicus.us.es/evento/bookstock2024/
LOCATION:CICUS\, c/ MADRE DE DIOS\, SEVILLA\, SEVILLA\, España
ATTACH;FMTTYPE=image/jpeg:https://cicus.us.es/wp-content/uploads/2024/09/evento1429-1.jpg
END:VEVENT
END:VCALENDAR