BEGIN:VCALENDAR
VERSION:2.0
PRODID:-//CICUS · Centro de Iniciativas Culturales de la Universidad de Sevilla - ECPv6.15.20//NONSGML v1.0//EN
CALSCALE:GREGORIAN
METHOD:PUBLISH
X-WR-CALNAME:CICUS · Centro de Iniciativas Culturales de la Universidad de Sevilla
X-ORIGINAL-URL:https://cicus.us.es
X-WR-CALDESC:Eventos para CICUS · Centro de Iniciativas Culturales de la Universidad de Sevilla
REFRESH-INTERVAL;VALUE=DURATION:PT1H
X-Robots-Tag:noindex
X-PUBLISHED-TTL:PT1H
BEGIN:VTIMEZONE
TZID:Europe/Madrid
BEGIN:DAYLIGHT
TZOFFSETFROM:+0100
TZOFFSETTO:+0200
TZNAME:CEST
DTSTART:20230326T010000
END:DAYLIGHT
BEGIN:STANDARD
TZOFFSETFROM:+0200
TZOFFSETTO:+0100
TZNAME:CET
DTSTART:20231029T010000
END:STANDARD
BEGIN:DAYLIGHT
TZOFFSETFROM:+0100
TZOFFSETTO:+0200
TZNAME:CEST
DTSTART:20240331T010000
END:DAYLIGHT
BEGIN:STANDARD
TZOFFSETFROM:+0200
TZOFFSETTO:+0100
TZNAME:CET
DTSTART:20241027T010000
END:STANDARD
BEGIN:DAYLIGHT
TZOFFSETFROM:+0100
TZOFFSETTO:+0200
TZNAME:CEST
DTSTART:20250330T010000
END:DAYLIGHT
BEGIN:STANDARD
TZOFFSETFROM:+0200
TZOFFSETTO:+0100
TZNAME:CET
DTSTART:20251026T010000
END:STANDARD
END:VTIMEZONE
BEGIN:VEVENT
DTSTART;TZID=Europe/Madrid:20240708T110000
DTEND;TZID=Europe/Madrid:20240712T110000
DTSTAMP:20260422T210700
CREATED:20240529T211100Z
LAST-MODIFIED:20240627T085539Z
UID:72697-1720436400-1720782000@cicus.us.es
SUMMARY:EXPOSICIÓN · CURRO GONZÁLEZ · EN UN MODO MELANCÓLICO: LAS ANIMACIONES CON DAN KAPLAN
DESCRIPTION:PROGRAMA 21 GRADOS 2024 \nFecha: 12 de junio – 11 de julio de 2024\nInauguración: 12 de junio\, a las 19:30 h.\nHorario: de lunes a viernes\, de 10 a 13:45 y de 18 a 20:45 h.\nLugar: Sala MDD · CICUS (C/ Madre de Dios\, 1) \n· ADQUIRIR INVITACIÓN \nCon motivo de la clausura de esta exposición\, el jueves 11 de julio\, a las 20:30 h\, se celebrará un concierto de Dan Kaplan y el grupo Krooked Tree [+ info]  \n«GRABA EN TU ESPÍRITU que la poesía es solo una. Lo contrario a la poesía es la especialización profesional. Antes de comenzar a rodar una película\, escribe un poema\, pinta un cuadro\, haz un collage\, escribe un relato\, un ensayo\, etc. Porque solo alimentando la universalidad de los medios de expresión tendrás garantía de realizar una buena película». (Jan Svankmajer) \nDesde sus comienzos en los años ochenta\, Curro González (Sevilla\, 1960) se ha ocupado de mostrar en sus pinturas y dibujos diferentes modos de abordar la narración de historias a través de imágenes. Pero ¿puede una pintura\, un dibujo\, contarnos una historia? Un dibujo o una pintura\, debido a su condición estática\, no pueden desarrollar una lógica narrativa sustentada en el tiempo si no es manifestando esta contradicción.  Atento a estas cuestiones\, Curro González siente la necesidad en el año 2006\, de incorporar el tiempo en su proceso narrativo y comienza a hacer animaciones para liberar a la pintura de esa tarea. Con ello en sus obras logra mantener una tensión narrativa que descansa en la ironía y en un sentido del humor basado en la paradoja\, de manera que casi nada de lo que vemos en ellas resulta ser lo que parece. \nConfesaba Matisse su desinterés por el ajedrez argumentando que se sentía “incapaz de jugar con signos que nunca cambian”; esa versatilidad del signo es así reconocida positivamente como gestora de nuevos significados. Precisamente son esos significados cambiantes los que aportan a la pintura y al dibujo la capacidad de abrirnos la imaginación a una narración que necesariamente se mantiene en una metamorfosis constante. \nSe presenta en la exposición Her Melancholy Tune un trabajo realizado en 2023\, con una técnica que se aproxima al teatro de sombras y que sigue el guion de la canción homónima\, una de las últimas producciones de Dan Kaplan con su grupo Krooked Tree.  Se acompañará la proyección con parte del material utilizado en la animación\, y se exhiben también otras dos animaciones realizadas con dibujos en los años 2008 y 2013.
URL:https://cicus.us.es/evento/currogonzalez_kaplan05/
LOCATION:CICUS – Sala MDD\, c/Madre de Dios 1-3\, Sevilla\, España
ATTACH;FMTTYPE=image/jpeg:https://cicus.us.es/wp-content/uploads/2024/05/evento1387.jpg
END:VEVENT
BEGIN:VEVENT
DTSTART;TZID=Europe/Madrid:20240710T223000
DTEND;TZID=Europe/Madrid:20240710T223000
DTSTAMP:20260422T210700
CREATED:20240528T222617Z
LAST-MODIFIED:20240701T091805Z
UID:72674-1720650600-1720650600@cicus.us.es
SUMMARY:CINE 21 GRADOS · MEMORIAS DE MERYL · MEMORIAS DE ÁFRICA
DESCRIPTION:PROGRAMA 21 GRADOS 2024 | MEMORIAS DE MERYL  \nFecha: 10 de julio de 2024\nHora: 22:30 h.\nLugar: Patio · CICUS (C/ Madre de Dios\, 1) \n· ADQUIRIR INVITACIONES  \n* Habrá invitaciones de última hora disponibles en la taquilla una vez haya accedido a la sala el público con entrada\, aproximadamente diez minutos antes de la proyección\, aunque estén agotadas online. \nMEMORIAS DE ÁFRICA\n(Sidney Pollack\, EE.UU.\, 1985\, 154 min\, V.O.S.E.) \nMeryl Streep y Robert Redford protagonizan uno de los romances más recordados de Hollywood en esta gran obra de Sidney Pollack\, que obtuvo 7 Premios Óscar\, incluyendo los de Mejor Película y Mejor Director. Un exquisito e inteligente drama romántico inspirado libremente en la obra homónima de la escritora danesa Isak Dinesen. \nA principios del siglo XX\, Karen contrae un matrimonio de conveniencia con el barón Blixen\, un mujeriego empedernido. Ambos se establecen en Kenia con el propósito de explotar una plantación de café. En Karen Blixen nace un apasionado amor por la tierra y por las gentes de Kenia. Pero también se enamora pérdidamente de Denys Finch-Hatton\, un personaje aventurero y romántico a la antigua usanza\, que ama la libertad por encima de todas las cosas.
URL:https://cicus.us.es/evento/memoriasdeafrica/
LOCATION:Cicus – Patio\, c/Madre de Dios 1-3\, Sevilla\, España
ATTACH;FMTTYPE=image/jpeg:https://cicus.us.es/wp-content/uploads/2024/05/evento1384.jpg
END:VEVENT
END:VCALENDAR