BEGIN:VCALENDAR
VERSION:2.0
PRODID:-//CICUS · Centro de Iniciativas Culturales de la Universidad de Sevilla - ECPv6.15.20//NONSGML v1.0//EN
CALSCALE:GREGORIAN
METHOD:PUBLISH
X-WR-CALNAME:CICUS · Centro de Iniciativas Culturales de la Universidad de Sevilla
X-ORIGINAL-URL:https://cicus.us.es
X-WR-CALDESC:Eventos para CICUS · Centro de Iniciativas Culturales de la Universidad de Sevilla
REFRESH-INTERVAL;VALUE=DURATION:PT1H
X-Robots-Tag:noindex
X-PUBLISHED-TTL:PT1H
BEGIN:VTIMEZONE
TZID:Europe/Madrid
BEGIN:DAYLIGHT
TZOFFSETFROM:+0100
TZOFFSETTO:+0200
TZNAME:CEST
DTSTART:20230326T010000
END:DAYLIGHT
BEGIN:STANDARD
TZOFFSETFROM:+0200
TZOFFSETTO:+0100
TZNAME:CET
DTSTART:20231029T010000
END:STANDARD
BEGIN:DAYLIGHT
TZOFFSETFROM:+0100
TZOFFSETTO:+0200
TZNAME:CEST
DTSTART:20240331T010000
END:DAYLIGHT
BEGIN:STANDARD
TZOFFSETFROM:+0200
TZOFFSETTO:+0100
TZNAME:CET
DTSTART:20241027T010000
END:STANDARD
BEGIN:DAYLIGHT
TZOFFSETFROM:+0100
TZOFFSETTO:+0200
TZNAME:CEST
DTSTART:20250330T010000
END:DAYLIGHT
BEGIN:STANDARD
TZOFFSETFROM:+0200
TZOFFSETTO:+0100
TZNAME:CET
DTSTART:20251026T010000
END:STANDARD
END:VTIMEZONE
BEGIN:VEVENT
DTSTART;TZID=Europe/Madrid:20240701T110000
DTEND;TZID=Europe/Madrid:20240705T110000
DTSTAMP:20260420T053118
CREATED:20240529T211013Z
LAST-MODIFIED:20240627T085543Z
UID:72696-1719831600-1720177200@cicus.us.es
SUMMARY:EXPOSICIÓN · CURRO GONZÁLEZ · EN UN MODO MELANCÓLICO: LAS ANIMACIONES CON DAN KAPLAN
DESCRIPTION:PROGRAMA 21 GRADOS 2024 \nFecha: 12 de junio – 11 de julio de 2024\nInauguración: 12 de junio\, a las 19:30 h.\nHorario: de lunes a viernes\, de 10 a 13:45 y de 18 a 20:45 h.\nLugar: Sala MDD · CICUS (C/ Madre de Dios\, 1) \n· ADQUIRIR INVITACIÓN \nCon motivo de la clausura de esta exposición\, el jueves 11 de julio\, a las 20:30 h\, se celebrará un concierto de Dan Kaplan y el grupo Krooked Tree [+ info]  \n«GRABA EN TU ESPÍRITU que la poesía es solo una. Lo contrario a la poesía es la especialización profesional. Antes de comenzar a rodar una película\, escribe un poema\, pinta un cuadro\, haz un collage\, escribe un relato\, un ensayo\, etc. Porque solo alimentando la universalidad de los medios de expresión tendrás garantía de realizar una buena película». (Jan Svankmajer) \nDesde sus comienzos en los años ochenta\, Curro González (Sevilla\, 1960) se ha ocupado de mostrar en sus pinturas y dibujos diferentes modos de abordar la narración de historias a través de imágenes. Pero ¿puede una pintura\, un dibujo\, contarnos una historia? Un dibujo o una pintura\, debido a su condición estática\, no pueden desarrollar una lógica narrativa sustentada en el tiempo si no es manifestando esta contradicción.  Atento a estas cuestiones\, Curro González siente la necesidad en el año 2006\, de incorporar el tiempo en su proceso narrativo y comienza a hacer animaciones para liberar a la pintura de esa tarea. Con ello en sus obras logra mantener una tensión narrativa que descansa en la ironía y en un sentido del humor basado en la paradoja\, de manera que casi nada de lo que vemos en ellas resulta ser lo que parece. \nConfesaba Matisse su desinterés por el ajedrez argumentando que se sentía “incapaz de jugar con signos que nunca cambian”; esa versatilidad del signo es así reconocida positivamente como gestora de nuevos significados. Precisamente son esos significados cambiantes los que aportan a la pintura y al dibujo la capacidad de abrirnos la imaginación a una narración que necesariamente se mantiene en una metamorfosis constante. \nSe presenta en la exposición Her Melancholy Tune un trabajo realizado en 2023\, con una técnica que se aproxima al teatro de sombras y que sigue el guion de la canción homónima\, una de las últimas producciones de Dan Kaplan con su grupo Krooked Tree.  Se acompañará la proyección con parte del material utilizado en la animación\, y se exhiben también otras dos animaciones realizadas con dibujos en los años 2008 y 2013.
URL:https://cicus.us.es/evento/currogonzalez_kaplan_04/
LOCATION:CICUS · Sala MDD\, c/Madre de Dios 1-3\, Sevilla\, España
ATTACH;FMTTYPE=image/jpeg:https://cicus.us.es/wp-content/uploads/2024/05/evento1387.jpg
END:VEVENT
BEGIN:VEVENT
DTSTART;TZID=Europe/Madrid:20240704T223000
DTEND;TZID=Europe/Madrid:20240704T223000
DTSTAMP:20260420T053118
CREATED:20240527T224850Z
LAST-MODIFIED:20240622T121322Z
UID:72631-1720132200-1720132200@cicus.us.es
SUMMARY:CINE 21 GRADOS 2024 · SONIDOS EN BLANCO Y NEGRO · CINETONES presenta…
DESCRIPTION:PROGRAMA 21 GRADOS 2024 | SONIDOS EN BLANCO Y NEGRO \nFecha: 4 de julio de 2024\nHora: 22:30 h.\nLugar: Patio · CICUS (C/ Madre de Dios\, 1) \n· ADQUIRIR INVITACIONES  \n* Habrá invitaciones de última hora disponibles en la taquilla una vez haya accedido a la sala el público con entrada\, aproximadamente diez minutos antes de la proyección\, aunque estén agotadas online. \nCinetones presenta…\nESPECIAL CHARLOT \nCHARLOT EN EL TEATRO · A Night in the Show\n(Charles Chaplin\, EE.UU.\, 1915\, 25 min) \nEl Señor Prest (Charles Chaplin) acude al teatro para ver una sesión de variedades. En el transcurso del espectáculo se sucederán una seria de situaciones disparatadas en las que se verá envuelto. \nComedia y crítica social se mezclan en esta cinta en la que Chaplin interpreta a dos personajes de diferente clase social. \nLA CASA DE EMPEÑO · The Pawn Shop\n(Charles Chaplin\, EE.UU.\, 1916\, 32 min) \nCharlot interpreta a un asistente de una casa de empeño\, empleo nada fácil\, pues a parte de lidiar con los diversos clientes tendrá que gestionar la caótica relación con su compañero de trabajo y su jefe. The pawn shop es la primera cinta en la que Chaplin hace alarde de sus cualidades coreográficas como artista. \nLA CARRERA DE LOS GUARDAS · La course des sergents de ville\n(Ferdinand Zecca\, Francia\, 1907\, 6 min) \nUn policía ve a un perro robando un trozo de carne en una carnicería y lo persigue. Pronto varios policías más se unen a la persecución pero esta no resulta como esperaban. \n  \n\nSobre Cinetones.\nEl grupo Cinetones nace en Jerez de la Frontera (Cádiz) en el verano del 2011\, aunque con una trayectoria más extensa en proyectos de cine y música anteriores desde el 2009. Cinetones es un grupo de músicos apasionados por el cine\, que se encarga de crear bandas sonoras a obras cinematográficas mudas. \nImprovisaciones en directo y composiciones originales se unen para acompañar las emociones de la trama cinematográfica. Su música serpentea entre varios estilos que van desde el jazz manouche\, la música clásica\, la música tradicional europea y distintas vertientes del rock abarcando su perspectiva más sinfónica y pinceladas de estilo metal. \nCinetones son\nElena Jiménez Parra: Clarinete\, acordeón\, piano.\nJuan Manuel Román Galán: Bajo eléctrico.\nManuel Miguel Méijome Tejero: Banjo de 5 cuerdas\, Bass Vi.
URL:https://cicus.us.es/evento/sonidosenblancoynegro2024_02/
LOCATION:Cicus – Patio\, c/Madre de Dios 1-3\, Sevilla\, España
ATTACH;FMTTYPE=image/jpeg:https://cicus.us.es/wp-content/uploads/2024/05/evento1379.jpg
END:VEVENT
END:VCALENDAR