BEGIN:VCALENDAR
VERSION:2.0
PRODID:-//CICUS · Centro de Iniciativas Culturales de la Universidad de Sevilla - ECPv6.15.20//NONSGML v1.0//EN
CALSCALE:GREGORIAN
METHOD:PUBLISH
X-WR-CALNAME:CICUS · Centro de Iniciativas Culturales de la Universidad de Sevilla
X-ORIGINAL-URL:https://cicus.us.es
X-WR-CALDESC:Eventos para CICUS · Centro de Iniciativas Culturales de la Universidad de Sevilla
REFRESH-INTERVAL;VALUE=DURATION:PT1H
X-Robots-Tag:noindex
X-PUBLISHED-TTL:PT1H
BEGIN:VTIMEZONE
TZID:Europe/Madrid
BEGIN:DAYLIGHT
TZOFFSETFROM:+0100
TZOFFSETTO:+0200
TZNAME:CEST
DTSTART:20230326T010000
END:DAYLIGHT
BEGIN:STANDARD
TZOFFSETFROM:+0200
TZOFFSETTO:+0100
TZNAME:CET
DTSTART:20231029T010000
END:STANDARD
BEGIN:DAYLIGHT
TZOFFSETFROM:+0100
TZOFFSETTO:+0200
TZNAME:CEST
DTSTART:20240331T010000
END:DAYLIGHT
BEGIN:STANDARD
TZOFFSETFROM:+0200
TZOFFSETTO:+0100
TZNAME:CET
DTSTART:20241027T010000
END:STANDARD
BEGIN:DAYLIGHT
TZOFFSETFROM:+0100
TZOFFSETTO:+0200
TZNAME:CEST
DTSTART:20250330T010000
END:DAYLIGHT
BEGIN:STANDARD
TZOFFSETFROM:+0200
TZOFFSETTO:+0100
TZNAME:CET
DTSTART:20251026T010000
END:STANDARD
END:VTIMEZONE
BEGIN:VEVENT
DTSTART;TZID=Europe/Madrid:20240624T110000
DTEND;TZID=Europe/Madrid:20240628T110000
DTSTAMP:20260422T042254
CREATED:20240319T211635Z
LAST-MODIFIED:20240617T084928Z
UID:70715-1719226800-1719572400@cicus.us.es
SUMMARY:EXPOSICIÓN · “S” PORNO. NO ROMPER. DIBUJOS DE MANUEL ECHEGOYÁN
DESCRIPTION:Fecha: 4 de abril – 30 de junio de 2024\nInauguración: jueves 4 de abril\, 19 h.\nHorario: Lunes a viernes\, de 11 a 20 h. La exposición también podrá visitarse\, en horario de apertura del centro\, los fines de semana que haya actividades del ciclo CICUS en abierto\nHorario a partir del lunes 17 de julio: de lunes a viernes\, de 10 a 13:45 y de 18 a 20:45 h.\nLugar: Sala Casajús  · CICUS (C/ Madre de Dios\, 1) \n· ADQUIRIR INVITACIÓN \nHay exposiciones que tardan en concretarse y ésta en eso\, como en otras cosas\, es paradigmática. Cuando hace ya varios años iniciamos los contactos con la familia Echegoyán\, en las conversaciones inmediatamente surgió la posibilidad de mostrar el trabajo de su abuelo. Se nos avisó que gran parte de su obra todavía permanecía en su poder y que estaba a nuestra disposición para ello. Se nos habló también de una carpeta prohibida y\, claro\, la curiosidad nos invadió. Inmediatamente planteamos una visita y ya cuando esta acababa y\, como quien no quiere la cosa\, les hablamos de la posibilidad de revisar esa carpeta misteriosa. \nLa sorpresa fue el inicio de la muestra que ahora se plantea. “S” Porno\, no romper se titulaba ese sobre en el que se habían conservado una serie de dibujos de carácter y consumo privado. La sensación de lo prohibido es lo que tiene. Uno siempre quiere descubrir el velo. El rótulo nos pareció tan sugerente que lo hemos querido conservar como título de la muestra. \nA lo privado de los dibujos se le añade el carácter de prohibición que debieron tener mientras los hacía y por ello el artista\, Manuel Echegoyán\, quería que se protegieran\, que no se rompieran\, porque en algún momento llegaría aquel día en que su secreto perdiese ese temor a la incomprensión. \nLo duro de este trabajo es reconocer como tras la derrota del bando republicano el artista tuvo que adecuarse a una sociedad en exceso conservadora con unas ideas que no compartía. Salirse de las fórmulas establecidas era complicado y peligroso por ello esta reserva y a la vez ese deseo de conservación. La vida es una contradicción permanente y de alguna forma Echegoyán consigue el reconocimiento de una sociedad en la que él mismo no se reconoce. \n“S” Porno no romper puede ser vista en nuestros días con unos ojos diferentes a los del momento en que fueron hechos sus dibujos. El sexo se ha desproblematizado en gran medida y algunos de sus dibujos podrían ser hasta ingenuos en estos momentos\, pero no hay que olvidar que homosexualidad\, lesbianismo y disfrute sexual no han sido siempre tan normales como en nuestros momentos. Por ello estos dibujos\, a los que hemos querido incorporar los realizados durante la guerra\, se pueden considerar como una reivindicación de un pensamiento más libre y menos oscuro y que\, en alguna forma\, completan la visión de un artista al que ahora se añaden nuevos registros más cercanos a sus pensamientos liberales que a los que tradicionalmente se le han puesto en valor.
URL:https://cicus.us.es/evento/manuelechegoyan16/
LOCATION:CICUS · Sala Casajús\, c/Madre de Dios 1\, Sevilla\, 41004\, España
ATTACH;FMTTYPE=image/jpeg:https://cicus.us.es/wp-content/uploads/2024/03/evento1284.jpg
END:VEVENT
BEGIN:VEVENT
DTSTART;TZID=Europe/Madrid:20240624T110000
DTEND;TZID=Europe/Madrid:20240628T110000
DTSTAMP:20260422T042254
CREATED:20240529T210908Z
LAST-MODIFIED:20240627T085546Z
UID:72695-1719226800-1719572400@cicus.us.es
SUMMARY:EXPOSICIÓN · CURRO GONZÁLEZ · EN UN MODO MELANCÓLICO: LAS ANIMACIONES CON DAN KAPLAN
DESCRIPTION:PROGRAMA 21 GRADOS 2024 \nFecha: 12 de junio – 11 de julio de 2024\nInauguración: 12 de junio\, a las 19:30 h.\nHorario: de lunes a viernes\, de 10 a 13:45 y de 18 a 20:45 h.\nLugar: Sala MDD · CICUS (C/ Madre de Dios\, 1) \n· ADQUIRIR INVITACIÓN \nCon motivo de la clausura de esta exposición\, el jueves 11 de julio\, a las 20:30 h\, se celebrará un concierto de Dan Kaplan y el grupo Krooked Tree [+ info]  \n«GRABA EN TU ESPÍRITU que la poesía es solo una. Lo contrario a la poesía es la especialización profesional. Antes de comenzar a rodar una película\, escribe un poema\, pinta un cuadro\, haz un collage\, escribe un relato\, un ensayo\, etc. Porque solo alimentando la universalidad de los medios de expresión tendrás garantía de realizar una buena película». (Jan Svankmajer) \nDesde sus comienzos en los años ochenta\, Curro González (Sevilla\, 1960) se ha ocupado de mostrar en sus pinturas y dibujos diferentes modos de abordar la narración de historias a través de imágenes. Pero ¿puede una pintura\, un dibujo\, contarnos una historia? Un dibujo o una pintura\, debido a su condición estática\, no pueden desarrollar una lógica narrativa sustentada en el tiempo si no es manifestando esta contradicción.  Atento a estas cuestiones\, Curro González siente la necesidad en el año 2006\, de incorporar el tiempo en su proceso narrativo y comienza a hacer animaciones para liberar a la pintura de esa tarea. Con ello en sus obras logra mantener una tensión narrativa que descansa en la ironía y en un sentido del humor basado en la paradoja\, de manera que casi nada de lo que vemos en ellas resulta ser lo que parece. \nConfesaba Matisse su desinterés por el ajedrez argumentando que se sentía “incapaz de jugar con signos que nunca cambian”; esa versatilidad del signo es así reconocida positivamente como gestora de nuevos significados. Precisamente son esos significados cambiantes los que aportan a la pintura y al dibujo la capacidad de abrirnos la imaginación a una narración que necesariamente se mantiene en una metamorfosis constante. \nSe presenta en la exposición Her Melancholy Tune un trabajo realizado en 2023\, con una técnica que se aproxima al teatro de sombras y que sigue el guion de la canción homónima\, una de las últimas producciones de Dan Kaplan con su grupo Krooked Tree.  Se acompañará la proyección con parte del material utilizado en la animación\, y se exhiben también otras dos animaciones realizadas con dibujos en los años 2008 y 2013.
URL:https://cicus.us.es/evento/currogonzalez_kaplan_03/
LOCATION:CICUS – Sala MDD\, c/Madre de Dios 1-3\, Sevilla\, España
ATTACH;FMTTYPE=image/jpeg:https://cicus.us.es/wp-content/uploads/2024/05/evento1387.jpg
END:VEVENT
BEGIN:VEVENT
DTSTART;TZID=Europe/Madrid:20240626T223000
DTEND;TZID=Europe/Madrid:20240626T223000
DTSTAMP:20260422T042254
CREATED:20240524T221216Z
LAST-MODIFIED:20240615T193406Z
UID:72552-1719441000-1719441000@cicus.us.es
SUMMARY:ESTRÉNATE · Cía. RESIDENTE DEL CENTRO COREOGRÁFICO DE LA GOMERA: "LO QUE PERCIBES" | JAVIER AROZENA CIA: "SCHWANENGESANG"
DESCRIPTION:PROGRAMA 21 GRADOS 2024 | CICLO ESTRÉNATE 2024 \nFecha: miércoles 26 de junio\, 2024\nHora: 22:30 h.\nLugar: Patio · CICUS (C/ Madre de Dios\, 1) \nADQUIRIR ENTRADAS: 5 € \nCía. RESIDENTE DEL CENTRO COREOGRÁFICO DE LA GOMERA y «SCHWANENGESANG» de JAVIER AROZENA CIA: «LO QUE PERCIBES» \nEn colaboración con Isabela Rossi y Miguel González \nSINOPSIS \nMirar. \nMirar con disimulo o con cautela de no ser \ndescubierto. Mirar con atención. \nMirar. \nMirar. Sin disimular\, sin recato\, sin prisa\, sin \nmiedo a ser descubierto. Observar. \nMirar\, observar con atención. \nMirar\, observar con curiosidad. \nMirar\, observar en y con todos los sentidos. \nMirar. \nObservar. \nMirar\, observar a y con todo el cuerpo\, \npercibir. Captar por uno de los sentidos las \nimágenes\, impresiones o sensaciones \nexternas\, percibir. \nMirar\, observar\, percibir. \nPercibir. \nPercibir. \nEQUIPO ARTÍSTICO\nCreación y dirección: Isabela Rossi y Miguel González\nCreación y acción: Gregory Auger y Martin Padrón\nDiseño de Iluminación: Inés de la Iglesia\nCompositora: Alva Vilarinyo\nFotografía: Juan Carlos Arévalo\nDistribución: peso producciones \nDuración:  13 min. \nWeb de la compañía: https://centrocoreograficoislagomera.com \n\nTRAILER \n \n  \n\nJAVIER AROZENA CIA: «SCHWANENGESANG» \nSINOPSIS \nEvocar el canto sublime hacia la trascendencia. \nLa sutil vibración del músculo como tránsito entre estados. \nLo ritual que transita a lo esotérico que transita a lo sagrado. \nHabitar territorios del imaginario personal\, paisajes entregados ofreciendo la libertad de mirarlos a través de un cuerpo danzante. \nEl observador\, como testigo de la reverberación corpórea\, de lo inexplicable. \nComo viajero por la geografía del subconsciente simbólico para llegar al lugar que es\, al lugar que desea que sea… \nFICHA ARTÍSTICA\nConcepto y dirección: Gino Senesi & Javier Arozena\nInterpretación y coreografía: Javier Arozena\nDiseño de iluminación: Horne Horneman \nDuración: 16 min. \nWeb de la compañía: https://www.javierarozenacia.com/ \n  \n\nTRAILER \n \n 
URL:https://cicus.us.es/evento/estrenate2024_10/
LOCATION:Cicus – Patio\, c/Madre de Dios 1-3\, Sevilla\, España
ATTACH;FMTTYPE=image/jpeg:https://cicus.us.es/wp-content/uploads/2024/05/evento1370.jpg
END:VEVENT
END:VCALENDAR