BEGIN:VCALENDAR
VERSION:2.0
PRODID:-//CICUS · Centro de Iniciativas Culturales de la Universidad de Sevilla - ECPv6.15.20//NONSGML v1.0//EN
CALSCALE:GREGORIAN
METHOD:PUBLISH
X-ORIGINAL-URL:https://cicus.us.es
X-WR-CALDESC:Eventos para CICUS · Centro de Iniciativas Culturales de la Universidad de Sevilla
REFRESH-INTERVAL;VALUE=DURATION:PT1H
X-Robots-Tag:noindex
X-PUBLISHED-TTL:PT1H
BEGIN:VTIMEZONE
TZID:Europe/Madrid
BEGIN:DAYLIGHT
TZOFFSETFROM:+0100
TZOFFSETTO:+0200
TZNAME:CEST
DTSTART:20230326T010000
END:DAYLIGHT
BEGIN:STANDARD
TZOFFSETFROM:+0200
TZOFFSETTO:+0100
TZNAME:CET
DTSTART:20231029T010000
END:STANDARD
BEGIN:DAYLIGHT
TZOFFSETFROM:+0100
TZOFFSETTO:+0200
TZNAME:CEST
DTSTART:20240331T010000
END:DAYLIGHT
BEGIN:STANDARD
TZOFFSETFROM:+0200
TZOFFSETTO:+0100
TZNAME:CET
DTSTART:20241027T010000
END:STANDARD
BEGIN:DAYLIGHT
TZOFFSETFROM:+0100
TZOFFSETTO:+0200
TZNAME:CEST
DTSTART:20250330T010000
END:DAYLIGHT
BEGIN:STANDARD
TZOFFSETFROM:+0200
TZOFFSETTO:+0100
TZNAME:CET
DTSTART:20251026T010000
END:STANDARD
END:VTIMEZONE
BEGIN:VEVENT
DTSTART;TZID=Europe/Madrid:20240610T110000
DTEND;TZID=Europe/Madrid:20240614T110000
DTSTAMP:20260421T042543
CREATED:20240319T211529Z
LAST-MODIFIED:20240319T211938Z
UID:70713-1718017200-1718362800@cicus.us.es
SUMMARY:EXPOSICIÓN · “S” PORNO. NO ROMPER. DIBUJOS DE MANUEL ECHEGOYÁN
DESCRIPTION:Fecha: 4 de abril – 30 de junio de 2024\nInauguración: jueves 4 de abril\, 19 h.\nHorario: Lunes a viernes\, de 11 a 20 h. La exposición también podrá visitarse\, en horario de apertura del centro\, los fines de semana que haya actividades del ciclo CICUS en abierto\nHorario especial de Feria: 15\, 16\, 18 y 19 de abril\, de 11 a 13:45 h.\nLugar: Sala Casajús  · CICUS (C/ Madre de Dios\, 1) \n· ADQUIRIR INVITACIÓN \nHay exposiciones que tardan en concretarse y ésta en eso\, como en otras cosas\, es paradigmática. Cuando hace ya varios años iniciamos los contactos con la familia Echegoyán\, en las conversaciones inmediatamente surgió la posibilidad de mostrar el trabajo de su abuelo. Se nos avisó que gran parte de su obra todavía permanecía en su poder y que estaba a nuestra disposición para ello. Se nos habló también de una carpeta prohibida y\, claro\, la curiosidad nos invadió. Inmediatamente planteamos una visita y ya cuando esta acababa y\, como quien no quiere la cosa\, les hablamos de la posibilidad de revisar esa carpeta misteriosa. \nLa sorpresa fue el inicio de la muestra que ahora se plantea. “S” Porno\, no romper se titulaba ese sobre en el que se habían conservado una serie de dibujos de carácter y consumo privado. La sensación de lo prohibido es lo que tiene. Uno siempre quiere descubrir el velo. El rótulo nos pareció tan sugerente que lo hemos querido conservar como título de la muestra. \nA lo privado de los dibujos se le añade el carácter de prohibición que debieron tener mientras los hacía y por ello el artista\, Manuel Echegoyán\, quería que se protegieran\, que no se rompieran\, porque en algún momento llegaría aquel día en que su secreto perdiese ese temor a la incomprensión. \nLo duro de este trabajo es reconocer como tras la derrota del bando republicano el artista tuvo que adecuarse a una sociedad en exceso conservadora con unas ideas que no compartía. Salirse de las fórmulas establecidas era complicado y peligroso por ello esta reserva y a la vez ese deseo de conservación. La vida es una contradicción permanente y de alguna forma Echegoyán consigue el reconocimiento de una sociedad en la que él mismo no se reconoce. \n“S” Porno no romper puede ser vista en nuestros días con unos ojos diferentes a los del momento en que fueron hechos sus dibujos. El sexo se ha desproblematizado en gran medida y algunos de sus dibujos podrían ser hasta ingenuos en estos momentos\, pero no hay que olvidar que homosexualidad\, lesbianismo y disfrute sexual no han sido siempre tan normales como en nuestros momentos. Por ello estos dibujos\, a los que hemos querido incorporar los realizados durante la guerra\, se pueden considerar como una reivindicación de un pensamiento más libre y menos oscuro y que\, en alguna forma\, completan la visión de un artista al que ahora se añaden nuevos registros más cercanos a sus pensamientos liberales que a los que tradicionalmente se le han puesto en valor.
URL:https://cicus.us.es/evento/manuelechegoyan14/
LOCATION:CICUS · Sala Casajús\, c/Madre de Dios 1\, Sevilla\, 41004\, España
ATTACH;FMTTYPE=image/jpeg:https://cicus.us.es/wp-content/uploads/2024/03/evento1284.jpg
END:VEVENT
BEGIN:VEVENT
DTSTART;TZID=Europe/Madrid:20240612T170000
DTEND;TZID=Europe/Madrid:20240614T170000
DTSTAMP:20260421T042543
CREATED:20240430T224419Z
LAST-MODIFIED:20240516T111120Z
UID:71800-1718211600-1718384400@cicus.us.es
SUMMARY:TRÁILERS PARA DANZA
DESCRIPTION:Fecha: 12\, 13 y 14 de junio de 2024\nHorario:  de 17 a 20 h.\nHoras: 9\nNº de plazas: 15\nLugar: CICUS (c/ Madre de Dios\, 1\, Sevilla)\nFormadores: Johann Pérez Viera\nMatrícula: 50€ público general; 25 € para Estudiantes/PDI/PAS Universidad de Sevilla\, socios de la PAD y alumnos de Conservatorio Profesional o Superior de Danza (previa acreditación)\nPlazo de inscripción: del 07/05/2024 al 07/06/2024\, o hasta la adjudicación de todas las plazas disponibles.\nCertificados y Créditos: Está prevista la expedición de certificados de asistencia y participación a los alumnos que asistan al menos al 80% de las horas del curso. Solicitado reconocimiento de créditos de libre disposición / libre configuración para planes antiguos a la Comisión de Reconocimiento Académico de la Universidad de Sevilla. \nINSCRIPCIÓN \nObjetivo y contenidos  \nEl tráiler de una pieza de danza es el equivalente audiovisual de una sinopsis y debe contener en pocos minutos la información necesaria para transmitir las ideas más importantes que encierra una obra escénica.  \nEste curso tiene como objetivo principal dotar de herramientas esenciales de narrativa y realización de video orientadas a la elaboración de tráileres de piezas de danza. Nos enfocaremos no sólo en crear un tráiler que resuma y “venda” una pieza\, sino que además aplicaremos los conceptos básicos de lenguaje cinematográfico y composición audiovisual para que ésta sea una pieza audiovisual en sí misma. En pocas palabras\, una videodanza\, o un dance film que a la vez es el tráiler de nuestra obra escénica.  \nEste curso va dirigido tanto a realizadorxs profesionales de vídeo interesadxs en incursionar en el campo de las artes escénicas\, como si eres bailarinx y/o coreógrafx interesadx en entender en qué consiste el proceso de realización audiovisual de una pieza de danza.   \nPrograma   \n– Inspiración\, inspiración y más inspiración. Para empezar\, haremos un recorrido por múltiples tráileres de piezas de danza\, películas\, y obras de teatro de diferentes directores y realizadores para hacernos de un marco referencial. \n– De la inspiración al hecho. Entraremos en materia haciendo un recorrido por los tráileres de danza hechos por el docente.  \n-¿Cómo no quedarse corto de material? Planificación y preproducción. Estudiaremos el proceso de preproducción de un tráiler. ¿Cómo acoplarse al calendario de una producción de danza? \n– Cámaras\, ordenadores y programas. Un repaso por los aspectos más técnicos para este tipo de producciones.  \n– Planificación e improvisación o cómo sacar provecho del espacio\, iluminación y cuerpo de un espectáculo. Diseccionaremos el material bruto de 3 tráileres hechos por el docente para entender una manera de asumir el proceso creativo de una grabación. \n– Spoilear o no spoilear\, he ahí el dilema. ¿Cómo asumir el proceso creativo que hay detrás del montaje y la edición de un tráiler?  \n– Música y diseño sonoro. Practicaremos cómo utilizar los elementos de audio originales de la pieza y cómo enriquecer el diseño sonoro de un tráiler con efectos y foleys.   \n– Poner todo esto en práctica a través de la reedición de alguno de los tráileres realizados por el docente\, o bien con materiales traídos por lxs participantes del curso\, si los hay.  \nRequisitos de los participantes \nNinguno de los siguientes materiales es imprescindible\, pero son recomendables: \n– Cámaras de vídeo o híbridas. \n– Ordenador portátil con programas como Premiere\, Final cut Pro o Davinci Resolve.   \n– Material bruto grabado por lxs participantes de alguna pieza\, workshop\, o práctica. \nEntendiendo que no todos los asistentes al curso tendrán equipamientos propios o materiales de vídeo con los que trabajar\, este curso es esencialmente teórico. Sin embargo\, sería ideal y aconsejable contar con material grabado de cualquier proyecto\, práctica\, workshop o improvisación para jugar con el material y editar un tráiler in situ de máximo un minuto.  \nFormadores  \nJohann Pérez Viera. Es bailarín y realizador audiovisual de origen venezolano afincado en Barcelona con más de 10 años de experiencia trabajando entre la danza\, la coreografía y el vídeo. Ha trabajado en la realización del material audiovisual de diferentes coreógrafxs y bailarnxs como Guillem Giménez\, Colectivo Hotel Escénico\, Richard Mascherin\, Natalia Giménez\, Iris Heitziger\, Si los Martes Fueran Viernes\, Cía Vero Cendoya\, Lali Aiguadé\, David Zambramo\, Cía. LaCerda\, Aina Lanas\, Javier Guerrero\, entre otros\, con piezas presentadas en El mercat de les Flors\, Teatros del Canal\, Festival Grec\, y Quinzena Metropolitana de la Dansa de Barcelona. También ha trabajado en la escena musical y flamenca de Barcelona en Festivales como el Mas i Mas Festival\, Club Jamboree y el tablao Los Tarantos.     \n  \n  \n\nActividad organizada en colaboración con la Asociación Andaluza de Cías. y Profesionales de Danza – PAD \n \n 
URL:https://cicus.us.es/evento/trailersparadanza/
ATTACH;FMTTYPE=image/jpeg:https://cicus.us.es/wp-content/uploads/2024/04/evento1342.jpg
END:VEVENT
BEGIN:VEVENT
DTSTART;TZID=Europe/Madrid:20240613T110000
DTEND;TZID=Europe/Madrid:20240614T110000
DTSTAMP:20260421T042543
CREATED:20240529T210728Z
LAST-MODIFIED:20240612T160101Z
UID:72698-1718276400-1718362800@cicus.us.es
SUMMARY:EXPOSICIÓN · CURRO GONZÁLEZ · EN UN MODO MELANCÓLICO: LAS ANIMACIONES CON DAN KAPLAN
DESCRIPTION:PROGRAMA 21 GRADOS 2024 \nFecha: 12 de junio – 11 de julio de 2024\nInauguración: 12 de junio\, a las 19:30 h.\nHorario: de lunes a viernes\, de 10 a 13:45 y de 18 a 20:45 h.\nLugar: Sala MDD · CICUS (C/ Madre de Dios\, 1) \n· ADQUIRIR INVITACIÓN \n«GRABA EN TU ESPÍRITU que la poesía es solo una. Lo contrario a la poesía es la especialización profesional. Antes de comenzar a rodar una película\, escribe un poema\, pinta un cuadro\, haz un collage\, escribe un relato\, un ensayo\, etc. Porque solo alimentando la universalidad de los medios de expresión tendrás garantía de realizar una buena película». (Jan Svankmajer) \nDesde sus comienzos en los años ochenta\, Curro González (Sevilla\, 1960) se ha ocupado de mostrar en sus pinturas y dibujos diferentes modos de abordar la narración de historias a través de imágenes. Pero ¿puede una pintura\, un dibujo\, contarnos una historia? Un dibujo o una pintura\, debido a su condición estática\, no pueden desarrollar una lógica narrativa sustentada en el tiempo si no es manifestando esta contradicción.  Atento a estas cuestiones\, Curro González siente la necesidad en el año 2006\, de incorporar el tiempo en su proceso narrativo y comienza a hacer animaciones para liberar a la pintura de esa tarea. Con ello en sus obras logra mantener una tensión narrativa que descansa en la ironía y en un sentido del humor basado en la paradoja\, de manera que casi nada de lo que vemos en ellas resulta ser lo que parece. \nConfesaba Matisse su desinterés por el ajedrez argumentando que se sentía “incapaz de jugar con signos que nunca cambian”; esa versatilidad del signo es así reconocida positivamente como gestora de nuevos significados. Precisamente son esos significados cambiantes los que aportan a la pintura y al dibujo la capacidad de abrirnos la imaginación a una narración que necesariamente se mantiene en una metamorfosis constante. \nSe presenta en la exposición Her Melancholy Tune un trabajo realizado en 2023\, con una técnica que se aproxima al teatro de sombras y que sigue el guion de la canción homónima\, una de las últimas producciones de Dan Kaplan con su grupo Krooked Tree.  Se acompañará la proyección con parte del material utilizado en la animación\, y se exhiben también otras dos animaciones realizadas con dibujos en los años 2008 y 2013.
URL:https://cicus.us.es/evento/currogonzalez_kaplan/
LOCATION:CICUS – Sala MDD\, c/Madre de Dios 1-3\, Sevilla\, España
ATTACH;FMTTYPE=image/jpeg:https://cicus.us.es/wp-content/uploads/2024/05/evento1387.jpg
END:VEVENT
END:VCALENDAR