BEGIN:VCALENDAR
VERSION:2.0
PRODID:-//CICUS · Centro de Iniciativas Culturales de la Universidad de Sevilla - ECPv6.15.20//NONSGML v1.0//EN
CALSCALE:GREGORIAN
METHOD:PUBLISH
X-ORIGINAL-URL:https://cicus.us.es
X-WR-CALDESC:Eventos para CICUS · Centro de Iniciativas Culturales de la Universidad de Sevilla
REFRESH-INTERVAL;VALUE=DURATION:PT1H
X-Robots-Tag:noindex
X-PUBLISHED-TTL:PT1H
BEGIN:VTIMEZONE
TZID:Europe/Madrid
BEGIN:DAYLIGHT
TZOFFSETFROM:+0100
TZOFFSETTO:+0200
TZNAME:CEST
DTSTART:20230326T010000
END:DAYLIGHT
BEGIN:STANDARD
TZOFFSETFROM:+0200
TZOFFSETTO:+0100
TZNAME:CET
DTSTART:20231029T010000
END:STANDARD
BEGIN:DAYLIGHT
TZOFFSETFROM:+0100
TZOFFSETTO:+0200
TZNAME:CEST
DTSTART:20240331T010000
END:DAYLIGHT
BEGIN:STANDARD
TZOFFSETFROM:+0200
TZOFFSETTO:+0100
TZNAME:CET
DTSTART:20241027T010000
END:STANDARD
BEGIN:DAYLIGHT
TZOFFSETFROM:+0100
TZOFFSETTO:+0200
TZNAME:CEST
DTSTART:20250330T010000
END:DAYLIGHT
BEGIN:STANDARD
TZOFFSETFROM:+0200
TZOFFSETTO:+0100
TZNAME:CET
DTSTART:20251026T010000
END:STANDARD
END:VTIMEZONE
BEGIN:VEVENT
DTSTART;TZID=Europe/Madrid:20240603T110000
DTEND;TZID=Europe/Madrid:20240607T110000
DTSTAMP:20260420T223424
CREATED:20240319T211501Z
LAST-MODIFIED:20240319T211944Z
UID:70712-1717412400-1717758000@cicus.us.es
SUMMARY:EXPOSICIÓN · “S” PORNO. NO ROMPER. DIBUJOS DE MANUEL ECHEGOYÁN
DESCRIPTION:Fecha: 4 de abril – 30 de junio de 2024\nInauguración: jueves 4 de abril\, 19 h.\nHorario: Lunes a viernes\, de 11 a 20 h. La exposición también podrá visitarse\, en horario de apertura del centro\, los fines de semana que haya actividades del ciclo CICUS en abierto\nHorario especial de Feria: 15\, 16\, 18 y 19 de abril\, de 11 a 13:45 h.\nLugar: Sala Casajús  · CICUS (C/ Madre de Dios\, 1) \n· ADQUIRIR INVITACIÓN \nHay exposiciones que tardan en concretarse y ésta en eso\, como en otras cosas\, es paradigmática. Cuando hace ya varios años iniciamos los contactos con la familia Echegoyán\, en las conversaciones inmediatamente surgió la posibilidad de mostrar el trabajo de su abuelo. Se nos avisó que gran parte de su obra todavía permanecía en su poder y que estaba a nuestra disposición para ello. Se nos habló también de una carpeta prohibida y\, claro\, la curiosidad nos invadió. Inmediatamente planteamos una visita y ya cuando esta acababa y\, como quien no quiere la cosa\, les hablamos de la posibilidad de revisar esa carpeta misteriosa. \nLa sorpresa fue el inicio de la muestra que ahora se plantea. “S” Porno\, no romper se titulaba ese sobre en el que se habían conservado una serie de dibujos de carácter y consumo privado. La sensación de lo prohibido es lo que tiene. Uno siempre quiere descubrir el velo. El rótulo nos pareció tan sugerente que lo hemos querido conservar como título de la muestra. \nA lo privado de los dibujos se le añade el carácter de prohibición que debieron tener mientras los hacía y por ello el artista\, Manuel Echegoyán\, quería que se protegieran\, que no se rompieran\, porque en algún momento llegaría aquel día en que su secreto perdiese ese temor a la incomprensión. \nLo duro de este trabajo es reconocer como tras la derrota del bando republicano el artista tuvo que adecuarse a una sociedad en exceso conservadora con unas ideas que no compartía. Salirse de las fórmulas establecidas era complicado y peligroso por ello esta reserva y a la vez ese deseo de conservación. La vida es una contradicción permanente y de alguna forma Echegoyán consigue el reconocimiento de una sociedad en la que él mismo no se reconoce. \n“S” Porno no romper puede ser vista en nuestros días con unos ojos diferentes a los del momento en que fueron hechos sus dibujos. El sexo se ha desproblematizado en gran medida y algunos de sus dibujos podrían ser hasta ingenuos en estos momentos\, pero no hay que olvidar que homosexualidad\, lesbianismo y disfrute sexual no han sido siempre tan normales como en nuestros momentos. Por ello estos dibujos\, a los que hemos querido incorporar los realizados durante la guerra\, se pueden considerar como una reivindicación de un pensamiento más libre y menos oscuro y que\, en alguna forma\, completan la visión de un artista al que ahora se añaden nuevos registros más cercanos a sus pensamientos liberales que a los que tradicionalmente se le han puesto en valor.
URL:https://cicus.us.es/evento/manuelechegoyan13/
LOCATION:CICUS · Sala Casajús\, c/Madre de Dios 1\, Sevilla\, 41004\, España
ATTACH;FMTTYPE=image/jpeg:https://cicus.us.es/wp-content/uploads/2024/03/evento1284.jpg
END:VEVENT
END:VCALENDAR