BEGIN:VCALENDAR
VERSION:2.0
PRODID:-//CICUS · Centro de Iniciativas Culturales de la Universidad de Sevilla - ECPv6.15.20//NONSGML v1.0//EN
CALSCALE:GREGORIAN
METHOD:PUBLISH
X-ORIGINAL-URL:https://cicus.us.es
X-WR-CALDESC:Eventos para CICUS · Centro de Iniciativas Culturales de la Universidad de Sevilla
REFRESH-INTERVAL;VALUE=DURATION:PT1H
X-Robots-Tag:noindex
X-PUBLISHED-TTL:PT1H
BEGIN:VTIMEZONE
TZID:Europe/Madrid
BEGIN:DAYLIGHT
TZOFFSETFROM:+0100
TZOFFSETTO:+0200
TZNAME:CEST
DTSTART:20230326T010000
END:DAYLIGHT
BEGIN:STANDARD
TZOFFSETFROM:+0200
TZOFFSETTO:+0100
TZNAME:CET
DTSTART:20231029T010000
END:STANDARD
BEGIN:DAYLIGHT
TZOFFSETFROM:+0100
TZOFFSETTO:+0200
TZNAME:CEST
DTSTART:20240331T010000
END:DAYLIGHT
BEGIN:STANDARD
TZOFFSETFROM:+0200
TZOFFSETTO:+0100
TZNAME:CET
DTSTART:20241027T010000
END:STANDARD
BEGIN:DAYLIGHT
TZOFFSETFROM:+0100
TZOFFSETTO:+0200
TZNAME:CEST
DTSTART:20250330T010000
END:DAYLIGHT
BEGIN:STANDARD
TZOFFSETFROM:+0200
TZOFFSETTO:+0100
TZNAME:CET
DTSTART:20251026T010000
END:STANDARD
END:VTIMEZONE
BEGIN:VEVENT
DTSTART;TZID=Europe/Madrid:20240527T110000
DTEND;TZID=Europe/Madrid:20240531T110000
DTSTAMP:20260421T042538
CREATED:20240319T211202Z
LAST-MODIFIED:20240319T211948Z
UID:70707-1716807600-1717153200@cicus.us.es
SUMMARY:EXPOSICIÓN · “S” PORNO. NO ROMPER. DIBUJOS DE MANUEL ECHEGOYÁN
DESCRIPTION:Fecha: 4 de abril – 30 de junio de 2024\nInauguración: jueves 4 de abril\, 19 h.\nHorario: Lunes a viernes\, de 11 a 20 h. La exposición también podrá visitarse\, en horario de apertura del centro\, los fines de semana que haya actividades del ciclo CICUS en abierto\nHorario especial de Feria: 15\, 16\, 18 y 19 de abril\, de 11 a 13:45 h.\nLugar: Sala Casajús  · CICUS (C/ Madre de Dios\, 1) \n· ADQUIRIR INVITACIÓN \nHay exposiciones que tardan en concretarse y ésta en eso\, como en otras cosas\, es paradigmática. Cuando hace ya varios años iniciamos los contactos con la familia Echegoyán\, en las conversaciones inmediatamente surgió la posibilidad de mostrar el trabajo de su abuelo. Se nos avisó que gran parte de su obra todavía permanecía en su poder y que estaba a nuestra disposición para ello. Se nos habló también de una carpeta prohibida y\, claro\, la curiosidad nos invadió. Inmediatamente planteamos una visita y ya cuando esta acababa y\, como quien no quiere la cosa\, les hablamos de la posibilidad de revisar esa carpeta misteriosa. \nLa sorpresa fue el inicio de la muestra que ahora se plantea. “S” Porno\, no romper se titulaba ese sobre en el que se habían conservado una serie de dibujos de carácter y consumo privado. La sensación de lo prohibido es lo que tiene. Uno siempre quiere descubrir el velo. El rótulo nos pareció tan sugerente que lo hemos querido conservar como título de la muestra. \nA lo privado de los dibujos se le añade el carácter de prohibición que debieron tener mientras los hacía y por ello el artista\, Manuel Echegoyán\, quería que se protegieran\, que no se rompieran\, porque en algún momento llegaría aquel día en que su secreto perdiese ese temor a la incomprensión. \nLo duro de este trabajo es reconocer como tras la derrota del bando republicano el artista tuvo que adecuarse a una sociedad en exceso conservadora con unas ideas que no compartía. Salirse de las fórmulas establecidas era complicado y peligroso por ello esta reserva y a la vez ese deseo de conservación. La vida es una contradicción permanente y de alguna forma Echegoyán consigue el reconocimiento de una sociedad en la que él mismo no se reconoce. \n“S” Porno no romper puede ser vista en nuestros días con unos ojos diferentes a los del momento en que fueron hechos sus dibujos. El sexo se ha desproblematizado en gran medida y algunos de sus dibujos podrían ser hasta ingenuos en estos momentos\, pero no hay que olvidar que homosexualidad\, lesbianismo y disfrute sexual no han sido siempre tan normales como en nuestros momentos. Por ello estos dibujos\, a los que hemos querido incorporar los realizados durante la guerra\, se pueden considerar como una reivindicación de un pensamiento más libre y menos oscuro y que\, en alguna forma\, completan la visión de un artista al que ahora se añaden nuevos registros más cercanos a sus pensamientos liberales que a los que tradicionalmente se le han puesto en valor.
URL:https://cicus.us.es/evento/manuelechegoyan12/
LOCATION:CICUS · Sala Casajús\, c/Madre de Dios 1\, Sevilla\, 41004\, España
ATTACH;FMTTYPE=image/jpeg:https://cicus.us.es/wp-content/uploads/2024/03/evento1284.jpg
END:VEVENT
BEGIN:VEVENT
DTSTART;TZID=Europe/Madrid:20240527T153000
DTEND;TZID=Europe/Madrid:20240530T180000
DTSTAMP:20260421T042538
CREATED:20240423T141007Z
LAST-MODIFIED:20240423T141140Z
UID:71248-1716823800-1717092000@cicus.us.es
SUMMARY:AULA DE CINE AFRICANO (FCAT 2024) · NUEVAS VOCES\, PIONERAS INMORTALES. GENEALOGÍAS DEL AFROFEMINISMO
DESCRIPTION:IMPARTIDO POR JAVIER H. ESTRADA \nFecha: del lunes 27 de mayo al jueves 30 de mayo de 2024\nHora: de 15:30 a 18 h.\nDuración: 10 horas\nNúmero de plazas: 100\nLugar: Online\, a través de la plataforma Zoom\nMatrícula*: 20 € El pago se realizará a través de la plataforma Entradium. Se les facilitará el enlace a través de correo electrónico una vez realizada la inscripción.\n* El Aula de Cine Africano es una actividad del Festival de Cine Africano – FCAT dedicada al público hispanohablante\, es un certamen organizado por la asociación sin ánimo de lucro Al Tarab\, Centro de Divulgación Cultural del Estrecho. El precio del curso sirve para cubrir parte de los gastos de la actividad. No obstante\, los alumnos interesados en disfrutar de una beca del 100% de la matrícula\, podrán dirigir un correo electrónico a fcat@fcat.es\, con el asunto “Aula de Cine Africano”. En él deberán exponer brevemente los motivos por los que solicitan esta beca\, para que la comisión pueda valorar la posibilidad de incluirlos entre los beneficiarios.\nPlazo de inscripción*: del 24/04/2023 al 24/05/2023 (o hasta la adjudicación de todas las plazas disponibles)\n* Recuerda “Iniciar Sesión”\, y darte de alta facilitándonos un email que uses habitualmente\, ya que será nuestro medio de contacto contigo durante todo el taller.\nCertificados: Está prevista la  expedición de  certificados de  asistencia y  participación a  los alumnos que asistan al  menos al  80% de  las horas del curso.\nEn colaboración con: Festival de Cine Africano de Tarifa y Tánger \n· REALIZAR PRE-INSCRIPCIÓN \nNUEVAS VOCES\, PIONERAS INMORTALES. GENEALOGÍAS DEL AFROFEMINISMO \nLa historia de los cines africanos exige una profunda relectura desde la perspectiva contemporánea. El canon fílmico ha reducido continuamente las obras del continente a los mismos directores –hombres en su práctica totalidad-\, creadores clave cuyas películas perdurarán siempre en la memoria\, pero que no deberían nublar el resto del paisaje. Afortunadamente\, el punto de vista está mutando por la imparable presencia de jóvenes realizadoras que están agitando las diferentes cinematografías africanas\, y por eso es más preciso que nunca trazar nuevas genealogías que repasen a sus antecesoras\, aquellas pioneras que abrieron el camino teniendo todo en contra\, luchando por reafirmar sus voces y sus identidades. La nueva edición del Aula de Cine se centrará en el afrofeminismo y en películas de directoras\, basculando entre figuras fundamentales y creadoras que fueron ignoradas por el público y la crítica y que consideramos necesario reivindicar. A lo largo de cuatro clases\, se repasará la trayectoria de la eterna Safi Faye\, se emprenderá un recorrido por las directoras del Magreb\, se observará el cine de la diáspora en Europa\, y también obras olvidadas de artistas afroamericanas. Las películas analizadas son claros exponentes de audacia fílmica tanto en lo estético como en lo conceptual. Trabajos que aportaron formas y discursos insospechados\, perspectivas insólitas que hoy más que nunca debemos situar en el centro del debate cinematográfico. \nRequisitos de los participantes\nEl curso está abierto a cualquier persona interesada en el mismo. \n  \nPROGRAMA \nLunes 27 de Mayo\, 2024\n15:30 – 18:00 h. Redescubrimiento de una pionera. El cine de Safi Faye \nMartes 28 de Mayo\, 2024\n15:30 – 18:00 h. Viejos paisajes\, nuevos hogares. Directoras de la diáspora europea \nMiércoles 29 de Mayo\, 2024\n15:30 – 18:00 h. La renovación incesante. Creadoras del Magreb \nJueves 30 de Mayo\, 2024\n15:30 – 18:00 h. Huellas en otro continente. Autoras olvidadas del cine afroamericano \n  \n\nJavier H. Estrada. Es programador\, docente y crítico de cine. Jefe de programación de SEMINCI. Semana Internacional de Cine de Valladolid\, cofundador y jefe de programación de FILMADRID. Festival Internacional de Cine y miembro del comité selección de Documenta Madrid. Ha sido jefe de programación del Festival de Cine Europeo de Sevilla de 2017 a 2022\, programador del Festival Internacional de Cortometrajes de Oberhausen y de Lima Independiente (Perú).Miembro del Consejo de Redacción de la revista Caimán. Cuadernos de cine. Ha publicado artículos en diferentes medios como los diarios El Confidencial y El español\, o las revistas El Cultural y Archivos de la Filmoteca. Desarrolla su actividad docente en instituciones como la Universidad Camilo José Cela (Madrid) y ECAM. Escuela de Cinematografía de Madrid. Además\, dirige el proyecto de formación online de cine independiente (R)evoluciones Cine. \n  \n  \n\nActividad organizada en colaboración con FCAT – Festival de Cine Africano de Tarifa y Tánger \n \n  \n 
URL:https://cicus.us.es/evento/aulafcat_2024/
CATEGORIES:ON-LINE
ATTACH;FMTTYPE=image/jpeg:https://cicus.us.es/wp-content/uploads/2024/04/evento1344.jpg
END:VEVENT
END:VCALENDAR