BEGIN:VCALENDAR
VERSION:2.0
PRODID:-//CICUS · Centro de Iniciativas Culturales de la Universidad de Sevilla - ECPv6.15.20//NONSGML v1.0//EN
CALSCALE:GREGORIAN
METHOD:PUBLISH
X-WR-CALNAME:CICUS · Centro de Iniciativas Culturales de la Universidad de Sevilla
X-ORIGINAL-URL:https://cicus.us.es
X-WR-CALDESC:Eventos para CICUS · Centro de Iniciativas Culturales de la Universidad de Sevilla
REFRESH-INTERVAL;VALUE=DURATION:PT1H
X-Robots-Tag:noindex
X-PUBLISHED-TTL:PT1H
BEGIN:VTIMEZONE
TZID:Europe/Madrid
BEGIN:DAYLIGHT
TZOFFSETFROM:+0100
TZOFFSETTO:+0200
TZNAME:CEST
DTSTART:20230326T010000
END:DAYLIGHT
BEGIN:STANDARD
TZOFFSETFROM:+0200
TZOFFSETTO:+0100
TZNAME:CET
DTSTART:20231029T010000
END:STANDARD
BEGIN:DAYLIGHT
TZOFFSETFROM:+0100
TZOFFSETTO:+0200
TZNAME:CEST
DTSTART:20240331T010000
END:DAYLIGHT
BEGIN:STANDARD
TZOFFSETFROM:+0200
TZOFFSETTO:+0100
TZNAME:CET
DTSTART:20241027T010000
END:STANDARD
BEGIN:DAYLIGHT
TZOFFSETFROM:+0100
TZOFFSETTO:+0200
TZNAME:CEST
DTSTART:20250330T010000
END:DAYLIGHT
BEGIN:STANDARD
TZOFFSETFROM:+0200
TZOFFSETTO:+0100
TZNAME:CET
DTSTART:20251026T010000
END:STANDARD
END:VTIMEZONE
BEGIN:VEVENT
DTSTART;TZID=Europe/Madrid:20240526T113000
DTEND;TZID=Europe/Madrid:20240526T113000
DTSTAMP:20260423T063610
CREATED:20240419T212756Z
LAST-MODIFIED:20240522T084745Z
UID:71214-1716723000-1716723000@cicus.us.es
SUMMARY:SEMINARIO FLAMENCO EN EL SIGLO XXI / EDICIÓN 2024 · PROGRAMA DÍA 26/05/2024
DESCRIPTION:SEMINARIO FLAMENCO EN EL SIGLO XXI / EDICIÓN 2024 \nFecha: domingo 26 de mayo\, 2024\nLugar: CICUS (C/ Madres de Dios\, 1)\nOrganiza: Asociación Cultural Flamenco Siglo XXI y Presencia Gitana \nINSCRIPCIÓN (GRATUITA) \nPROGRAMA · DOMINGO 26 MAYO\, 2024 \nTALLER DE INICIACIÓN AL FLAMENCO PARA FAMILIAS\nDuración: 2 hrs (12-14 h) \nTaller de iniciación al flamenco para todos los públicos impartido por Guillermo McGill y Pedro Mª Peña. \nDirigido a niños y mayores\, a partir de 8 años que\, sin proceder de un entorno flamenco\, quieran iniciarse\, o profundizar en su afición a este arte. A través de una clase amena y cercana\, ilustradas por estos dos grandes maestros\, conoceremos algunos de los entresijos que lo componen\, para poder disfrutar más aún\, si cabe\, de la Música Flamenca. \nDirigido a niños y mayores\, a partir de 8 años.  \nPROGRAMA \n– Conocer los principales medios de expresión del Flamenco: Cante\, Guitarra\, Percusión y Baile \n– Conocer los ritmos básicos del Flamenco \n– Conocer\, de manera sencilla\, los modos tonales del Flamenco \n– Conocer los principales ¨palos¨\, estilos básicos y derivados\, que conforman el Flamenco \n– Cada apartado tendrá una ilustración en vivo e independiente: Cante\, Guitarra y Percusión \n– Se incentivará la participación\, al nivel que sea posible\, con instrumentos o simplemente palmas\, de todos los asistentes al curso de manera amena y divertida. \nPedro María Peña desciende de dos de las dinastías artísticas más relevantes de la historia del flamenco\, los “Peña” de Lebrija y los “Perrate” de Utrera\, por lo que\, el flamenco le acompaña desde su infancia de manera muy particular. Las primeras nociones musicales las recibe por parte de su padre\, Pedro Peña\, quien le transmite una basto conocimiento del flamenco en general\, muy especialmente sobre guitarra y el cante.  En 1974\, a la edad de 12 años se inscribe en el Real Conservatorio de Música de Sevilla donde cursa estudios de solfeo y de guitarra clásica con el Catedrático de guitarra\, D. Serafín Arriaza. Su formación musical se amplía junto a otros maestros de la guitarra como Manolo Sanlúcar\, Enrique de Melchor y Pedro Bacán. A los 16 años obtiene un Premio en el Certamen Internacional de Guitarra de Jerez de la Frontera (Cádiz). Este mismo año\, 1986\, se incorpora como guitarrista a la compañía de su tío\, Juan Peña “Lebrijano”\, donde permanecerá hasta el año 1991. Entre los trabajos de producción discográfica\, más de 20 discos dirigidos musicalmente\, se encuentra “Orobroy”\, de su hermano “Dorantes” y “Cuando Lebrijano canta se moja el agua” de Juan Peña “Lebrijano”\, de quien fue su guitarrista habitual durante más de 20 años. Pedro María Peña es presidente y Socio-Fundador de la Asociación Cultural Flamenco Siglo XXI y miembro del Grupo de Trabajo de Flamenco de la SGAE. \nGuillermo McGill es un percusionista y baterista uruguayo. Ha tocado con músicos de jazz internacionales\, entre los que destacan Kenny Wheeler\, Tete Montoliu\, Wallace Roney o Wynton Marsalis. Su mayor proyección\, sin embargo\, la ha conseguido en grupos o con artistas de fusión flamenca\, especialmente tras su colaboración como miembro del grupo del pianista gaditano Chano Domínguez\, con el que ha grabado varios discos. Ya en 1986\, cuando se traslada a Madrid\, comienza a tocar con la Compañía de Baile Flamenco de Manuela Vargas. También ha colaborado como percusionista con cantaores de flamenco como Enrique Morente\, Esperanza Fernández\, o Ana Salazar\, a la que produjo un disco en 2003\, y con músicos de fusión flamenca como Juan Manuel Cañizares\, Carles Benavent o Jorge Pardo. \n  \n\n  \nActividad organizada en colaboración con la Asociación Cultural Flamenco Siglo XXI
URL:https://cicus.us.es/evento/flamencosxxi2024_dia03/
LOCATION:Café El Oasis de la Gata · CICUS\, C/ Madre de Dios\, 1\, Sevilla\, SEvilla
ATTACH;FMTTYPE=image/jpeg:https://cicus.us.es/wp-content/uploads/2024/04/evento1354.jpg
END:VEVENT
END:VCALENDAR