BEGIN:VCALENDAR
VERSION:2.0
PRODID:-//CICUS · Centro de Iniciativas Culturales de la Universidad de Sevilla - ECPv6.15.20//NONSGML v1.0//EN
CALSCALE:GREGORIAN
METHOD:PUBLISH
X-ORIGINAL-URL:https://cicus.us.es
X-WR-CALDESC:Eventos para CICUS · Centro de Iniciativas Culturales de la Universidad de Sevilla
REFRESH-INTERVAL;VALUE=DURATION:PT1H
X-Robots-Tag:noindex
X-PUBLISHED-TTL:PT1H
BEGIN:VTIMEZONE
TZID:Europe/Madrid
BEGIN:DAYLIGHT
TZOFFSETFROM:+0100
TZOFFSETTO:+0200
TZNAME:CEST
DTSTART:20230326T010000
END:DAYLIGHT
BEGIN:STANDARD
TZOFFSETFROM:+0200
TZOFFSETTO:+0100
TZNAME:CET
DTSTART:20231029T010000
END:STANDARD
BEGIN:DAYLIGHT
TZOFFSETFROM:+0100
TZOFFSETTO:+0200
TZNAME:CEST
DTSTART:20240331T010000
END:DAYLIGHT
BEGIN:STANDARD
TZOFFSETFROM:+0200
TZOFFSETTO:+0100
TZNAME:CET
DTSTART:20241027T010000
END:STANDARD
BEGIN:DAYLIGHT
TZOFFSETFROM:+0100
TZOFFSETTO:+0200
TZNAME:CEST
DTSTART:20250330T010000
END:DAYLIGHT
BEGIN:STANDARD
TZOFFSETFROM:+0200
TZOFFSETTO:+0100
TZNAME:CET
DTSTART:20251026T010000
END:STANDARD
END:VTIMEZONE
BEGIN:VEVENT
DTSTART;TZID=Europe/Madrid:20240513T110000
DTEND;TZID=Europe/Madrid:20240517T110000
DTSTAMP:20260421T042533
CREATED:20240319T211149Z
LAST-MODIFIED:20240319T211956Z
UID:70705-1715598000-1715943600@cicus.us.es
SUMMARY:EXPOSICIÓN · “S” PORNO. NO ROMPER. DIBUJOS DE MANUEL ECHEGOYÁN
DESCRIPTION:Fecha: 4 de abril – 30 de junio de 2024\nInauguración: jueves 4 de abril\, 19 h.\nHorario: Lunes a viernes\, de 11 a 20 h. La exposición también podrá visitarse\, en horario de apertura del centro\, los fines de semana que haya actividades del ciclo CICUS en abierto\nHorario especial de Feria: 15\, 16\, 18 y 19 de abril\, de 11 a 13:45 h.\nLugar: Sala Casajús  · CICUS (C/ Madre de Dios\, 1) \n· ADQUIRIR INVITACIÓN \nHay exposiciones que tardan en concretarse y ésta en eso\, como en otras cosas\, es paradigmática. Cuando hace ya varios años iniciamos los contactos con la familia Echegoyán\, en las conversaciones inmediatamente surgió la posibilidad de mostrar el trabajo de su abuelo. Se nos avisó que gran parte de su obra todavía permanecía en su poder y que estaba a nuestra disposición para ello. Se nos habló también de una carpeta prohibida y\, claro\, la curiosidad nos invadió. Inmediatamente planteamos una visita y ya cuando esta acababa y\, como quien no quiere la cosa\, les hablamos de la posibilidad de revisar esa carpeta misteriosa. \nLa sorpresa fue el inicio de la muestra que ahora se plantea. “S” Porno\, no romper se titulaba ese sobre en el que se habían conservado una serie de dibujos de carácter y consumo privado. La sensación de lo prohibido es lo que tiene. Uno siempre quiere descubrir el velo. El rótulo nos pareció tan sugerente que lo hemos querido conservar como título de la muestra. \nA lo privado de los dibujos se le añade el carácter de prohibición que debieron tener mientras los hacía y por ello el artista\, Manuel Echegoyán\, quería que se protegieran\, que no se rompieran\, porque en algún momento llegaría aquel día en que su secreto perdiese ese temor a la incomprensión. \nLo duro de este trabajo es reconocer como tras la derrota del bando republicano el artista tuvo que adecuarse a una sociedad en exceso conservadora con unas ideas que no compartía. Salirse de las fórmulas establecidas era complicado y peligroso por ello esta reserva y a la vez ese deseo de conservación. La vida es una contradicción permanente y de alguna forma Echegoyán consigue el reconocimiento de una sociedad en la que él mismo no se reconoce. \n“S” Porno no romper puede ser vista en nuestros días con unos ojos diferentes a los del momento en que fueron hechos sus dibujos. El sexo se ha desproblematizado en gran medida y algunos de sus dibujos podrían ser hasta ingenuos en estos momentos\, pero no hay que olvidar que homosexualidad\, lesbianismo y disfrute sexual no han sido siempre tan normales como en nuestros momentos. Por ello estos dibujos\, a los que hemos querido incorporar los realizados durante la guerra\, se pueden considerar como una reivindicación de un pensamiento más libre y menos oscuro y que\, en alguna forma\, completan la visión de un artista al que ahora se añaden nuevos registros más cercanos a sus pensamientos liberales que a los que tradicionalmente se le han puesto en valor.
URL:https://cicus.us.es/evento/manuelechegoyan10/
LOCATION:CICUS · Sala Casajús\, c/Madre de Dios 1\, Sevilla\, 41004\, España
ATTACH;FMTTYPE=image/jpeg:https://cicus.us.es/wp-content/uploads/2024/03/evento1284.jpg
END:VEVENT
BEGIN:VEVENT
DTSTART;TZID=Europe/Madrid:20240516T200000
DTEND;TZID=Europe/Madrid:20240516T200000
DTSTAMP:20260421T042533
CREATED:20240325T185034Z
LAST-MODIFIED:20241029T122249Z
UID:70882-1715889600-1715889600@cicus.us.es
SUMMARY:AHORA DANZA 2024 · YEINNER CHICAS / COLECTIVO LAS MAÑAS\, GERO DOMÍNGUEZ & NURIA ESTÉBANEZ y ÀNGEL DURÁN PERFORMING ARTS
DESCRIPTION:CICLO AHORA DANZA 2024 \nFecha: Jueves 16 de mayo\, 2024\nHora: 20 h.\nLugar: CICUS · Patio \nADQUIRIR ENTRADAS: 5€ \nYeinner Chicas / Colectivo Las Mañas (Nicaragua/Zaragoza)\n“METAMORFOSIS 2.0” \n‘Metamorfosis 2.0’ nos habla de cómo todo ser vivo se ve en la necesidad de crear un sistema de evolución y una serie de cambios que le permitan una adaptación segura para su supervivencia. Estos procesos surgen como respuestas a las alteraciones constantes del ambiente en el que habita dicha especie. A través de este trabajo\, el artista plantea una metáfora de su propia experiencia de vida. \nEste performance surge como una necesidad de exponer el proceso de adaptación de todo ser vivo. Además\, nace en relación a imágenes y movimientos de la flora y fauna de los territorios en los que ha habitado el artista hasta el día de hoy\, viéndose influenciado por el entorno que le rodea. \nCreador y performer: Yeinner Chicas\nMúsica: Andy Stott “On Oath”\, “Time away”\nVídeo: Teresa Magallón\nFotografía: Vaitiare San Ginés\, Festival Traslación \nDURACIÓN: 15 minutos aprox. \nYeinner Chicas\, originario de Nicaragua y residente en España\, es un coreógrafo y bailarín graduado en Danza Contemporánea y Folklore Nicaragüense. Su formación incluye experiencia en Finlandia con la Compañía Alpo Aaltokoskki de Helsinki. Ha destacado en producciones escénicas y audiovisuales\, siendo ganador del Certamen Coreográfico Sólodos en Danza (Costa Rica\, 2015) y del Certamen Sólo Improvisa de la Sala Cuarta Pared (Madrid\, 2023). Además\, fue nominado como mejor intérprete a los Premios Butaca de Cataluña por su trabajo en la pieza ‘Cowards’ de Àngel Durán. Chicas ha sido artista residente del Centro Coreográfico de La Rioja y ha realizado una residencia de investigación en el Centro Coreográfico Canal de Madrid en 2021\, junto a Max Sanford. En constante exploración\, Chicas se aventura en la creación contemporánea\, experimentando con disciplinas como el teatro\, circo y la voz experimental\, fusionando sus raíces folklóricas e indígenas con la escena contemporánea. \nhttps://yeinnerchicas.wixsite.com/website \n\nGero Domínguez & Nuria Estébanez (Sevilla/Málaga)\nEL PRIMER CÍRCULO\nEstreno en Sevilla. Nominado a Mejor espectáculo de calle\, X Premios Lorca \nLa plataforma giratoria es el primer círculo\, es el limbo. El limbo como comienzo para transitar a través de un espacio de pérdida sin rumbo aparente\, una zona de nadie. Desde este punto cero se inicia un camino que se sucede por distintos estadios: \nLa quietud. El movimiento pasa sin darnos cuenta\, hay otro tempo y perspectiva. Nos ubica sin saber muy bien dónde. No vemos más allá de nosotros mismos. \nLa pérdida. Tras el bloqueo. Buscamos sin saber muy bien que hallar. Cambios de perspectivas\, ejes\, otros espacios en otros cuerpos. \nEl soporte. Necesitamos de apoyos para seguir\, para no perdernos o para equivocarnos en la búsqueda. \nEl nuevo comienzo. Vislumbrando el final de una etapa se inicia el comienzo de la siguiente. \nEs un proceso cíclico. La mirada hacia arriba cambiará nuestra perspectiva. \nNuestro instrumento para mostrarlo es el cuerpo. Trabajar sobre dos lenguajes corporales\, el flamenco y la danza contemporánea\, siendo el contact el nexo entre ellos. \nIdea original: Gero Domínguez\nDirección artística\, coreografía e interpretación: Nuria Estébanez y Gero Domínguez Música: Rafa Torres\nDiseño y construcción de la plataforma: Salvador Benítez Vestuario: Enrique Vicent\nFotografía\, vídeo\, diseño: Micky Domínguez \nDURACIÓN: 15 minutos \nGero Domínguez\, formado en el Conservatorio Profesional de Danza de Sevilla\, destacó en Madrid como solista en el Teatro Reina Victoria y el Teatro Arenal\, así como en giras internacionales y colaboraciones con músicos como Mino Cinelu y directores como Calixto Bieito. Fundó su propia compañía en 2011\, presentando exitosos montajes en festivales internacionales y siendo parte del circuito de la Red Acieloabierto. Su obra «La Cabra»\, en colaboración con Miguel Marín y Benito Charneco\, recibió elogios de crítica y público. Con “La Cabra”\, forma parte del circuito de la Diputación de Sevilla y la Red Andaluza de Teatros. \nAdemás\, colabora con el saxofonista Gautama del Campo y está actualmente inmerso en la gira de «Los Cuerpos Celestes»\, de la cía. Marco & Chloe\, siendo finalistas en los Premios Max y ganadores en los Premios Lorca 2022. \nPor otro lado\, Nuria Estébanez inició su formación en danza clásica en Málaga\, continuando con estudios en danza contemporánea en el Centro Andaluz de Danza y completando una licenciatura en Pedagogía en la Universidad de Málaga. Ha trabajado con varias compañías\, destacando su participación en producciones nacionales e internacionales. Actualmente\, es bailarina en REA Danza y colabora con la compañía de Gero Domínguez. Combina su carrera artística con la docencia y la actuación. \nhttp://www.gerodominguez.com \n\nÀngel Durán Performing Arts (Barcelona)\n“CLINCH” \nSinopsis: «Los hombres se tocan a golpes» Un dúo enérgico sobre la construcción masculina. Una deconstrucción del comportamiento viril contemporáneo\, aclamado por unos y cuestionado por muchos. CLINCH en boxeo hace referencia al momento en que los dos luchadores se abrazan y se bloquean hasta que el árbitro los separa. Se trata de acercarse al rival al máximo para protegerse del ataque del mismo.CLINCH expone la masculinidad más tóxica\, instaurada en la competición\, la negación y la confrontación a todo lo diferente. También la negación de los sentimientos\, exceptuando la rabia o la ira\, que debe demostrarse a través del ejercicio de la violencia. \nCoreógrafo: Àngel Durán\nIntérpretes: Àngel Durán e Yeinner Chicas. Música: Joan Borràs \nCon el apoyo de: Espacio SóLODOS Costa Rica\, Nantai\, Roca Umbert Fàbrica de Creació\, Festus Festival \nDURACIÓN: 22 minutos \nÀngel Durán\, graduado en danza en SEAD (Salzburgo\, Austria) y en Arte y Diseño por la UAB\, ha trabajado para diversos coreógrafos y compañías europeas. Desde 2018\, desarrolla su proyecto creativo más personal con Àngel Durán Performing Arts\, compañía con la que ha obtenido varios premios internacionales.Su trabajo se centra en la exploración de la condición humana a través de la investigación del lenguaje corporal con una apuesta clara por la nueva dramaturgia. \nWeb: https://angel-duran.com/ \nCircuito 2024 – Red Acieloabierto \n  \n\nEn colaboración con Eléctrica Cultura\, Red Acieloabierto\, e INAEM-Ministerio de Cultura. \n \n 
URL:https://cicus.us.es/evento/ahoradanza2024_03/
LOCATION:CICUS · Patio\, C/ Madre de Dios\, 1\, Sevilla\, España
ATTACH;FMTTYPE=image/jpeg:https://cicus.us.es/wp-content/uploads/2024/03/evento1300.jpg
END:VEVENT
END:VCALENDAR