BEGIN:VCALENDAR
VERSION:2.0
PRODID:-//CICUS · Centro de Iniciativas Culturales de la Universidad de Sevilla - ECPv6.15.20//NONSGML v1.0//EN
CALSCALE:GREGORIAN
METHOD:PUBLISH
X-WR-CALNAME:CICUS · Centro de Iniciativas Culturales de la Universidad de Sevilla
X-ORIGINAL-URL:https://cicus.us.es
X-WR-CALDESC:Eventos para CICUS · Centro de Iniciativas Culturales de la Universidad de Sevilla
REFRESH-INTERVAL;VALUE=DURATION:PT1H
X-Robots-Tag:noindex
X-PUBLISHED-TTL:PT1H
BEGIN:VTIMEZONE
TZID:Europe/Madrid
BEGIN:DAYLIGHT
TZOFFSETFROM:+0100
TZOFFSETTO:+0200
TZNAME:CEST
DTSTART:20230326T010000
END:DAYLIGHT
BEGIN:STANDARD
TZOFFSETFROM:+0200
TZOFFSETTO:+0100
TZNAME:CET
DTSTART:20231029T010000
END:STANDARD
BEGIN:DAYLIGHT
TZOFFSETFROM:+0100
TZOFFSETTO:+0200
TZNAME:CEST
DTSTART:20240331T010000
END:DAYLIGHT
BEGIN:STANDARD
TZOFFSETFROM:+0200
TZOFFSETTO:+0100
TZNAME:CET
DTSTART:20241027T010000
END:STANDARD
BEGIN:DAYLIGHT
TZOFFSETFROM:+0100
TZOFFSETTO:+0200
TZNAME:CEST
DTSTART:20250330T010000
END:DAYLIGHT
BEGIN:STANDARD
TZOFFSETFROM:+0200
TZOFFSETTO:+0100
TZNAME:CET
DTSTART:20251026T010000
END:STANDARD
END:VTIMEZONE
BEGIN:VEVENT
DTSTART;TZID=Europe/Madrid:20240506T110000
DTEND;TZID=Europe/Madrid:20240510T110000
DTSTAMP:20260425T164633
CREATED:20240319T211152Z
LAST-MODIFIED:20240319T212148Z
UID:70704-1714993200-1715338800@cicus.us.es
SUMMARY:EXPOSICIÓN · “S” PORNO. NO ROMPER. DIBUJOS DE MANUEL ECHEGOYÁN
DESCRIPTION:Fecha: 4 de abril – 30 de junio de 2024\nInauguración: jueves 4 de abril\, 19 h.\nHorario: Lunes a viernes\, de 11 a 20 h. La exposición también podrá visitarse\, en horario de apertura del centro\, los fines de semana que haya actividades del ciclo CICUS en abierto\nHorario especial de Feria: 15\, 16\, 18 y 19 de abril\, de 11 a 13:45 h.\nLugar: Sala Casajús  · CICUS (C/ Madre de Dios\, 1) \n· ADQUIRIR INVITACIÓN \nHay exposiciones que tardan en concretarse y ésta en eso\, como en otras cosas\, es paradigmática. Cuando hace ya varios años iniciamos los contactos con la familia Echegoyán\, en las conversaciones inmediatamente surgió la posibilidad de mostrar el trabajo de su abuelo. Se nos avisó que gran parte de su obra todavía permanecía en su poder y que estaba a nuestra disposición para ello. Se nos habló también de una carpeta prohibida y\, claro\, la curiosidad nos invadió. Inmediatamente planteamos una visita y ya cuando esta acababa y\, como quien no quiere la cosa\, les hablamos de la posibilidad de revisar esa carpeta misteriosa. \nLa sorpresa fue el inicio de la muestra que ahora se plantea. “S” Porno\, no romper se titulaba ese sobre en el que se habían conservado una serie de dibujos de carácter y consumo privado. La sensación de lo prohibido es lo que tiene. Uno siempre quiere descubrir el velo. El rótulo nos pareció tan sugerente que lo hemos querido conservar como título de la muestra. \nA lo privado de los dibujos se le añade el carácter de prohibición que debieron tener mientras los hacía y por ello el artista\, Manuel Echegoyán\, quería que se protegieran\, que no se rompieran\, porque en algún momento llegaría aquel día en que su secreto perdiese ese temor a la incomprensión. \nLo duro de este trabajo es reconocer como tras la derrota del bando republicano el artista tuvo que adecuarse a una sociedad en exceso conservadora con unas ideas que no compartía. Salirse de las fórmulas establecidas era complicado y peligroso por ello esta reserva y a la vez ese deseo de conservación. La vida es una contradicción permanente y de alguna forma Echegoyán consigue el reconocimiento de una sociedad en la que él mismo no se reconoce. \n“S” Porno no romper puede ser vista en nuestros días con unos ojos diferentes a los del momento en que fueron hechos sus dibujos. El sexo se ha desproblematizado en gran medida y algunos de sus dibujos podrían ser hasta ingenuos en estos momentos\, pero no hay que olvidar que homosexualidad\, lesbianismo y disfrute sexual no han sido siempre tan normales como en nuestros momentos. Por ello estos dibujos\, a los que hemos querido incorporar los realizados durante la guerra\, se pueden considerar como una reivindicación de un pensamiento más libre y menos oscuro y que\, en alguna forma\, completan la visión de un artista al que ahora se añaden nuevos registros más cercanos a sus pensamientos liberales que a los que tradicionalmente se le han puesto en valor.
URL:https://cicus.us.es/evento/manuelechegoyan09/
LOCATION:CICUS · Sala Casajús\, c/Madre de Dios 1\, Sevilla\, 41004\, España
ATTACH;FMTTYPE=image/jpeg:https://cicus.us.es/wp-content/uploads/2024/03/evento1284.jpg
END:VEVENT
BEGIN:VEVENT
DTSTART;TZID=Europe/Madrid:20240506T190000
DTEND;TZID=Europe/Madrid:20240506T190000
DTSTAMP:20260425T164633
CREATED:20240415T214000Z
LAST-MODIFIED:20240424T215955Z
UID:71024-1715022000-1715022000@cicus.us.es
SUMMARY:PALMARÉS DEL FCAT 2023 · SOUS LES FIGUES (Entre las higueras)
DESCRIPTION:CICLO PALMARÉS DEL FCAT 2023 \nFecha: lunes 6 de mayo de 2024\nHora: 19 h.\nLugar: CICUS · Auditorio \nADQUIRIR INVITACIÓN \n* Habrá un número limitado de invitaciones disponibles en la taquilla el día del evento\, aunque estén agotadas online. \nSOUS LES FIGUES · Entre las higueras\n(Erige Sehiri\, Alemania / Francia / Qatar / Suiza / Túnez\, 2022\, 92 min\, V.O.S.E.) \nPremio del público  \nEn el noroeste de Túnez\, un grupo de mujeres y de hombres jóvenes trabajan recolectando higos. Bajo el testimonio de los árboles\, desarrollan nuevos sentimientos\, discuten\, se encuentran y rehúyen\, coquetean e intentan entenderse. A lo largo del día\, la huerta se convierte en un teatro de emociones\, donde se representan los sueños y las esperanzas de cada uno de ellos. \n  \n\nActividad organizada en colaboración con FCAT – Festival de Cine Africano de Tarifa y Tánger \n \n 
URL:https://cicus.us.es/evento/palmaresfcat2023_ses01/
LOCATION:Cicus – Auditorio\, C/ Madre de Dios\, 1\, Sevilla\, España
ATTACH;FMTTYPE=image/jpeg:https://cicus.us.es/wp-content/uploads/2024/04/evento1306.jpg
END:VEVENT
BEGIN:VEVENT
DTSTART;TZID=Europe/Madrid:20240506T193000
DTEND;TZID=Europe/Madrid:20240506T193000
DTSTAMP:20260425T164633
CREATED:20240417T212708Z
LAST-MODIFIED:20240429T183454Z
UID:71110-1715023800-1715023800@cicus.us.es
SUMMARY:PRESENTACIÓN DEL LIBRO “CUATRO HISTORIAS Y UNA SINGER”\, de MARÍA JESÚS BALBÁS
DESCRIPTION:Fecha: lunes 6 de mayo de 2024\nHora: 19:30 h.\nLugar: Sala EP2 · CICUS (c/ Madre de Dios\, 1)\nIntervienen: María Jesús Balbás Cisneros  (escritora\, profesora de la Universidad de El País Vasco y ginecóloga)\, Juan Madrid (escritor y periodista)\, Antonio Molina Flores (profesor de la facultad de Filosofía de la US) y Mónica Aguilar Alba (profesora de la facultad de Geografía e Historia de la US) \nADQUIRIR INVITACIONES \nCuatro historias de cuatro mujeres atrapadas en la lucha por la supervivencia y en el desamor. Una máquina de coser une las cuatro historias\, en las que\, a pesar de todo\, late la alegría de vivir\, la fuerza y la esperanza. La presentación del libro culminará con una breve actuación de Alfredo Lagos y Manuel Imán que interpretarán algunas de sus composiciones originales. \nMARÍA JESÚS BALBÁS \nMadrid\, 1949. Estudia en la Facultad de Medicina de la Universidad de Salamanca y desde 1976 vive en El País Vasco\, donde ejerce como ginecóloga y homeópata y donde ha ejercido como profesora titular en esta universidad. Publica con Icaria editorial\, en coautoría\, el título Hilando fino; y con Ediciones B un libro de divulgación médica\, Bueno chicas\, esto se acabó\, una guía para desdramatizar la menopausia. El último año\, junto a Arturo Vinuesa\, escribe Cuentos para el camino\, siendo su primer libro de ficción.  \nJUAN MADRID \nEscritor y periodista\, nacido en Málaga el 12 de junio de 1947. Licenciado en Historia Contemporánea por la Universidad de Salamanca\, comienza como periodista en 1973. Ha sido\, entre otros\, redactor en revistas como Cambio 16\, Publica su primera novela\, Un beso de amigo\, en 1980\, y desde entonces ha publicado cuarenta libros entre novelas\, recopilaciones de cuentos y novelas juveniles y es considerado uno de los máximos exponentes de la nueva novela negra o urbana europea. Su obra ha sido traducida a dieciséis lenguas. \nANTONIO MOLINA \nEscritor y profesor de Estética en la Universidad de Sevilla. Como investigador y ensayista ha trabajado la creatividad artística y literaria\, sobre todo en el Romanticismo y las Vanguardias. Es autor del libro Doble teoría del genio. Poeta y crítico\, ha publicado la obra de teatro Judit. Asimismo\, pertenece a varios consejos editoriales\, entre ellos los de la revista Renacimiento de literatura y la revista digital Fedro\, de Estética y Teoría de las Artes. \nMÓNICA AGUILAR  \nProfesora de la Universidad de Sevilla\, del departamento de Geografía física. Ha publicado estudios sobre cambio climático. Es asimismo cantante de música antigua. \n  \n\nActividad organizada en colaboración con
URL:https://cicus.us.es/evento/4historiasy1singer/
LOCATION:CICUS – EP2\, c/Madre de Dios 1-3\, Sevilla\, España
ATTACH;FMTTYPE=image/jpeg:https://cicus.us.es/wp-content/uploads/2024/04/evento1325.jpg
END:VEVENT
END:VCALENDAR