BEGIN:VCALENDAR
VERSION:2.0
PRODID:-//CICUS · Centro de Iniciativas Culturales de la Universidad de Sevilla - ECPv6.15.20//NONSGML v1.0//EN
CALSCALE:GREGORIAN
METHOD:PUBLISH
X-WR-CALNAME:CICUS · Centro de Iniciativas Culturales de la Universidad de Sevilla
X-ORIGINAL-URL:https://cicus.us.es
X-WR-CALDESC:Eventos para CICUS · Centro de Iniciativas Culturales de la Universidad de Sevilla
REFRESH-INTERVAL;VALUE=DURATION:PT1H
X-Robots-Tag:noindex
X-PUBLISHED-TTL:PT1H
BEGIN:VTIMEZONE
TZID:Europe/Madrid
BEGIN:DAYLIGHT
TZOFFSETFROM:+0100
TZOFFSETTO:+0200
TZNAME:CEST
DTSTART:20230326T010000
END:DAYLIGHT
BEGIN:STANDARD
TZOFFSETFROM:+0200
TZOFFSETTO:+0100
TZNAME:CET
DTSTART:20231029T010000
END:STANDARD
BEGIN:DAYLIGHT
TZOFFSETFROM:+0100
TZOFFSETTO:+0200
TZNAME:CEST
DTSTART:20240331T010000
END:DAYLIGHT
BEGIN:STANDARD
TZOFFSETFROM:+0200
TZOFFSETTO:+0100
TZNAME:CET
DTSTART:20241027T010000
END:STANDARD
BEGIN:DAYLIGHT
TZOFFSETFROM:+0100
TZOFFSETTO:+0200
TZNAME:CEST
DTSTART:20250330T010000
END:DAYLIGHT
BEGIN:STANDARD
TZOFFSETFROM:+0200
TZOFFSETTO:+0100
TZNAME:CET
DTSTART:20251026T010000
END:STANDARD
END:VTIMEZONE
BEGIN:VEVENT
DTSTART;TZID=Europe/Madrid:20240129T110000
DTEND;TZID=Europe/Madrid:20240202T110000
DTSTAMP:20260424T091704
CREATED:20231219T223033Z
LAST-MODIFIED:20240120T150726Z
UID:69269-1706526000-1706871600@cicus.us.es
SUMMARY:EXPOSICIÓN · TRASMUNDO DE GOYA
DESCRIPTION:Fecha: 19 de enero – 15 de marzo de 2024\nInauguración*: viernes 19 de enero\, a las 20 h.\nHorario: de lunes a viernes\, de 11 a 20 h.\nLugar: Sala Casajús · CICUS (C/ Madre de Dios\, 1) \n* La inauguración vendrá precedida por una conversación entre Pedro G. Romero y los editores de Media Vaca\, Begoña Lobo Abascal y Vicente Ferrer Azcoiti en el Auditorio\, 19 h.  \n· ADQUIRIR INVITACIÓN\n· VER / DESCARGAR CARTEL \nEn 1963\, con la edición de Trasmundo de Goya de Edith Helman comienzan a ajustarse las interpretaciones del Francisco de Goya autor de los Caprichos\, Desastres\, Tauromaquias y Disparates\, obras singulares que anuncian la modernidad con una complejidad que\, básicamente\, siempre se ha intentado simplificar en nombre de la técnica\, del progreso\, del porvenir. Helman nos ayuda a leer las ilustraciones de Goya -entiéndase aquí ilustración con sus minúsculas- en relación a los autores con los que compartió algo más que un mismo tiempo histórico. Intelectuales y amigos como Jovellanos\, Cadalso y Moratín\, vendrán después Tzvetan Todorov para hablarnos de la superioridad de pensamiento de Goya\, incluso por encima de Goethe o de Rousseau; Victor I. Stoichika para demostrarnos como la filosofía de Goya amplía el campo mismo de lo que consideramos ideas o László Földényi para hacernos entender\, desde el propio legado de Goya\, el porqué su obra escapa a lo que tradicionalmente se llaman paradojas o contradicciones de la Ilustración\, escrito\, ahora sí\, con sus mayúsculas. \nAprovechando la actual edición de Media Vaca\, en su misma promoción\, tras las ediciones de Revista de Occidente en 1963 y Alianza Forma en 1983\, con un despliegue inédito de imágenes y complementos\, abrimos un apasionante gabinete de lecturas\, siempre a contrapelo\, de esos modos de hacer de Goya. Interpretaciones\, sí\, pero\, decididamente\, y siguiendo a Susan Sontag\, en un ejercicio contra la propia interpretación. Están las muchas versiones históricas de un Goya costumbrista\, un Goya moralista\, incluso de un Goya político. También el delirio productivo con el que Goya lleva a la locura al grabador De la Herrán y a la lucidez al escultor Oteiza. Un último apunte reivindica a la generación de autores goyescos\, verdaderamente expulsados del canon artístico académico y de la memoria de nuestra modernidad -y quizás una de las razones paradójicas de nuestro actual provincianismo-\, artistas tenidos por «menores» como Rosario Weiss\, Francisco Lameyer\, José Zapata\, Eugenio Lucas Velázquez\, los Becquer y su Semen o Leonardo Alenza. \nA los Caprichos de Alenza dedican sus trabajos un grupo de artistas contemporáneos: Efrén Álvarez\, Nathalie Bellón\, Misha Bies Golas\, Ricardo Cadenas\, Salomé del Campo\, Daniel Carvajal\, Mauro Cerqueira\, Carolina Cordeiro\, Silvia Cosio\, Carla Filipe\, Antonio Gagliano\, Curro González\, Federico Gúzman\, Patricio Hidalgo\, Victor Jaenada\, Julio Jara\, Mim Juncá\, Abraham Lacalle\, Lola Lasurt\, Chema López\, Gloria Martín\, Xisco Mensua\, Luis Navarro\, Elvira Pujol\, Pedro G. Romero\, Inmaculada Salinas\, André Sousa\, Joan Vilapuig\, Oriol Vilapuig. \nUna exposición «menor»\, sin duda\, en el sentido que Gilles Deleuze y Félix Guattari dieron a la palabra: por un lado desterritorializar\, por otro\, otorgar voz a la comunidad. \n 
URL:https://cicus.us.es/evento/trasmundodegoya03/
LOCATION:CICUS · Sala Casajús\, c/Madre de Dios 1\, Sevilla\, 41004\, España
ATTACH;FMTTYPE=image/jpeg:https://cicus.us.es/wp-content/uploads/2023/12/evento1215b.jpg
END:VEVENT
BEGIN:VEVENT
DTSTART;TZID=Europe/Madrid:20240129T190000
DTEND;TZID=Europe/Madrid:20240129T190000
DTSTAMP:20260424T091704
CREATED:20231219T194723Z
LAST-MODIFIED:20240115T194354Z
UID:69252-1706554800-1706554800@cicus.us.es
SUMMARY:CICLO DE PROYECCIONES SUMMERS · DEL ROSA AL AMARILLO
DESCRIPTION:CICLO SUMMERS \nFecha: lunes 29 de enero de 2024\nHora: 19 h\nLugar: CICUS · Auditorio \nADQUIRIR INVITACIÓN \n* Habrá un número limitado de invitaciones disponibles en la taquilla el día del evento\, aunque estén agotadas online. \nDEL ROSA AL AMARILLO\n(Manolo Summers\, España\, 1963\, 89 min) \nSi el primer amor es rosa\, el ultimo amor es amarillo\, como las flores marchitas. Ópera prima de uno de los cineastas patrios más dados al romance\, Manuel Summers\, que ganó la Concha de Plata en el Festival de San Sebastián. \nDos historias de amor en dos etapas de la vida: la rosa es la de dos niños de 12 y 13 años\, Guillermo y Margarita\, que viven con timidez y emoción su primer romance\, y la amarilla relata cómo una pareja de ancianos\, Valentín y Josefa\, se aman en silencio en el asilo donde viven. \n.
URL:https://cicus.us.es/evento/delrosaalamarillo/
LOCATION:Cicus – Auditorio\, C/ Madre de Dios\, 1\, Sevilla\, España
ATTACH;FMTTYPE=image/jpeg:https://cicus.us.es/wp-content/uploads/2023/12/evento1209.jpg
END:VEVENT
END:VCALENDAR