BEGIN:VCALENDAR
VERSION:2.0
PRODID:-//CICUS · Centro de Iniciativas Culturales de la Universidad de Sevilla - ECPv6.15.20//NONSGML v1.0//EN
CALSCALE:GREGORIAN
METHOD:PUBLISH
X-WR-CALNAME:CICUS · Centro de Iniciativas Culturales de la Universidad de Sevilla
X-ORIGINAL-URL:https://cicus.us.es
X-WR-CALDESC:Eventos para CICUS · Centro de Iniciativas Culturales de la Universidad de Sevilla
REFRESH-INTERVAL;VALUE=DURATION:PT1H
X-Robots-Tag:noindex
X-PUBLISHED-TTL:PT1H
BEGIN:VTIMEZONE
TZID:Europe/Madrid
BEGIN:DAYLIGHT
TZOFFSETFROM:+0100
TZOFFSETTO:+0200
TZNAME:CEST
DTSTART:20220327T010000
END:DAYLIGHT
BEGIN:STANDARD
TZOFFSETFROM:+0200
TZOFFSETTO:+0100
TZNAME:CET
DTSTART:20221030T010000
END:STANDARD
BEGIN:DAYLIGHT
TZOFFSETFROM:+0100
TZOFFSETTO:+0200
TZNAME:CEST
DTSTART:20230326T010000
END:DAYLIGHT
BEGIN:STANDARD
TZOFFSETFROM:+0200
TZOFFSETTO:+0100
TZNAME:CET
DTSTART:20231029T010000
END:STANDARD
BEGIN:DAYLIGHT
TZOFFSETFROM:+0100
TZOFFSETTO:+0200
TZNAME:CEST
DTSTART:20240331T010000
END:DAYLIGHT
BEGIN:STANDARD
TZOFFSETFROM:+0200
TZOFFSETTO:+0100
TZNAME:CET
DTSTART:20241027T010000
END:STANDARD
END:VTIMEZONE
BEGIN:VEVENT
DTSTART;TZID=Europe/Madrid:20231218T110000
DTEND;TZID=Europe/Madrid:20231222T110000
DTSTAMP:20260423T034556
CREATED:20231106T222634Z
LAST-MODIFIED:20240108T194251Z
UID:68530-1702897200-1703242800@cicus.us.es
SUMMARY:EXPOSICIÓN · OMAR JANAAN. AMOR\, HUMOR Y DESAMOR
DESCRIPTION:Fecha: 30 de noviembre  de 2023 – 17 de enero de 2024\nHorario: De lunes a viernes\, de 11 a 20 h.\nHorario especial de Navidad: días 22\, 26\, 27 y 28 de diciembre de 2023\, y 2\, 3 y 4 de enero de 2024\, de 11 a 14 h\nLugar: Sala MDD · CICUS (C/ Madre de Dios\, 1) \n· ADQUIRIR INVITACIÓN \nEn esta exposición individual intitulada Amor\, humor y desamor -un título tomado prestado del libro de poemas de Gloria Fuertes con mismo título que publicó en 1980- el artista y humorista Omar Janaan (Marbella\, 1988) nos presenta una muestra de sus viñetuelas en piezas de dimensiones variables bajo la técnica de pintura acrílica en intervención mural directa\, en las que retrata bajo el prisma del humor negro observaciones y ocurrencias en tres ejes discursivos: \nAmor\nEl foco sobre el amor en toda su dimensión. La vida y sus motivos para vivir.\nAquello que es motor. Lo que sí es. Por aquí se empieza. \nHumor\nEl desajuste de la realidad. La sociedad distorsionada. Aquello que chirría y nos llama la atención. Yo frente al mundo. \nDesamor\nLa guerra. El fin de la pasión. La derrota. Lo que también es motor. El lado oscuro de las cosas. \nLa naturaleza de la obra parte de las vivencias de Omar Janaan como humorista. Su realidad es constantemente filtrada bajo el particular prisma del humor\, siempre bajo el leiv motiv que define el constante de la obra del artista y del que ha hecho su marca personal: Ríete de TODO. \nEstas piezas tienen una realización en línea sencilla y pop naif\, continuando la línea de investigación formal acostumbrada por Omar Janaan bajo la estela de artistas plásticos que tienen el humor entre sus orígenes y que trabajan el dibujo mural\, el arte marginal y el graffiti\, como son sus referentes Dan Perjovschi (Rumanía\, 1961); David Shrigley (Inglaterra\, 1968) o Monstruo Espagueti (España\, 1982). \nVIDEO SOBRE LA EXPOSICIÓN \n \n  \n\nOmar Janaan (Marbella\, 1988) \nHumorista\, artista transdisciplinar y pedagogo. \nConstantemente en formación\, su continuo interés por el humor en todas sus vertientes le ha llevado a un análisis teórico del medio en el que ha diseccionado esta importante faceta del ser humano y que ha aprovechado para poder plasmar en una obra en evolución. \nUtilizando el humor como eje troncal\, utiliza distintas disciplinas artísticas como el dibujo\, la narrativa\, la performance y lo escénico con las que elabora su discurso. Mantiene una continua labor de investigación del humor en todas sus expresiones y ha colaborado activamente con diversos artistas transdisciplinares siempre con un foco prioritario en las artes plásticas y escénicas. \nHa realizado numerosas exposiciones individuales y colectivas\, además de participar en la creación de propuestas culturales y escénicas para el ámbito público y privado. Entre sus trabajos más destacados se encuentran las instalaciones expositivas Amor\, humor y desamor (2023)\, España es una anomalía: 40 años de meneíllos y cosichuelas (2018) y ¡Viñetuelas! (2012). Además\, es creador de las producciones escénicas ¡Perrea! (Work in progress\, 2023)\, RAMÓN (2023)\, Ríete de TODO (2019) y La madre de Hitler (cocreación junto con Alberto Cortés\, 2017). \nActualmente mantiene su proyecto personal Ríete de TODO como humorista\, artista y pedagogo en el humor. \nMás información sobre su trayectoria y trabajo artístico: \n· www.omarjanaan.com\n· www.rietedetodo.es \n 
URL:https://cicus.us.es/evento/amorhumordesamor05/
LOCATION:CICUS – Sala MDD\, c/Madre de Dios 1-3\, Sevilla\, España
ATTACH;FMTTYPE=image/jpeg:https://cicus.us.es/wp-content/uploads/2023/10/evento1194.jpg
END:VEVENT
BEGIN:VEVENT
DTSTART;TZID=Europe/Madrid:20231218T110000
DTEND;TZID=Europe/Madrid:20231222T110000
DTSTAMP:20260423T034556
CREATED:20231122T230721Z
LAST-MODIFIED:20240108T193946Z
UID:68785-1702897200-1703242800@cicus.us.es
SUMMARY:EXPOSICIÓN · DE LUZ Y SANGRE. JUAN USLÉ
DESCRIPTION:Fecha: 1 de diciembre de 2023 – 25 de enero de 2024\nInauguración: viernes 1 de diciembre\, 20 h (precedida de una conversación entre Juan Uslé y Mira Bernabeu a las 19 h)\nHorario: de lunes a viernes\, de 11 a 20 h.\nHorario especial de Navidad: días 22\, 26\, 27 y 28 de diciembre de 2023\, y 2\, 3 y 4 de enero de 2024\, de 11 a 14 h\nLugar: Sala EP1 · CICUS (C/ Madre de Dios\, 1) \n· ADQUIRIR INVITACIÓN \nDe Luz y Sangre es el proyecto expositivo que el artista Juan Uslé (Santander\, 1954) presenta para esta ocasión. Pintor devoto de la abstracción (entendida como un empeño personal de reducir las cosas a su mínima esencia o noción)\, la pintura y la fotografía vuelven a ser sus instrumentos fundamentales. El eje vertebrador de esta muestra está constituido por pinturas de gran y pequeño formato y fotografías; bien integradas en contundentes polípticos que actualizan el concepto de retablo\, bien dispuestas en un diálogo tan silencioso como elocuente. \nPara la realización de este proyecto\, Uslé estuvo recorriendo durante pretéritas semanas estivales diferentes museos\, iglesias\, monasterios y ciudades tomando miles de fotografías (más de cuatro mil quinientas). El Museo del Prado\, la Colección Thyssen\, la Academia de Bellas Artes de San Fernando\, Granada\, Sevilla y Murcia… Fragmentos fotográficos de cuadros\, retablos\, murales de distintas etapas históricas que culminaron en el Barroco. Obras de autores consagrados\, otros menos conocidos y hasta algunos injustamente olvidados. \nEl binomio\, la dualidad\, la dialéctica ya presente en el título\, se despliega en diferentes ámbitos a lo largo\, ancho y alto no sólo del espacio arquitectónico (zona pública\, compuesta\, luminosa/espacio privado\, único\, oscuro). Pintura como materia\, como abstracción\, como expresión individual. Fotografía como registro de luz\, como figuración\, como comunicación social. \nLuz origen de la vida\, conocimiento\, iluminación ambiental y mística. Sangre continuidad de la vida\, pasión\, sacrificio y martirio. Los excesos del Barroco han sido el fértil caldo de cultivo sobre el que se han articulado todas y cada una de las partes de esta exposición. Siglo de Oro de innegables brillos y oscuras vergüenzas\, de opulencias y decadencias\, de reformas y contrarreformas\, de luz y sangre. \nJuan Bautista Peiro
URL:https://cicus.us.es/evento/deluzysangre05/
LOCATION:CICUS – EP1\, c/Madre de Dios 1-3\, Sevilla\, España
ATTACH;FMTTYPE=image/jpeg:https://cicus.us.es/wp-content/uploads/2023/11/evento1177b.jpg
END:VEVENT
BEGIN:VEVENT
DTSTART;TZID=Europe/Madrid:20231220T100000
DTEND;TZID=Europe/Madrid:20231222T100000
DTSTAMP:20260423T034556
CREATED:20231214T192204Z
LAST-MODIFIED:20231214T192426Z
UID:69093-1703066400-1703239200@cicus.us.es
SUMMARY:VISITAS EXTRAORDINARIAS AL PANTEÓN DE SEVILLANOS ILUSTRES (20\, 21 y 22 DICIEMBRE 2023)
DESCRIPTION:Fecha: 20\, 21 y 22 de diciembre\, 2023\nHora: de 10 a 13 h.\nLugar: Facultad de Bellas Artes (US). C/ Laraña s/n \nAcceso libre por Facultad de Bellas Artes\, con aforo limitado* \n* Estas visitas serán sin guía. \nCon motivo de la conmemoración del 153 aniversario del fallecimiento de Gustavo Adolfo Bécquer se organiza un ciclo de visitas extraordinarias al Panteón de Sevillanos Ilustres\, donde se hallan depositados los restos del poeta sevillano\, los días 20\, 21 y 22 de diciembre de 2023. \nAl unísono del nombre del proyecto Bécquer no era Bécquer\, también se han realizado dos ilustraciones en las que se muestran diferentes imágenes del poeta. Estas se ofrecerán como obsequio a los asistentes al acto conmemorativo por el fallecimiento de Bécquer. La autora es Angela Cano (instagram @angcandel). \n   \n 
URL:https://cicus.us.es/evento/visitaspanteondic2023/
LOCATION:Panteón de los Sevillanos Ilustres\, Facultad de Bellas Artes (US). C/ Laraña s/n\, Sevilla\, España
ATTACH;FMTTYPE=image/jpeg:https://cicus.us.es/wp-content/uploads/2023/12/evento1198.jpg
END:VEVENT
BEGIN:VEVENT
DTSTART;TZID=Europe/Madrid:20231220T190000
DTEND;TZID=Europe/Madrid:20231220T190000
DTSTAMP:20260423T034556
CREATED:20231120T222523Z
LAST-MODIFIED:20231212T224451Z
UID:68711-1703098800-1703098800@cicus.us.es
SUMMARY:CONCIERTO#2 OSC · TEMPORADA XIII
DESCRIPTION:PROGRAMACIÓN TEMPORADA XIII – OSC \nORQUESTA DE VIENTOS DE LA OSC US-CSM\nDiego Lagares Lepe · bombardino | Camilo Irizo · director \nObras de S. Brotons\, V. Thomson\, J. Curnow  \nFecha: miércoles 20 de diciembre\, 2023\nHora: 19 h.\nLugar: Auditorio Ciudad del Conocimiento (C/ Miguel Manaute Humanes s/n. Dos Hermanas)* \n* La Ciudad del Conocimiento se encuentra muy próxima a la Universidad de Loyola en Dos Hermanas. El centro dispone de un amplio parking. Si el desplazamiento se realizase en transporte público\, puede serle de utilidad el este enlace. \n· ADQUIRIR ENTRADAS: 3€\n· VER / DESCARGAR CARTEL \nTras el ampliamente aplaudido concierto inaugural de su XIII Temporada de Conciertos\, la OSC – Orquesta Sinfónica Conjunta de la Universidad de Sevilla-CSM Manuel Castillo – afronta el 20 de diciembre su segundo concierto de temporada con la sección de vientos como protagonista\, y lo hará en un nuevo escenario como es el de la Ciudad del Conocimiento en Dos Hermanas; con este encuentro la orquesta contribuye a la difusión de la música contemporánea\, ampliando ámbitos de actuación fuera de Sevilla capital. \nDos obras conmemorativas enmarcan este concierto A Solemn Music (1949) de Virgil Thomson\, compositor estadounidense que dedicó su partitura a la memoria de la escritora Gertrude Stein y del pintor Christian Bérard; y la Sinfonía n.º 7 “Ausiàs March” del español Salvador Brotons\, inspirada en la vida y obra del gran poeta renacentista valenciano Ausiàs March\, siendo ambas obras compuestas originalmente para orquesta de vientos y posteriormente orquestadas. Entre estas obras\, y concluyendo la primera parte del concierto\, las Variaciones Sinfónicas (1998) del también estadounidense J. Curnow\, obra brillante en cuatro movimientos en la que destacará muy especialmente el bombardino Diego Lagares como solista. Al frente de la orquesta se encontrará Camilo Irizo como director. \nPROGRAMA  \nI\nVirgil Thomson: A Solemn Music (1949)\nJames Curnow: Symphonic Variants para bombardino y banda (1984/1998) \nII\nSalvador Brotons: Sinfonía nº 7\n“Ausiàs March” (2018) \n  \n\nOSC – ORQUESTA SINFÓNICA CONJUNTA DE LA US-CSMS\nUn proyecto académico-artístico de la Universidad de Sevilla y el Conservatorio Superior de Música Manuel Castillo\n \nhttps://institucional.us.es/orquesta/\n \nEn 2011 la Universidad de Sevilla y el CSM Manuel Castillo pusieron en marcha un ambicioso proyecto académico y artístico con la creación de una orquesta sinfónica conjunta. Desde entonces\, han sido diferentes los escenarios de Sevilla donde ha actuado\, principalmente en el Auditorio de la ETS de Ingeniería de la Universidad de Sevilla\, pero también en el Teatro Lope de Vega – en una primera ocasión con la producción propia de la ópera Così fan tutte de Mozart\, realizada en colaboración con la Universidad de Música Fryderyk Chopin de Varsovia\, y en una segunda con el proyecto de ópera contemporánea Buscando al Rey. La voz de los Excluidos\, con dirección de escena de Michal Znaniecki\, y desarrollado en colaboración con el Instituto Polaco de Cultura\, ICAS y ASAO )\, Teatro de la Maestranza (en la producción de zarzuela Entre Sevilla y Triana de Sorozábal en 2013\, El Retablo de Maese Pedro de Falla en colaboración con la ESAD\, así como en el exitoso concierto The Bernstein Beat dentro de la programación de temporada de conciertos de la ROSS\, bajo la dirección de J. Axelrod)\, Patio de la Montería del Real Alcázar (igualmente bajo la dirección de J. Axelrod\, en un proyecto realizado en colaboración con la UNIA y el Alumnado de Máster en Interpretación Musical de la Fundación Barenboim-Said)\, Teatro Los Remedios de los Padres Blancos y salón de actos de la ETS de Arquitectura de la Universidad de Sevilla. Fuera de Sevilla capital\, cabe destacar sus actuaciones en Cádiz\, en el marco de las celebraciones del bicentenario de su Constitución\, así como en Granada en el marco del proyecto Atalaya\, Carmona\, Fuentes de Andalucía\, Mairena del Aljarafe o San José de la Rinconada. \nEl repertorio interpretado ha abarcado desde la música del clasicismo\, hasta obras contemporáneas de compositores americanos y europeos\, tales como F. Busoni\, A. Copland\, J. Adams\, A. Ginastera\, L. Brower\, B. Bartók\, A. Pärt\, A. Honegger\, P. Hindemith\, K. Weill\, D. Milhaud\, A. Webern\, H. Tomasi\, J. Sibelius\, A. Bruckner\, G. Mahler o los españoles C. Halffter\, C. Camarero\, M. Castillo\, J. A. Pedrosa\, J. Rodríguez Romero y A. Flores\, V. Estapé. También la música de cine ha estado presente con la interpretación de obras de B. Herrmann o L. Bernstein\, al tiempo que ha interpretado en estreno mundial Entreacto y luz magenta del Premio Nacional de Música César Camarero y Malva toda y oro de Víctor Estapé\, compositor y Director Académico del Conservatorio del Liceo de Barcelona. \nJuan García Rodríguez es el director titular de la orquesta desde su fundación\, mientras Camilo Irizo ha dirigido en numerosas ocasiones a la OSC de vientos\, al tiempo que han participado como directores invitados J. Axelrod\, J. M. Zarzycki\, W. Kurz y J. Rodríguez Romero. \nLa OSC es desde 2014 orquesta adscrita a la Red Europea de Orquestas Universitarias y desde 2017 forma parte de la Red de Formaciones Musicales Universitarias de Andalucía del Proyecto Atalaya. \nDiego Lagares Lepe · bombardino\nTitulado superior en el CSMS\, finaliza estudios de bombardino en 2022 con la calificación de sobresaliente. Ha recibido clases de David Llácer\, Sergio Carolino\, José Martínez\, Mauro Martín y Francisco Andrés de la Poza\, obteniendo en 2014 y 2017 el Primer premio del Concurso de Solistas del CPM Javier Perianes de Huelva en la modalidad A y B respectiva-mente. Ha colaborado con la OJA\, Banda Sinfónica Municipal de Sevilla y Banda Sinfónica Municipal de Huelva. Actualmente\, es profesor de la Escuela Municipal de Música de La Palma del Condado (Huelva). \nCamilo Irizo· director\nNatural de Pilas y músico fundador del ensemble Taller Sonoro de Sevilla\, ha actuado en numerosos festivales\, tocando en salas como la Musikverein de Viena\, Auditorio Nacional en Madrid\, Auditori y Palau de la Música de Barcelona\, Teatro Central y Teatro de la Maestranza de Sevilla. Tiene grabaciones con Radio Clásica\, Radio y Televisión Vasca (EITB)\, Radio CCE de Lima (Perú)\, Nordwest Radio de Bremen (Alemania) y ha grabado discos con Columna Música\, sello Anemos\, Fundación Autor-CDMC. Actualmente es catedrático del CSM Manuel Castillo y es artista Yamaha y de cañas Daddario. \n  \n\nActividad organizada por
URL:https://cicus.us.es/evento/oscxiii_concierto02/
LOCATION:Auditorio Ciudad del Conocimiento\, C/ Miguel Manaute Humanes s/n.\, Dos Hermanas)\, Sevilla\, España
ATTACH;FMTTYPE=image/jpeg:https://cicus.us.es/wp-content/uploads/2023/11/evento1175.jpg
END:VEVENT
BEGIN:VEVENT
DTSTART;TZID=Europe/Madrid:20231220T200000
DTEND;TZID=Europe/Madrid:20231220T200000
DTSTAMP:20260423T034556
CREATED:20231126T141448Z
LAST-MODIFIED:20231220T151200Z
UID:68875-1703102400-1703102400@cicus.us.es
SUMMARY:BÉCQUER INEVITABLE. JOSÉ VALENCIA
DESCRIPTION:CONCIERTO HOMENAJE A LAS RIMAS DE BÉCQUER \nFecha: miércoles 20 de diciembre de 2023\nHora: 20 h.\nLugar: Auditorio · CICUS (c/ Madre de Dios\, 1) \nAVISO IMPORTANTE\nSentimos comunicar que por motivos de salud\, María Terremoto no podrá acompañar a José Valencia y Juan Requena en el concierto \n· ADQUIRIR ENTRADAS: 5€ \nEl Centro de Iniciativas Culturales de la Universidad de Sevilla junto con José Valencia conmemora un acontecimiento singular y fundamental para la historia de la literatura española contemporánea: la pérdida y posterior reescritura de las Rimas del poeta Gustavo Adolfo Bécquer hace más de 150 años. El estallido de la Revolución conocida como «la Gloriosa»\, en septiembre de 1868\, que desembocó en el destronamiento de la reina Isabel II\, trajo consigo la desaparición del manuscrito original que contenía los versos del poeta. El asalto de la vivienda del ministro González Bravo\, a quien Bécquer le había entregado el texto para que lo prologara\, motivó su pérdida entre el tumulto. \nA partir de entonces\, Bécquer comenzaría la reescritura de muchos de los versos que contenía dicho manuscrito en otro que tituló Libro de los gorriones\, y que encabezaría la sección de las rimas como: «poesías que recuerdo del libro perdido». Un texto que\, editado por sus amigos tras su muerte\, se convirtió en el motor de la poesía española contemporánea\, y a él en el poeta más leído en esta lengua. Un homenaje que se ha creado para festejar su recuerdo y su obra\, siguiendo las huellas que nos dejó cuando escribió sobre los flamencos en El Museo Universal en 1869: «cantan lo hondo sin\nacompañamiento de guitarra\, graves y extasiados como sacerdotes de un culto abolido\, que se reúnen en el silencio de la noche a recordar la gloria de otros días y a cantar llorando» \nJOSÉ VALENCIA \nEl cantaor lebrijano se ha consagrado en la Bienal como el gran creador jondo de su\ngeneración.” (J.M Serrano\, ABC de Sevilla) \nJosé Valencia ejemplo de la vigencia del modelo de transmisión de las casas cantaoras gitanas del siglo XXI. En Lebrija están sus raíces familiares y su herencia cantaora\, pertenece a una larga y ancha estirpe flamenca que tiene también su derivación jerezana con nombres míticos como el de Juanichi el Manijero\, el tío Borrico o Los Parrilla de Jerez. \nSiendo apenas un niño ya cantaba por soleá y con tan solo 5 años se sube al escenario junto a figuras de la talla de Camarón\, Bernarda\, Manuel de Paula\, José Meneses o el Lebrijano\, entre otros. Pocos artistas han tenido un debut con tanta altura con una edad tan corta. \nCon trabajo y constancia\, ha ido ganándose a pulso el respeto del mundo del flamenco. Cuatro “GIRALDILLOS” le avalan. Mérito que ningún otro artista ha logrado\, siendo los galardones más importantes que se conceden en el mundo de lo jondo. Hay que añadir a su palmarés reconocimientos como la distinción Venencia Flamenca (otorgado por el festival de Mistela)\, premio al mejor cantaor de acompañamiento en el Festival de Jerez\, premio “Artista Revelación” en la Bienal de Sevilla\, en la XXV edición del Festival de Jerez vuelve a recibir el premio “Mejor cante de acompañamiento”\, etc. \nAdemás de sus propios espectáculos\, participa en el magno proyecto de “La pasión según Lorca” junto a Marina Heredia\, Eva Yerbabuena o Farruquito \nFICHA ARTÍSTICA\nJosé Valencia · Cante\nJuan Requena · Guitarra\nCon la colaboración especial de María Terremoto \nPROGRAMA\n· Mi vida es un erial\n· Dos rojas lenguas de fuego\n· Por una mirada un mundo\n· La alta torre\n· Cuando en la noche te envuelven\n· Porque son niña tus ojos\n· Volverán las oscuras golondrinas\n· Cerraron sus ojos \n 
URL:https://cicus.us.es/evento/becquerinevitable/
LOCATION:Cicus – Auditorio\, C/ Madre de Dios\, 1\, Sevilla\, España
ATTACH;FMTTYPE=image/jpeg:https://cicus.us.es/wp-content/uploads/2023/11/evento1191.jpg
END:VEVENT
END:VCALENDAR