BEGIN:VCALENDAR
VERSION:2.0
PRODID:-//CICUS · Centro de Iniciativas Culturales de la Universidad de Sevilla - ECPv6.15.20//NONSGML v1.0//EN
CALSCALE:GREGORIAN
METHOD:PUBLISH
X-WR-CALNAME:CICUS · Centro de Iniciativas Culturales de la Universidad de Sevilla
X-ORIGINAL-URL:https://cicus.us.es
X-WR-CALDESC:Eventos para CICUS · Centro de Iniciativas Culturales de la Universidad de Sevilla
REFRESH-INTERVAL;VALUE=DURATION:PT1H
X-Robots-Tag:noindex
X-PUBLISHED-TTL:PT1H
BEGIN:VTIMEZONE
TZID:Europe/Madrid
BEGIN:DAYLIGHT
TZOFFSETFROM:+0100
TZOFFSETTO:+0200
TZNAME:CEST
DTSTART:20220327T010000
END:DAYLIGHT
BEGIN:STANDARD
TZOFFSETFROM:+0200
TZOFFSETTO:+0100
TZNAME:CET
DTSTART:20221030T010000
END:STANDARD
BEGIN:DAYLIGHT
TZOFFSETFROM:+0100
TZOFFSETTO:+0200
TZNAME:CEST
DTSTART:20230326T010000
END:DAYLIGHT
BEGIN:STANDARD
TZOFFSETFROM:+0200
TZOFFSETTO:+0100
TZNAME:CET
DTSTART:20231029T010000
END:STANDARD
BEGIN:DAYLIGHT
TZOFFSETFROM:+0100
TZOFFSETTO:+0200
TZNAME:CEST
DTSTART:20240331T010000
END:DAYLIGHT
BEGIN:STANDARD
TZOFFSETFROM:+0200
TZOFFSETTO:+0100
TZNAME:CET
DTSTART:20241027T010000
END:STANDARD
END:VTIMEZONE
BEGIN:VEVENT
DTSTART;TZID=Europe/Madrid:20231211T110000
DTEND;TZID=Europe/Madrid:20231215T110000
DTSTAMP:20260422T205703
CREATED:20231106T222351Z
LAST-MODIFIED:20240108T194252Z
UID:68523-1702292400-1702638000@cicus.us.es
SUMMARY:EXPOSICIÓN · OMAR JANAAN. AMOR\, HUMOR Y DESAMOR
DESCRIPTION:Fecha: 30 de noviembre  de 2023 – 17 de enero de 2024\nHorario: De lunes a viernes\, de 11 a 20 h.\nHorario especial de Navidad: días 22\, 26\, 27 y 28 de diciembre de 2023\, y 2\, 3 y 4 de enero de 2024\, de 11 a 14 h\nLugar: Sala MDD · CICUS (C/ Madre de Dios\, 1) \n· ADQUIRIR INVITACIÓN \nEn esta exposición individual intitulada Amor\, humor y desamor -un título tomado prestado del libro de poemas de Gloria Fuertes con mismo título que publicó en 1980- el artista y humorista Omar Janaan (Marbella\, 1988) nos presenta una muestra de sus viñetuelas en piezas de dimensiones variables bajo la técnica de pintura acrílica en intervención mural directa\, en las que retrata bajo el prisma del humor negro observaciones y ocurrencias en tres ejes discursivos: \nAmor\nEl foco sobre el amor en toda su dimensión. La vida y sus motivos para vivir.\nAquello que es motor. Lo que sí es. Por aquí se empieza. \nHumor\nEl desajuste de la realidad. La sociedad distorsionada. Aquello que chirría y nos llama la atención. Yo frente al mundo. \nDesamor\nLa guerra. El fin de la pasión. La derrota. Lo que también es motor. El lado oscuro de las cosas. \nLa naturaleza de la obra parte de las vivencias de Omar Janaan como humorista. Su realidad es constantemente filtrada bajo el particular prisma del humor\, siempre bajo el leiv motiv que define el constante de la obra del artista y del que ha hecho su marca personal: Ríete de TODO. \nEstas piezas tienen una realización en línea sencilla y pop naif\, continuando la línea de investigación formal acostumbrada por Omar Janaan bajo la estela de artistas plásticos que tienen el humor entre sus orígenes y que trabajan el dibujo mural\, el arte marginal y el graffiti\, como son sus referentes Dan Perjovschi (Rumanía\, 1961); David Shrigley (Inglaterra\, 1968) o Monstruo Espagueti (España\, 1982). \nVIDEO SOBRE LA EXPOSICIÓN \n \n  \n\nOmar Janaan (Marbella\, 1988) \nHumorista\, artista transdisciplinar y pedagogo. \nConstantemente en formación\, su continuo interés por el humor en todas sus vertientes le ha llevado a un análisis teórico del medio en el que ha diseccionado esta importante faceta del ser humano y que ha aprovechado para poder plasmar en una obra en evolución. \nUtilizando el humor como eje troncal\, utiliza distintas disciplinas artísticas como el dibujo\, la narrativa\, la performance y lo escénico con las que elabora su discurso. Mantiene una continua labor de investigación del humor en todas sus expresiones y ha colaborado activamente con diversos artistas transdisciplinares siempre con un foco prioritario en las artes plásticas y escénicas. \nHa realizado numerosas exposiciones individuales y colectivas\, además de participar en la creación de propuestas culturales y escénicas para el ámbito público y privado. Entre sus trabajos más destacados se encuentran las instalaciones expositivas Amor\, humor y desamor (2023)\, España es una anomalía: 40 años de meneíllos y cosichuelas (2018) y ¡Viñetuelas! (2012). Además\, es creador de las producciones escénicas ¡Perrea! (Work in progress\, 2023)\, RAMÓN (2023)\, Ríete de TODO (2019) y La madre de Hitler (cocreación junto con Alberto Cortés\, 2017). \nActualmente mantiene su proyecto personal Ríete de TODO como humorista\, artista y pedagogo en el humor. \nMás información sobre su trayectoria y trabajo artístico: \n· www.omarjanaan.com\n· www.rietedetodo.es \n 
URL:https://cicus.us.es/evento/amorhumordesamor04/
LOCATION:CICUS – Sala MDD\, c/Madre de Dios 1-3\, Sevilla\, España
ATTACH;FMTTYPE=image/jpeg:https://cicus.us.es/wp-content/uploads/2023/10/evento1194.jpg
END:VEVENT
BEGIN:VEVENT
DTSTART;TZID=Europe/Madrid:20231211T110000
DTEND;TZID=Europe/Madrid:20231215T110000
DTSTAMP:20260422T205703
CREATED:20231122T230604Z
LAST-MODIFIED:20240108T193950Z
UID:68780-1702292400-1702638000@cicus.us.es
SUMMARY:EXPOSICIÓN · DE LUZ Y SANGRE. JUAN USLÉ
DESCRIPTION:Fecha: 1 de diciembre de 2023 – 25 de enero de 2024\nInauguración: viernes 1 de diciembre\, 20 h (precedida de una conversación entre Juan Uslé y Mira Bernabeu a las 19 h)\nHorario: de lunes a viernes\, de 11 a 20 h.\nHorario especial de Navidad: días 22\, 26\, 27 y 28 de diciembre de 2023\, y 2\, 3 y 4 de enero de 2024\, de 11 a 14 h\nLugar: Sala EP1 · CICUS (C/ Madre de Dios\, 1) \n· ADQUIRIR INVITACIÓN \nDe Luz y Sangre es el proyecto expositivo que el artista Juan Uslé (Santander\, 1954) presenta para esta ocasión. Pintor devoto de la abstracción (entendida como un empeño personal de reducir las cosas a su mínima esencia o noción)\, la pintura y la fotografía vuelven a ser sus instrumentos fundamentales. El eje vertebrador de esta muestra está constituido por pinturas de gran y pequeño formato y fotografías; bien integradas en contundentes polípticos que actualizan el concepto de retablo\, bien dispuestas en un diálogo tan silencioso como elocuente. \nPara la realización de este proyecto\, Uslé estuvo recorriendo durante pretéritas semanas estivales diferentes museos\, iglesias\, monasterios y ciudades tomando miles de fotografías (más de cuatro mil quinientas). El Museo del Prado\, la Colección Thyssen\, la Academia de Bellas Artes de San Fernando\, Granada\, Sevilla y Murcia… Fragmentos fotográficos de cuadros\, retablos\, murales de distintas etapas históricas que culminaron en el Barroco. Obras de autores consagrados\, otros menos conocidos y hasta algunos injustamente olvidados. \nEl binomio\, la dualidad\, la dialéctica ya presente en el título\, se despliega en diferentes ámbitos a lo largo\, ancho y alto no sólo del espacio arquitectónico (zona pública\, compuesta\, luminosa/espacio privado\, único\, oscuro). Pintura como materia\, como abstracción\, como expresión individual. Fotografía como registro de luz\, como figuración\, como comunicación social. \nLuz origen de la vida\, conocimiento\, iluminación ambiental y mística. Sangre continuidad de la vida\, pasión\, sacrificio y martirio. Los excesos del Barroco han sido el fértil caldo de cultivo sobre el que se han articulado todas y cada una de las partes de esta exposición. Siglo de Oro de innegables brillos y oscuras vergüenzas\, de opulencias y decadencias\, de reformas y contrarreformas\, de luz y sangre. \nJuan Bautista Peiro
URL:https://cicus.us.es/evento/deluzysangre04/
LOCATION:CICUS · Sala EP1\, c/Madre de Dios 1-3\, Sevilla\, España
ATTACH;FMTTYPE=image/jpeg:https://cicus.us.es/wp-content/uploads/2023/11/evento1177b.jpg
END:VEVENT
BEGIN:VEVENT
DTSTART;TZID=Europe/Madrid:20231211T190000
DTEND;TZID=Europe/Madrid:20231211T190000
DTSTAMP:20260422T205703
CREATED:20231122T223424Z
LAST-MODIFIED:20231126T143047Z
UID:68763-1702321200-1702321200@cicus.us.es
SUMMARY:FILMOTECA · CINE Y LITERATURA · LA MOSCA
DESCRIPTION:CICLO LITERATURA Y CINE. FRANZ KAFKA \nFecha: lunes 11 de diciembre de 2023\nHora: 19 h.\nLugar: CICUS · Auditorio (C/ Madre de Dios\, 1) \nADQUIRIR INVITACIÓN \nPROYECCIÓN + INTERVENCIÓN DE LA ESCRITORA ELISA VICTORIA  \nLA MOSCA\n(David Cronenberg\, Estados Unidos\, 1986\, 100 min) \nUn científico se utiliza a sí mismo como cobaya en la realización de un complejo experimento de teletransportación. La prueba es un éxito\, pero empieza a sufrir unos extraños cambios en su cuerpo. Al mismo tiempo\, descubre que dentro de la cápsula donde realizó el experimento con él se introdujo una mosca. \nPRESENTACIÓN A CARGO DE: \nELISA VICTORIA\nEstudió Filosofía y Magisterio Infantil. Ha publicado las novelas Voz de vieja (Blackie Books\, 2019)\, El Evangelio (Blackie Books 2021)\, Otaberra (Blackie Books\, 2023) y los libros El quicio (Bruguera\, 2021)\, Porn & Pains (Esto no es Berlín\, 2013) y La sombra de los pinos (Esto no es Berlín\, 2018). Su obra ha sido traducida a varios idiomas y reseñada en The New York Times\, The Guardian\, Granta o Babelia. Ha colaborado en multitud de medios como Kiwi\, La nueva carne\, Tentaciones\, El Salto\, Telva\, Verne\, Tribus Ocultas\, infoLibre\, Cáñamo o Vice. También ha participado en numerosos fanzines\, antologías\, foto libros\, obras teatrales\, conferencias y talleres de escritura creativa. \n  \n\nActividad realizada en colaboración la Filmoteca de Andalucía y el Centro Andaluz de las Letras. \n \n  \n 
URL:https://cicus.us.es/evento/lamosca/
LOCATION:CICUS · Auditorio\, c/Madre de Dios 1-3\, Sevilla\, España
ATTACH;FMTTYPE=image/jpeg:https://cicus.us.es/wp-content/uploads/2023/11/evento1181.jpg
END:VEVENT
BEGIN:VEVENT
DTSTART;TZID=Europe/Madrid:20231211T190000
DTEND;TZID=Europe/Madrid:20231211T190000
DTSTAMP:20260422T205703
CREATED:20231123T001908Z
LAST-MODIFIED:20231123T175406Z
UID:68813-1702321200-1702321200@cicus.us.es
SUMMARY:PRESENTACIÓN DEL LIBRO «EN TORNO A LAS MURALLAS DE SEVILLA»\, DEL PROFESOR ESTEBAN MORENO
DESCRIPTION:Fecha: lunes 11 de diciembre de 2023\nHora:  19 h.\nLugar: Sala Casajús · CICUS (c/ Madre de Dios\,1)\nIntervienen: Esteban Moreno (historiador y escritor)\, Juan Luis Ravé Prieto (historiador del Arte y correspondiente por Marchena en la Real Academia de Bellas Artes de Santa Isabel de Hungría) y el editor de El Paseo David González Romero \nADQUIRIR INVITACIONES \nSINOPSIS\nLas murallas de cualquier ciudad europea en el Antiguo Régimen tenían\, entre otros valores\, un fuerte carácter simbólico\, indispensable para entender el propio concepto como ciudad desde la aparición de los primeros núcleos urbanos. Hoy la propia denominación de «casco antiguo» remite a ese carácter sin las connotaciones de épocas remotas\, pero sí como fuerte marca histórica\, demográfica\, psico geográfica\, económica\, turística… Sevilla contiene uno de los centros históricos amurallados de mayor superficie del mundo y dibuja ese tipo de contorno urbano con los restos de sus puertas y murallas\, tanto los visibles como los más recónditos\, dejando un poso que explica el recorrido y morfología de la ciudad actual. \nSOBRE EL AUTOR \nEsteban Moreno. Nacido en Valencia en 1956\, pero de residencia sevillana desde su primera infancia\, ha sido profesor de Enseñanza Secundaria y posteriormente Catedrático de Geografía e Historia desde el año 2000 hasta su jubilación. En el año 1998 participó en la fundación de la Asociación de Profesores para la Difusión y Protección del Patrimonio «Ben Baso»\, desde donde continúa realizando una sostenida labor sobre patrimonio histórico. En el año 2021 redactó el capítulo\, «Triana: apuntes para la historia de un barrio alfarero»\, en la obra Guillermo Moreno y la cerámica de Triana\, de Ana M.ª Moreno Fernández (2021). Posee una amplia experiencia en su especialidad\, fruto de la cual es la publicación de libros de texto y materiales didácticos\, siendo este su primer libro de divulgación sobre el patrimonio sevillano. \n  \n\nEn colaboración con El Paseo Editorial
URL:https://cicus.us.es/evento/murallasdesevilla/
LOCATION:CICUS · Sala Casajús\, c/Madre de Dios 1\, Sevilla\, 41004\, España
ATTACH;FMTTYPE=image/jpeg:https://cicus.us.es/wp-content/uploads/2023/11/evento1185.jpg
END:VEVENT
END:VCALENDAR