BEGIN:VCALENDAR
VERSION:2.0
PRODID:-//CICUS · Centro de Iniciativas Culturales de la Universidad de Sevilla - ECPv6.15.20//NONSGML v1.0//EN
CALSCALE:GREGORIAN
METHOD:PUBLISH
X-WR-CALNAME:CICUS · Centro de Iniciativas Culturales de la Universidad de Sevilla
X-ORIGINAL-URL:https://cicus.us.es
X-WR-CALDESC:Eventos para CICUS · Centro de Iniciativas Culturales de la Universidad de Sevilla
REFRESH-INTERVAL;VALUE=DURATION:PT1H
X-Robots-Tag:noindex
X-PUBLISHED-TTL:PT1H
BEGIN:VTIMEZONE
TZID:Europe/Madrid
BEGIN:DAYLIGHT
TZOFFSETFROM:+0100
TZOFFSETTO:+0200
TZNAME:CEST
DTSTART:20220327T010000
END:DAYLIGHT
BEGIN:STANDARD
TZOFFSETFROM:+0200
TZOFFSETTO:+0100
TZNAME:CET
DTSTART:20221030T010000
END:STANDARD
BEGIN:DAYLIGHT
TZOFFSETFROM:+0100
TZOFFSETTO:+0200
TZNAME:CEST
DTSTART:20230326T010000
END:DAYLIGHT
BEGIN:STANDARD
TZOFFSETFROM:+0200
TZOFFSETTO:+0100
TZNAME:CET
DTSTART:20231029T010000
END:STANDARD
BEGIN:DAYLIGHT
TZOFFSETFROM:+0100
TZOFFSETTO:+0200
TZNAME:CEST
DTSTART:20240331T010000
END:DAYLIGHT
BEGIN:STANDARD
TZOFFSETFROM:+0200
TZOFFSETTO:+0100
TZNAME:CET
DTSTART:20241027T010000
END:STANDARD
END:VTIMEZONE
BEGIN:VEVENT
DTSTART;TZID=Europe/Madrid:20231130T110000
DTEND;TZID=Europe/Madrid:20231201T110000
DTSTAMP:20260424T022315
CREATED:20231106T222332Z
LAST-MODIFIED:20240108T194254Z
UID:68520-1701342000-1701428400@cicus.us.es
SUMMARY:EXPOSICIÓN · OMAR JANAAN. AMOR\, HUMOR Y DESAMOR
DESCRIPTION:Fecha: 30 de noviembre  de 2023 – 17 de enero de 2024\nHorario: De lunes a viernes\, de 11 a 20 h.\nHorario especial de Navidad: días 22\, 26\, 27 y 28 de diciembre de 2023\, y 2\, 3 y 4 de enero de 2024\, de 11 a 14 h\nLugar: Sala MDD · CICUS (C/ Madre de Dios\, 1) \n· ADQUIRIR INVITACIÓN \nEn esta exposición individual intitulada Amor\, humor y desamor -un título tomado prestado del libro de poemas de Gloria Fuertes con mismo título que publicó en 1980- el artista y humorista Omar Janaan (Marbella\, 1988) nos presenta una muestra de sus viñetuelas en piezas de dimensiones variables bajo la técnica de pintura acrílica en intervención mural directa\, en las que retrata bajo el prisma del humor negro observaciones y ocurrencias en tres ejes discursivos: \nAmor\nEl foco sobre el amor en toda su dimensión. La vida y sus motivos para vivir.\nAquello que es motor. Lo que sí es. Por aquí se empieza. \nHumor\nEl desajuste de la realidad. La sociedad distorsionada. Aquello que chirría y nos llama la atención. Yo frente al mundo. \nDesamor\nLa guerra. El fin de la pasión. La derrota. Lo que también es motor. El lado oscuro de las cosas. \nLa naturaleza de la obra parte de las vivencias de Omar Janaan como humorista. Su realidad es constantemente filtrada bajo el particular prisma del humor\, siempre bajo el leiv motiv que define el constante de la obra del artista y del que ha hecho su marca personal: Ríete de TODO. \nEstas piezas tienen una realización en línea sencilla y pop naif\, continuando la línea de investigación formal acostumbrada por Omar Janaan bajo la estela de artistas plásticos que tienen el humor entre sus orígenes y que trabajan el dibujo mural\, el arte marginal y el graffiti\, como son sus referentes Dan Perjovschi (Rumanía\, 1961); David Shrigley (Inglaterra\, 1968) o Monstruo Espagueti (España\, 1982). \nVIDEO SOBRE LA EXPOSICIÓN \n \n  \n\nOmar Janaan (Marbella\, 1988) \nHumorista\, artista transdisciplinar y pedagogo. \nConstantemente en formación\, su continuo interés por el humor en todas sus vertientes le ha llevado a un análisis teórico del medio en el que ha diseccionado esta importante faceta del ser humano y que ha aprovechado para poder plasmar en una obra en evolución. \nUtilizando el humor como eje troncal\, utiliza distintas disciplinas artísticas como el dibujo\, la narrativa\, la performance y lo escénico con las que elabora su discurso. Mantiene una continua labor de investigación del humor en todas sus expresiones y ha colaborado activamente con diversos artistas transdisciplinares siempre con un foco prioritario en las artes plásticas y escénicas. \nHa realizado numerosas exposiciones individuales y colectivas\, además de participar en la creación de propuestas culturales y escénicas para el ámbito público y privado. Entre sus trabajos más destacados se encuentran las instalaciones expositivas Amor\, humor y desamor (2023)\, España es una anomalía: 40 años de meneíllos y cosichuelas (2018) y ¡Viñetuelas! (2012). Además\, es creador de las producciones escénicas ¡Perrea! (Work in progress\, 2023)\, RAMÓN (2023)\, Ríete de TODO (2019) y La madre de Hitler (cocreación junto con Alberto Cortés\, 2017). \nActualmente mantiene su proyecto personal Ríete de TODO como humorista\, artista y pedagogo en el humor. \nMás información sobre su trayectoria y trabajo artístico: \n· www.omarjanaan.com\n· www.rietedetodo.es \n 
URL:https://cicus.us.es/evento/amorhumordesamor01/
LOCATION:CICUS – Sala MDD\, c/Madre de Dios 1-3\, Sevilla\, España
ATTACH;FMTTYPE=image/jpeg:https://cicus.us.es/wp-content/uploads/2023/10/evento1194.jpg
END:VEVENT
BEGIN:VEVENT
DTSTART;TZID=Europe/Madrid:20231130T200000
DTEND;TZID=Europe/Madrid:20231130T200000
DTSTAMP:20260424T022315
CREATED:20231019T204707Z
LAST-MODIFIED:20231029T221622Z
UID:68220-1701374400-1701374400@cicus.us.es
SUMMARY:ESTRÉNATE · “RAÍZ” con CHEY JURADO.
DESCRIPTION:CICLO ESTRÉNATE 2023 \nFecha: Jueves 30 de noviembre 2023\nHora: 20 h.\nLugar: Auditorio · CICUS \nADQUIRIR ENTRADAS: 5 € \n“RAÍZ” con CHEY JURADO \nSINOPSIS:\n \nDonde comienza mi confort\, acaba mi libertad. Acoger vicios para tener identidad es lo que hago. \nAlgo me sirve y me siento mejor. Apacigua el dolor\, entonces comienzo a repetirlo y repetirlo hasta que me descubren y no puedo ocultarlo. Ahora duele aún más\, quizás debería dejarlo pasar y ceñirme a repetir otra vez… \n\nFICHA ARTÍSTICA: \nCreación e interpretación: Chey Jurado\nAsesor creativo/Iluminación: Fernando Careaga\nDistribución: Patty Hinchado\nMúsica: Love Theme\, Apparat\, Origin of the World\, Erik Truffaz\nFotografía: Ángel Garcés \nDuración: 20 minutos \n  \n\nTEASER
URL:https://cicus.us.es/evento/estrenate2023_19/
LOCATION:CICUS – Auditorio\, c/Madre de Dios 1-3\, Sevilla\, España
ATTACH;FMTTYPE=image/jpeg:https://cicus.us.es/wp-content/uploads/2023/10/evento1149.jpg
END:VEVENT
END:VCALENDAR