BEGIN:VCALENDAR
VERSION:2.0
PRODID:-//CICUS · Centro de Iniciativas Culturales de la Universidad de Sevilla - ECPv6.15.20//NONSGML v1.0//EN
CALSCALE:GREGORIAN
METHOD:PUBLISH
X-WR-CALNAME:CICUS · Centro de Iniciativas Culturales de la Universidad de Sevilla
X-ORIGINAL-URL:https://cicus.us.es
X-WR-CALDESC:Eventos para CICUS · Centro de Iniciativas Culturales de la Universidad de Sevilla
REFRESH-INTERVAL;VALUE=DURATION:PT1H
X-Robots-Tag:noindex
X-PUBLISHED-TTL:PT1H
BEGIN:VTIMEZONE
TZID:Europe/Madrid
BEGIN:DAYLIGHT
TZOFFSETFROM:+0100
TZOFFSETTO:+0200
TZNAME:CEST
DTSTART:20220327T010000
END:DAYLIGHT
BEGIN:STANDARD
TZOFFSETFROM:+0200
TZOFFSETTO:+0100
TZNAME:CET
DTSTART:20221030T010000
END:STANDARD
BEGIN:DAYLIGHT
TZOFFSETFROM:+0100
TZOFFSETTO:+0200
TZNAME:CEST
DTSTART:20230326T010000
END:DAYLIGHT
BEGIN:STANDARD
TZOFFSETFROM:+0200
TZOFFSETTO:+0100
TZNAME:CET
DTSTART:20231029T010000
END:STANDARD
BEGIN:DAYLIGHT
TZOFFSETFROM:+0100
TZOFFSETTO:+0200
TZNAME:CEST
DTSTART:20240331T010000
END:DAYLIGHT
BEGIN:STANDARD
TZOFFSETFROM:+0200
TZOFFSETTO:+0100
TZNAME:CET
DTSTART:20241027T010000
END:STANDARD
END:VTIMEZONE
BEGIN:VEVENT
DTSTART;TZID=Europe/Madrid:20231113T110000
DTEND;TZID=Europe/Madrid:20231117T110000
DTSTAMP:20260425T125300
CREATED:20230924T193215Z
LAST-MODIFIED:20231016T134536Z
UID:66677-1699873200-1700218800@cicus.us.es
SUMMARY:EXPOSICIÓN · 1624. LA SEVILLA DE VELÁZQUEZ
DESCRIPTION:Fecha: 18 de octubre – 17 de noviembre de 2023\nInauguración: miércoles 18 de octubre de 2023\, a las 20 h.\nHorario: De lunes a viernes\, de 11 a 20 h.\nLugar: Sala MDD · CICUS (C/ Madre de Dios\, 1) \n· ADQUIRIR INVITACIÓN \nA comienzos del siglo XVII\, Sevilla se ha convertido gracias al comercio con las Indias en una de las ciudades más populosas y ricas del planeta. En ella nace y vivirá durante 24 años uno de los mayores genios de la pintura de todos los tiempos: Diego Velázquez. \nDescubre a través de las ilustraciones de Arturo Redondo una espectacular visión al detalle de la ciudad del pintor sevillano. Un viaje en el tiempo para ver el río surcado de galeones de indias\, sus puertas y murallas\, iglesias\, palacios\, alamedas y conventos. \nUna panorámica a vista de pájaro que te transportará a esta Sevilla\, “bellísima por su riqueza\, grandeza y majestad” en la fecha histórica de 1624\, cuando finalmente Diego Velázquez\, “el sevillano”\, parte definitivamente para ingresar como pintor de cámara en la corte del rey Felipe IV. \nRecorre las calles por donde jugó y creció\, los lugares donde formó su carácter y adquirió la maestría del oficio y disfruta de este “infierno soñado” donde forjó para siempre su mirada de artista.
URL:https://cicus.us.es/evento/exposicion-%c2%b7-1624-la-sevilla-de-velazquez/
LOCATION:CICUS – Sala MDD\, c/Madre de Dios 1-3\, Sevilla\, España
ATTACH;FMTTYPE=image/jpeg:https://cicus.us.es/wp-content/uploads/2023/09/evento1124.jpg
END:VEVENT
BEGIN:VEVENT
DTSTART;TZID=Europe/Madrid:20231113T110000
DTEND;TZID=Europe/Madrid:20231117T110000
DTSTAMP:20260425T125300
CREATED:20231110T112410Z
LAST-MODIFIED:20231114T151729Z
UID:68569-1699873200-1700218800@cicus.us.es
SUMMARY:EXPOSICIÓN · PATRIMONIO RESTAURADO DE LA UNIVERSIDAD DE SEVILLA. RELICARIOS
DESCRIPTION:Fecha: 27 de septiembre – 24 de noviembre de 2023\nInauguración: miércoles 27 de septiembre\, a las 19 h.\nHorario: De lunes a viernes\, de 11 a 20 h.\nLugar: Sala EP1 · CICUS (C/ Madre de Dios\, 1) \nPRORROGADA HASTA EL 24 DE NOVIEMBRE DE 2023 \n· ADQUIRIR INVITACIÓN\n· VER CARTEL \nLa exposición muestra los resultados de la restauración realizada al conjunto de bustos-relicario que forma parte del legado jesuita atesorado por la Universidad de Sevilla. Este excepcional grupo de diez imágenes escultóricas\, que representan a diversos santos\, fue ejecutado en el tránsito del siglo XVI al XVII para la iglesia de la Casa Profesa de la Compañía de Jesús\, la actual iglesia de la Anunciación. \nCon esta muestra continuamos nuestro compromiso de mostrar periódicamente piezas recuperadas de nuestra reserva patrimonial con el fin de dar a conocer el pasado artístico\, científico y pedagógico conservado en nuestra universidad. Se trata una vez más de dejar constancia del continuo compromiso de la Universidad con el legado heredado. Por una parte\, somos así fieles a la vocación universitaria de transferencia de conocimiento a la sociedad\, y al mismo tiempo cumplimos con nuestra labor institucional de proteger\, conservar y difundir el patrimonio de nuestra institución\, que ya cuenta con más de cinco siglos de historia.
URL:https://cicus.us.es/evento/exposicion-%c2%b7-patrimonio-restaurado-de-la-universidad-de-sevilla-relicarios-2/
LOCATION:CICUS · Sala EP1\, c/Madre de Dios 1-3\, Sevilla\, España
ATTACH;FMTTYPE=image/jpeg:https://cicus.us.es/wp-content/uploads/2023/07/evento1089b.jpg
END:VEVENT
BEGIN:VEVENT
DTSTART;TZID=Europe/Madrid:20231116T190000
DTEND;TZID=Europe/Madrid:20231116T190000
DTSTAMP:20260425T125300
CREATED:20231024T183528Z
LAST-MODIFIED:20231029T215850Z
UID:68334-1700161200-1700161200@cicus.us.es
SUMMARY:ENCUENTRO CON ÁNGELES CASO: SOBRE MUJERES OLVIDADAS
DESCRIPTION:Fecha: jueves 16 de noviembre de 2023\nHora: 19 h.\nLugar: CICUS. Sala EP2 (c/ Madre de Dios\, 1)\nIntervienen: Ángeles Caso y Charo Ramos \nADQUIRIR INVITACIONES \nEl Centro Andaluz de las Letras organiza un encuentro con la escritora Ángeles Caso sobre “Mujeres olvidadas”\, en conversación con la periodista cultural Charo Ramos\, con motivo de la publicación de Las desheredadas de Á. Caso (Ed. Lumen). \nHace casi dos décadas Ángeles Caso iniciaba con Las olvidadas un proyecto único: la reconstrucción de una genealogía cultural femenina formada por todas las mujeres que rompieron con lo que la sociedad pretendía imponerles y se atrevieron a vivir a contracorriente\, a crear y pensar un mundo mejor\, aunque solo recibieran a cambio el desprecio de la crítica y el canon. \nLas desheredadas aborda los siglos XVIII y XIX\, una época crucial en la historia de Occidente\, germen de la que vivimos hoy. Es el tiempo de pintoras como Élisabeth Vigée Le Brun o Adélaïde Labille-Guiard; de las ilustradas lady Mary Montagu o la duquesa de Osuna; de científicas como la marquesa de Châtelet y Ada Lovelace; de las revolucionarias traicionadas como Olympe de Gouges y Mary Wollstonecraft; de escritoras como Mary Shelley\, las Brontë o Emilia Pardo Bazán; de las primeras feministas como Flora Tristán\, Concepción Arenal o Rosario de Acuña; de las impresionistas como Berthe Morisot o Camille Claudel… Se dedicaron a las artes\, al pensamiento\, lucharon por la libertad y los derechos de los más desfavorecidos\, pero la burguesía ilustrada y liberal acabó imponiendo el relato oficial. Y en él no hubo cabida para ellas. De ese rechazo nacería el feminismo\, que iniciaba entonces su carrera imparable. \nÁngeles Caso funde géneros literarios y nos entrega una obra emocionante\, reivindicativa y profundamente rigurosa sobre las heroínas que osaron alzar la voz y la cabeza. Este libro ilumina por un momento las vidas de algunas de ellas para que nos permitan sentir el deseo de iluminar las de las demás. \n  \n\nANGELES CASO.Licenciada en Historia del Arte y considerada «una escritora magnífica. Escribir no es ponerse a contar cosas. Ella no se pone a contar cosas. Crea un mundo» (Ana María Matute). Entre su obra narrativa destacan: Elisabeth\, emperatriz de Austria-Hungría o el hada maldita; El peso de las sombras (finalista del Premio Planeta 1994); El mundo visto desde el cielo y El resto de la vida. Un largo silencio (Premio Fernando Lara 2000) se ha convertido en un hito en las novelas para la recuperación de la memoria histórica\, con numerosas ediciones. Ha escrito también las biografías Elisabeth de Austria- Hungría: álbum privado y Giuseppe Verdi. La intensa vida de un genio\, así como los ensayos Las olvidadas. Una historia de mujeres creadoras y Las casas de los poetas muertos. Su obra se completa con cuentos infantiles\, guiones de cine y traducciones. Contra el viento\, Premio Planeta 2009\, ha sido traducida a diez idiomas (holandés\, italiano\, chino\, rumano\, serbio\, esloveno\, francés\, polaco\, ruso y turco) y galardonada con el Premio a la mejor novela extranjera en China. Colabora en la Cadena Ser\, en RNE y en La Vanguardia. Su último ensayo\, Las desheredadas\, ha sido publicado por Lumen en 2023. \nCHARO RAMOS. Atesora 30 años de experiencia en periodismo cultural y comunicación corporativa. Asesora artística de coleccionistas y fundaciones\, es docente en talleres y seminarios de periodismo cultural. Fue la coordinadora del catálogo Chaves Nogales. Cuadernos y lugares. Para acercar su figura a nuevas generaciones de lectores\, el catálogo reúne a grandes firmas que abordan su producción desde distintos ángulos\, junto al estudio preliminar elaborado por Charo Ramos\, y comisaria de la exposición ‘Cuaderno y lugares’. \n  \n\nActividad organizada en colaboración con Centro Andaluz de las Letras \n \n \n 
URL:https://cicus.us.es/evento/lasdeheredadas/
LOCATION:CICUS – EP2\, c/Madre de Dios 1-3\, Sevilla\, España
ATTACH;FMTTYPE=image/jpeg:https://cicus.us.es/wp-content/uploads/2023/10/evento1159B.jpg
END:VEVENT
BEGIN:VEVENT
DTSTART;TZID=Europe/Madrid:20231116T190000
DTEND;TZID=Europe/Madrid:20231116T190000
DTSTAMP:20260425T125300
CREATED:20231113T114625Z
LAST-MODIFIED:20231113T114807Z
UID:68602-1700161200-1700161200@cicus.us.es
SUMMARY:Mesa redonda. De Magallanes a Velázquez. 1519-1624. Historia de una ciudad en dibujos
DESCRIPTION:Fecha: Jueves 16 de noviembre de 2023\nHora: 19 h.\nLugar: Sala Casajús · CICUS (C/Madre de Dios nº 1)\nIntervienen: Arturo Redondo\, Paco Cerrejón y Luis Méndez \nADQUIRIR INVITACIÓN
URL:https://cicus.us.es/evento/demagallanesavelazquez/
LOCATION:CICUS · Sala Casajús\, c/Madre de Dios 1\, Sevilla\, 41004\, España
ATTACH;FMTTYPE=image/jpeg:https://cicus.us.es/wp-content/uploads/2023/11/evento1171.jpg
END:VEVENT
BEGIN:VEVENT
DTSTART;TZID=Europe/Madrid:20231116T200000
DTEND;TZID=Europe/Madrid:20231116T200000
DTSTAMP:20260425T125300
CREATED:20231019T203601Z
LAST-MODIFIED:20231029T215545Z
UID:68211-1700164800-1700164800@cicus.us.es
SUMMARY:ESTRÉNATE · “ITALIANESES”. RICCARDO RIGAMONTI-NADADELIRIOS
DESCRIPTION:CICLO ESTRÉNATE 2023 \nFecha: Jueves 16 de noviembre 2023\nHora: 20 h.\nLugar: Auditorio · CICUS \nADQUIRIR ENTRADAS: 5 € \n“ITALIANESES”. RICCARDO RIGAMONTI-NADADELIRIOS \nSINOPSIS:\n \nEl espectáculo ITALIANESES cuenta en primera persona la historia de Tonino Cantisani nace en un campo en 1951. De padre calabrés y madre albanesa\, vive en el campo durante cuarenta años creyendo en un padre y en un Italia de cuento. En 1991 llega a Italia tras la caída del régimen y la realidad no coincide con lo que se había imaginado. Con un tono ligero\, poético\, con una mirada cándida\, Tonino nos cuenta su pasión por las telas\, su amor para una chica en el campo\, su reclusión y la de su madre\, su reencuentro con el padre. \n  \n\nFICHA ARTÍSTICA Y TÉCNICA: \nTexto: Saverio La Ruina\nTraducción al castellano: Juan Pérez Andrés\nInterpretación: RiccardoRigamonti\nDirección y espacio escenico: Maria Gómez De Castro y RiccardoRigamonti\nVestuario: NadaDeLirios\nAyudante de dirección: Sara Martinez\nDiseño de iluminación: FelixGontan\nPrensa y comunicación: Manuel Benito\nProducción ejecutiva: Magdalena Tapia Valdés\nDuración: \nDuración: 80 min aprox. \nWEB: https://riccardo-rigamonti.com/nadadelirios-teatro \n  \n\nVÍDEO PROMOCIONAL \n \n 
URL:https://cicus.us.es/evento/estrenate2023_18/
LOCATION:CICUS – Auditorio\, c/Madre de Dios 1-3\, Sevilla\, España
ATTACH;FMTTYPE=image/jpeg:https://cicus.us.es/wp-content/uploads/2023/10/evento1148.jpg
END:VEVENT
END:VCALENDAR