BEGIN:VCALENDAR
VERSION:2.0
PRODID:-//CICUS · Centro de Iniciativas Culturales de la Universidad de Sevilla - ECPv6.15.20//NONSGML v1.0//EN
CALSCALE:GREGORIAN
METHOD:PUBLISH
X-WR-CALNAME:CICUS · Centro de Iniciativas Culturales de la Universidad de Sevilla
X-ORIGINAL-URL:https://cicus.us.es
X-WR-CALDESC:Eventos para CICUS · Centro de Iniciativas Culturales de la Universidad de Sevilla
REFRESH-INTERVAL;VALUE=DURATION:PT1H
X-Robots-Tag:noindex
X-PUBLISHED-TTL:PT1H
BEGIN:VTIMEZONE
TZID:Europe/Madrid
BEGIN:DAYLIGHT
TZOFFSETFROM:+0100
TZOFFSETTO:+0200
TZNAME:CEST
DTSTART:20220327T010000
END:DAYLIGHT
BEGIN:STANDARD
TZOFFSETFROM:+0200
TZOFFSETTO:+0100
TZNAME:CET
DTSTART:20221030T010000
END:STANDARD
BEGIN:DAYLIGHT
TZOFFSETFROM:+0100
TZOFFSETTO:+0200
TZNAME:CEST
DTSTART:20230326T010000
END:DAYLIGHT
BEGIN:STANDARD
TZOFFSETFROM:+0200
TZOFFSETTO:+0100
TZNAME:CET
DTSTART:20231029T010000
END:STANDARD
BEGIN:DAYLIGHT
TZOFFSETFROM:+0100
TZOFFSETTO:+0200
TZNAME:CEST
DTSTART:20240331T010000
END:DAYLIGHT
BEGIN:STANDARD
TZOFFSETFROM:+0200
TZOFFSETTO:+0100
TZNAME:CET
DTSTART:20241027T010000
END:STANDARD
END:VTIMEZONE
BEGIN:VEVENT
DTSTART;TZID=Europe/Madrid:20231113T110000
DTEND;TZID=Europe/Madrid:20231117T110000
DTSTAMP:20260425T125306
CREATED:20230924T193215Z
LAST-MODIFIED:20231016T134536Z
UID:66677-1699873200-1700218800@cicus.us.es
SUMMARY:EXPOSICIÓN · 1624. LA SEVILLA DE VELÁZQUEZ
DESCRIPTION:Fecha: 18 de octubre – 17 de noviembre de 2023\nInauguración: miércoles 18 de octubre de 2023\, a las 20 h.\nHorario: De lunes a viernes\, de 11 a 20 h.\nLugar: Sala MDD · CICUS (C/ Madre de Dios\, 1) \n· ADQUIRIR INVITACIÓN \nA comienzos del siglo XVII\, Sevilla se ha convertido gracias al comercio con las Indias en una de las ciudades más populosas y ricas del planeta. En ella nace y vivirá durante 24 años uno de los mayores genios de la pintura de todos los tiempos: Diego Velázquez. \nDescubre a través de las ilustraciones de Arturo Redondo una espectacular visión al detalle de la ciudad del pintor sevillano. Un viaje en el tiempo para ver el río surcado de galeones de indias\, sus puertas y murallas\, iglesias\, palacios\, alamedas y conventos. \nUna panorámica a vista de pájaro que te transportará a esta Sevilla\, “bellísima por su riqueza\, grandeza y majestad” en la fecha histórica de 1624\, cuando finalmente Diego Velázquez\, “el sevillano”\, parte definitivamente para ingresar como pintor de cámara en la corte del rey Felipe IV. \nRecorre las calles por donde jugó y creció\, los lugares donde formó su carácter y adquirió la maestría del oficio y disfruta de este “infierno soñado” donde forjó para siempre su mirada de artista.
URL:https://cicus.us.es/evento/exposicion-%c2%b7-1624-la-sevilla-de-velazquez/
LOCATION:CICUS – Sala MDD\, c/Madre de Dios 1-3\, Sevilla\, España
ATTACH;FMTTYPE=image/jpeg:https://cicus.us.es/wp-content/uploads/2023/09/evento1124.jpg
END:VEVENT
BEGIN:VEVENT
DTSTART;TZID=Europe/Madrid:20231113T110000
DTEND;TZID=Europe/Madrid:20231117T110000
DTSTAMP:20260425T125306
CREATED:20231110T112410Z
LAST-MODIFIED:20231114T151729Z
UID:68569-1699873200-1700218800@cicus.us.es
SUMMARY:EXPOSICIÓN · PATRIMONIO RESTAURADO DE LA UNIVERSIDAD DE SEVILLA. RELICARIOS
DESCRIPTION:Fecha: 27 de septiembre – 24 de noviembre de 2023\nInauguración: miércoles 27 de septiembre\, a las 19 h.\nHorario: De lunes a viernes\, de 11 a 20 h.\nLugar: Sala EP1 · CICUS (C/ Madre de Dios\, 1) \nPRORROGADA HASTA EL 24 DE NOVIEMBRE DE 2023 \n· ADQUIRIR INVITACIÓN\n· VER CARTEL \nLa exposición muestra los resultados de la restauración realizada al conjunto de bustos-relicario que forma parte del legado jesuita atesorado por la Universidad de Sevilla. Este excepcional grupo de diez imágenes escultóricas\, que representan a diversos santos\, fue ejecutado en el tránsito del siglo XVI al XVII para la iglesia de la Casa Profesa de la Compañía de Jesús\, la actual iglesia de la Anunciación. \nCon esta muestra continuamos nuestro compromiso de mostrar periódicamente piezas recuperadas de nuestra reserva patrimonial con el fin de dar a conocer el pasado artístico\, científico y pedagógico conservado en nuestra universidad. Se trata una vez más de dejar constancia del continuo compromiso de la Universidad con el legado heredado. Por una parte\, somos así fieles a la vocación universitaria de transferencia de conocimiento a la sociedad\, y al mismo tiempo cumplimos con nuestra labor institucional de proteger\, conservar y difundir el patrimonio de nuestra institución\, que ya cuenta con más de cinco siglos de historia.
URL:https://cicus.us.es/evento/exposicion-%c2%b7-patrimonio-restaurado-de-la-universidad-de-sevilla-relicarios-2/
LOCATION:CICUS · Sala EP1\, c/Madre de Dios 1-3\, Sevilla\, España
ATTACH;FMTTYPE=image/jpeg:https://cicus.us.es/wp-content/uploads/2023/07/evento1089b.jpg
END:VEVENT
BEGIN:VEVENT
DTSTART;TZID=Europe/Madrid:20231114T190000
DTEND;TZID=Europe/Madrid:20231114T190000
DTSTAMP:20260425T125306
CREATED:20231024T201333Z
LAST-MODIFIED:20231110T113221Z
UID:68342-1699988400-1699988400@cicus.us.es
SUMMARY:CENTENARIO DE ANA MARISCAL\, DIRECTORA PIONERA Y ACTRIZ DEL CINE ESPAÑOL
DESCRIPTION:Fecha: 14\, 17\, 24 de noviembre y 1 de diciembre de 2023\nHora: 19 h.\nLugar: Auditorio · CICUS (c/ Madre de Dios\, 1) \nCharlas: Entrada libre hasta completar aforo\nProyecciones en www.cicus.us/entradas o en la taquilla del CICUS \n· VER / DESCARGAR  CARTEL CON PROGRAMA \nEl 31 de julio de 1923 nació en Madrid Ana Mariscal. Se cumple este año\, por tanto\, el centenario de su nacimiento. Con este motivo\, y dado el reciente interés que en justicia se ha desarrollado sobre su carrera como directora en el último año\, tanto en nuestro país como en festivales europeos\, a raíz de la restauración de su obra El camino (1963)\, sería oportuno organizar un ciclo sobre esta faceta suya. Es la primera mujer directora del cine español con una producción de largometrajes que asciende a once películas\, una documental y diez de ficción\, además de las 55 obras cinematográficas en las que participa como actriz. Su faceta como guionista y productora\, además de la de dirección\, hacen de ella un personaje interesante sobre el que completar o reformular la concepción que el público general pudiera haber conservado por su participación en un cine español perteneciente a una época de difícil expresión ideológica. \nPROGRAMA \nMartes 14 NOV\, 2023\, 19 h.\n· Charla. Virginia Guarinos: La quiniela. El mejor Mariscal-Berlanga.\n· Proyección. La Quiniela (Ana Mariscal\, 1960\, 90 min) \nViernes 17 NOV\, 2023\, 19 h.\n· Charla. Agustín Gómez: El Camino (1963) de Ana Mariscal\, Una historia coral en la España rural del franquismo\n· Proyección. El camino (Ana Mariscal\, 1963\, 90 min) \nViernes 24 NOV\, 2023\, 19 h.\n· Charla. Pedro Poyato: Con la vida hicieron fuego\, de Ana Mariscal\n· Proyección. Con la vida hicieron fuego (Ana Mariscal\, 1959\, 80 min) \nViernes 1 DIC\, 2023\, 19 h.\n· Charla. David García Mariscal: Segundo López\, aventurero urbano\n· Proyección. Segundo López\, aventurero urbano (Ana Mariscal\, 1953\, 80 min) \nPONENTES\nPedro Poyato. Catedrático de Historia del Cine de la Universidad de Córdoba.Experto en cine español. Creador del Máster en Cinematografía de la Universidad de Córdoba.\nAgustín Gómez. Profesor titular de la Universidad de Málaga. Experto en cine español y director de la revista Fotocinema (Q2)\, única revista científica española dedicada a cine.\nDavid García Mariscal. Hijo de Ana Mariscal y restaurador de sus obras.\nVirginia Guarinos. Profesora titular de la Universidad de Sevilla. Experta en mujeres cineastas del cine español
URL:https://cicus.us.es/evento/centenarioanamariscal01/
LOCATION:CICUS
ATTACH;FMTTYPE=image/jpeg:https://cicus.us.es/wp-content/uploads/2023/10/evento1164.jpg
END:VEVENT
END:VCALENDAR