BEGIN:VCALENDAR
VERSION:2.0
PRODID:-//CICUS · Centro de Iniciativas Culturales de la Universidad de Sevilla - ECPv6.15.20//NONSGML v1.0//EN
CALSCALE:GREGORIAN
METHOD:PUBLISH
X-WR-CALNAME:CICUS · Centro de Iniciativas Culturales de la Universidad de Sevilla
X-ORIGINAL-URL:https://cicus.us.es
X-WR-CALDESC:Eventos para CICUS · Centro de Iniciativas Culturales de la Universidad de Sevilla
REFRESH-INTERVAL;VALUE=DURATION:PT1H
X-Robots-Tag:noindex
X-PUBLISHED-TTL:PT1H
BEGIN:VTIMEZONE
TZID:Europe/Madrid
BEGIN:DAYLIGHT
TZOFFSETFROM:+0100
TZOFFSETTO:+0200
TZNAME:CEST
DTSTART:20220327T010000
END:DAYLIGHT
BEGIN:STANDARD
TZOFFSETFROM:+0200
TZOFFSETTO:+0100
TZNAME:CET
DTSTART:20221030T010000
END:STANDARD
BEGIN:DAYLIGHT
TZOFFSETFROM:+0100
TZOFFSETTO:+0200
TZNAME:CEST
DTSTART:20230326T010000
END:DAYLIGHT
BEGIN:STANDARD
TZOFFSETFROM:+0200
TZOFFSETTO:+0100
TZNAME:CET
DTSTART:20231029T010000
END:STANDARD
BEGIN:DAYLIGHT
TZOFFSETFROM:+0100
TZOFFSETTO:+0200
TZNAME:CEST
DTSTART:20240331T010000
END:DAYLIGHT
BEGIN:STANDARD
TZOFFSETFROM:+0200
TZOFFSETTO:+0100
TZNAME:CET
DTSTART:20241027T010000
END:STANDARD
END:VTIMEZONE
BEGIN:VEVENT
DTSTART;TZID=Europe/Madrid:20231106T110000
DTEND;TZID=Europe/Madrid:20231110T110000
DTSTAMP:20260425T152823
CREATED:20230924T193045Z
LAST-MODIFIED:20231016T134540Z
UID:66673-1699268400-1699614000@cicus.us.es
SUMMARY:EXPOSICIÓN · 1624. LA SEVILLA DE VELÁZQUEZ
DESCRIPTION:Fecha: 18 de octubre – 17 de noviembre de 2023\nInauguración: miércoles 18 de octubre de 2023\, a las 20 h.\nHorario: De lunes a viernes\, de 11 a 20 h.\nLugar: Sala MDD · CICUS (C/ Madre de Dios\, 1) \n· ADQUIRIR INVITACIÓN \nA comienzos del siglo XVII\, Sevilla se ha convertido gracias al comercio con las Indias en una de las ciudades más populosas y ricas del planeta. En ella nace y vivirá durante 24 años uno de los mayores genios de la pintura de todos los tiempos: Diego Velázquez. \nDescubre a través de las ilustraciones de Arturo Redondo una espectacular visión al detalle de la ciudad del pintor sevillano. Un viaje en el tiempo para ver el río surcado de galeones de indias\, sus puertas y murallas\, iglesias\, palacios\, alamedas y conventos. \nUna panorámica a vista de pájaro que te transportará a esta Sevilla\, “bellísima por su riqueza\, grandeza y majestad” en la fecha histórica de 1624\, cuando finalmente Diego Velázquez\, “el sevillano”\, parte definitivamente para ingresar como pintor de cámara en la corte del rey Felipe IV. \nRecorre las calles por donde jugó y creció\, los lugares donde formó su carácter y adquirió la maestría del oficio y disfruta de este “infierno soñado” donde forjó para siempre su mirada de artista.
URL:https://cicus.us.es/evento/lasevilladevelazquez05/
LOCATION:CICUS – Sala MDD\, c/Madre de Dios 1-3\, Sevilla\, España
ATTACH;FMTTYPE=image/jpeg:https://cicus.us.es/wp-content/uploads/2023/09/evento1124.jpg
END:VEVENT
BEGIN:VEVENT
DTSTART;TZID=Europe/Madrid:20231106T110000
DTEND;TZID=Europe/Madrid:20231110T110000
DTSTAMP:20260425T152823
CREATED:20231110T112408Z
LAST-MODIFIED:20231114T151919Z
UID:68568-1699268400-1699614000@cicus.us.es
SUMMARY:EXPOSICIÓN · PATRIMONIO RESTAURADO DE LA UNIVERSIDAD DE SEVILLA. RELICARIOS
DESCRIPTION:Fecha: 27 de septiembre – 24 de noviembre de 2023\nInauguración: miércoles 27 de septiembre\, a las 19 h.\nHorario: De lunes a viernes\, de 11 a 20 h.\nLugar: Sala EP1 · CICUS (C/ Madre de Dios\, 1) \nPRORROGADA HASTA EL 24 DE NOVIEMBRE DE 2023 \n· ADQUIRIR INVITACIÓN\n· VER CARTEL \nLa exposición muestra los resultados de la restauración realizada al conjunto de bustos-relicario que forma parte del legado jesuita atesorado por la Universidad de Sevilla. Este excepcional grupo de diez imágenes escultóricas\, que representan a diversos santos\, fue ejecutado en el tránsito del siglo XVI al XVII para la iglesia de la Casa Profesa de la Compañía de Jesús\, la actual iglesia de la Anunciación. \nCon esta muestra continuamos nuestro compromiso de mostrar periódicamente piezas recuperadas de nuestra reserva patrimonial con el fin de dar a conocer el pasado artístico\, científico y pedagógico conservado en nuestra universidad. Se trata una vez más de dejar constancia del continuo compromiso de la Universidad con el legado heredado. Por una parte\, somos así fieles a la vocación universitaria de transferencia de conocimiento a la sociedad\, y al mismo tiempo cumplimos con nuestra labor institucional de proteger\, conservar y difundir el patrimonio de nuestra institución\, que ya cuenta con más de cinco siglos de historia.
URL:https://cicus.us.es/evento/exposicion-%c2%b7-patrimonio-restaurado-de-la-universidad-de-sevilla-relicarios/
LOCATION:CICUS – EP1\, c/Madre de Dios 1-3\, Sevilla\, España
ATTACH;FMTTYPE=image/jpeg:https://cicus.us.es/wp-content/uploads/2023/07/evento1089b.jpg
END:VEVENT
END:VCALENDAR