BEGIN:VCALENDAR
VERSION:2.0
PRODID:-//CICUS · Centro de Iniciativas Culturales de la Universidad de Sevilla - ECPv6.15.20//NONSGML v1.0//EN
CALSCALE:GREGORIAN
METHOD:PUBLISH
X-WR-CALNAME:CICUS · Centro de Iniciativas Culturales de la Universidad de Sevilla
X-ORIGINAL-URL:https://cicus.us.es
X-WR-CALDESC:Eventos para CICUS · Centro de Iniciativas Culturales de la Universidad de Sevilla
REFRESH-INTERVAL;VALUE=DURATION:PT1H
X-Robots-Tag:noindex
X-PUBLISHED-TTL:PT1H
BEGIN:VTIMEZONE
TZID:Europe/Madrid
BEGIN:DAYLIGHT
TZOFFSETFROM:+0100
TZOFFSETTO:+0200
TZNAME:CEST
DTSTART:20220327T010000
END:DAYLIGHT
BEGIN:STANDARD
TZOFFSETFROM:+0200
TZOFFSETTO:+0100
TZNAME:CET
DTSTART:20221030T010000
END:STANDARD
BEGIN:DAYLIGHT
TZOFFSETFROM:+0100
TZOFFSETTO:+0200
TZNAME:CEST
DTSTART:20230326T010000
END:DAYLIGHT
BEGIN:STANDARD
TZOFFSETFROM:+0200
TZOFFSETTO:+0100
TZNAME:CET
DTSTART:20231029T010000
END:STANDARD
BEGIN:DAYLIGHT
TZOFFSETFROM:+0100
TZOFFSETTO:+0200
TZNAME:CEST
DTSTART:20240331T010000
END:DAYLIGHT
BEGIN:STANDARD
TZOFFSETFROM:+0200
TZOFFSETTO:+0100
TZNAME:CET
DTSTART:20241027T010000
END:STANDARD
END:VTIMEZONE
BEGIN:VEVENT
DTSTART;TZID=Europe/Madrid:20231104T110000
DTEND;TZID=Europe/Madrid:20231104T110000
DTSTAMP:20260425T002532
CREATED:20231024T141922Z
LAST-MODIFIED:20231102T221627Z
UID:68266-1699095600-1699095600@cicus.us.es
SUMMARY:SI TODAS LAS PUERTAS SE CIERRAN (PROYECCIÓN Y MESA REDONDA)
DESCRIPTION:Fecha: sábado 4 de noviembre de 2023\nHora: 11 h\nLugar: Auditorio · CICUS (C/ Madre de Dios\, 1)\nOrganiza: Cineclub «Antonio Cuadri»\nIntervienen: Antonio Cuadri\, Ruth Gabriel\, Jesús Garrido y Silvia Cotolí Suárez \nADQUIRIR INVITACIONES \nPROYECCIÓN \nSI TODAS LAS PUERTAS SE CIERRAN\n(Antonio Cuadri\, España\, 2023\, 120 min) \nTres mujeres\, separadas aparentemente en el tiempo y en el espacio\, acaban confluyendo en su proceso por encontrase a sí mismas. Las tres tendrán que escuchar una llamada interior que les exige enfrentarse a sus miedos y ser las verdaderas protagonistas de su vida\, abriendo caminos nuevos de transformación y liberación. \nMESA REDONDA \nGuillermo Machuca. Catedrático de Estomatología de la Facultad de Odontología de la Universidad de Sevilla. Director del Departamento de Estomatología. Coordinador del Cine Club Antonio Cuadri. \nAntonio Cuadri. Es director y guionista de cine onubense. Creador de programas de televisión como Lo + Plus\, Las noticias del guiñol o Al salir de clase\, ha dirigido episodios de series como Manolito Gafotas\, Abogados o Cuéntame cómo pasó\, además los largometrajes La Gran Vida\, la multipremiada Eres mi héroe\, La buena voz\, Thomas vive u Operación Concha. La versión estrenada en cines de la película El corazón de la Tierra\, obtuvo el premio a la mejor película del Festival de Cine Latino de Miami y fue nominada a dos premios Goya. Ha recibido a lo largo de su carrera múltiples galardones de cine y televisión\, entre ellos el Premio Signis España del 12º \nFestival Internacional de Cine Educativo y Espiritual de Ciudad Rodrigo (FICEE) por la película que hoy se presenta. \nRuth Gabriel. La conocimos en su primer trabajo de interpretación\, a los nueve años en Barrio Sésamo. Después de una amplia formación artística\, participó en su primera película\, Días contados (1994)\, de Imanol Uribe\, interpretación por la que obtuvo el premio Goya a la mejor actriz revelación. Ha actuado en teatro\, televisión y cine a las órdenes de grandes directores como Pilar Miró\, Imanol Uribe\, Luis Filipe Rocha\, Jaime Chávarri\, Agustí Villaronga\, Betty Kaplan\, Gerardo Herrero o el presente Antonio Cuadri. \nJesús Garrido. Es actor de cine\, teatro y televisión\, y también director y guionista. Como actor cinematográfico ha interpretado diversos papeles en películas tales como “Jaque al descubierto” de Antonio Augusto Arrebola\, “El regreso del Coyote” de Mario Camus o “Veneno que tú me dieras” de Antonio Ozores. Además de en la película presente\, ha actuado a las órdenes de Antonio Cuadri\nen la serie televisiva “Entre Olivos” o “Cuéntame cómo pasó”. En el teatro ha actuado en obras como “El obispo de Marte” en el teatro Salvador Távora o “Don Juan Tenorio” en el Teatro Español de Madrid. Es guionista y director del exitoso cortometraje “Caracoles”\, que obtuvo el premio del jurado en el certamen Pilas en Corto. \nSilvia Cotolí Suárez. Es responsable de Comunicación del Proyecto Al Alba Oblatas Sevilla. Es también coordinadora y responsable de Comunicación del Proyecto de emprendimiento social Sumak Kausay. Además\, es Profesora de Química del Colegio San José de Calasanz de Sevilla. Es autora y editora del libro “Física y Química en la ESO”.
URL:https://cicus.us.es/evento/sitodaslaspuertas/
LOCATION:Cicus – Auditorio\, C/ Madre de Dios\, 1\, Sevilla\, España
ATTACH;FMTTYPE=image/jpeg:https://cicus.us.es/wp-content/uploads/2023/10/evento1152.jpg
END:VEVENT
END:VCALENDAR