BEGIN:VCALENDAR
VERSION:2.0
PRODID:-//CICUS · Centro de Iniciativas Culturales de la Universidad de Sevilla - ECPv6.15.20//NONSGML v1.0//EN
CALSCALE:GREGORIAN
METHOD:PUBLISH
X-WR-CALNAME:CICUS · Centro de Iniciativas Culturales de la Universidad de Sevilla
X-ORIGINAL-URL:https://cicus.us.es
X-WR-CALDESC:Eventos para CICUS · Centro de Iniciativas Culturales de la Universidad de Sevilla
REFRESH-INTERVAL;VALUE=DURATION:PT1H
X-Robots-Tag:noindex
X-PUBLISHED-TTL:PT1H
BEGIN:VTIMEZONE
TZID:Europe/Madrid
BEGIN:DAYLIGHT
TZOFFSETFROM:+0100
TZOFFSETTO:+0200
TZNAME:CEST
DTSTART:20220327T010000
END:DAYLIGHT
BEGIN:STANDARD
TZOFFSETFROM:+0200
TZOFFSETTO:+0100
TZNAME:CET
DTSTART:20221030T010000
END:STANDARD
BEGIN:DAYLIGHT
TZOFFSETFROM:+0100
TZOFFSETTO:+0200
TZNAME:CEST
DTSTART:20230326T010000
END:DAYLIGHT
BEGIN:STANDARD
TZOFFSETFROM:+0200
TZOFFSETTO:+0100
TZNAME:CET
DTSTART:20231029T010000
END:STANDARD
BEGIN:DAYLIGHT
TZOFFSETFROM:+0100
TZOFFSETTO:+0200
TZNAME:CEST
DTSTART:20240331T010000
END:DAYLIGHT
BEGIN:STANDARD
TZOFFSETFROM:+0200
TZOFFSETTO:+0100
TZNAME:CET
DTSTART:20241027T010000
END:STANDARD
END:VTIMEZONE
BEGIN:VEVENT
DTSTART;TZID=Europe/Madrid:20231102T080000
DTEND;TZID=Europe/Madrid:20231103T170000
DTSTAMP:20260425T152459
CREATED:20230924T192954Z
LAST-MODIFIED:20231016T134542Z
UID:66672-1698912000-1699030800@cicus.us.es
SUMMARY:EXPOSICIÓN · 1624. LA SEVILLA DE VELÁZQUEZ
DESCRIPTION:Fecha: 18 de octubre – 17 de noviembre de 2023\nInauguración: miércoles 18 de octubre de 2023\, a las 20 h.\nHorario: De lunes a viernes\, de 11 a 20 h.\nLugar: Sala MDD · CICUS (C/ Madre de Dios\, 1) \n· ADQUIRIR INVITACIÓN \nA comienzos del siglo XVII\, Sevilla se ha convertido gracias al comercio con las Indias en una de las ciudades más populosas y ricas del planeta. En ella nace y vivirá durante 24 años uno de los mayores genios de la pintura de todos los tiempos: Diego Velázquez. \nDescubre a través de las ilustraciones de Arturo Redondo una espectacular visión al detalle de la ciudad del pintor sevillano. Un viaje en el tiempo para ver el río surcado de galeones de indias\, sus puertas y murallas\, iglesias\, palacios\, alamedas y conventos. \nUna panorámica a vista de pájaro que te transportará a esta Sevilla\, “bellísima por su riqueza\, grandeza y majestad” en la fecha histórica de 1624\, cuando finalmente Diego Velázquez\, “el sevillano”\, parte definitivamente para ingresar como pintor de cámara en la corte del rey Felipe IV. \nRecorre las calles por donde jugó y creció\, los lugares donde formó su carácter y adquirió la maestría del oficio y disfruta de este “infierno soñado” donde forjó para siempre su mirada de artista.
URL:https://cicus.us.es/evento/lasevilladevelazquez04/
LOCATION:CICUS – Sala MDD\, c/Madre de Dios 1-3\, Sevilla\, España
ATTACH;FMTTYPE=image/jpeg:https://cicus.us.es/wp-content/uploads/2023/09/evento1124.jpg
END:VEVENT
BEGIN:VEVENT
DTSTART;TZID=Europe/Madrid:20231102T110000
DTEND;TZID=Europe/Madrid:20231103T110000
DTSTAMP:20260425T152459
CREATED:20230802T090834Z
LAST-MODIFIED:20230925T183106Z
UID:66265-1698922800-1699009200@cicus.us.es
SUMMARY:EXPOSICIÓN · PATRIMONIO RESTAURADO DE LA UNIVERSIDAD DE SEVILLA. RELICARIOS
DESCRIPTION:Fecha: 27 de septiembre – 3 de noviembre de 2023\nInauguración: miércoles 27 de septiembre\, a las 19 h.\nHorario: De lunes a viernes\, de 11 a 20 h.\nLugar: Sala EP1 · CICUS (C/ Madre de Dios\, 1) \n· ADQUIRIR INVITACIÓN\n· VER CARTEL \nLa exposición muestra los resultados de la restauración realizada al conjunto de bustos-relicario que forma parte del legado jesuita atesorado por la Universidad de Sevilla. Este excepcional grupo de diez imágenes escultóricas\, que representan a diversos santos\, fue ejecutado en el tránsito del siglo XVI al XVII para la iglesia de la Casa Profesa de la Compañía de Jesús\, la actual iglesia de la Anunciación. \nCon esta muestra continuamos nuestro compromiso de mostrar periódicamente piezas recuperadas de nuestra reserva patrimonial con el fin de dar a conocer el pasado artístico\, científico y pedagógico conservado en nuestra universidad. Se trata una vez más de dejar constancia del continuo compromiso de la Universidad con el legado heredado. Por una parte\, somos así fieles a la vocación universitaria de transferencia de conocimiento a la sociedad\, y al mismo tiempo cumplimos con nuestra labor institucional de proteger\, conservar y difundir el patrimonio de nuestra institución\, que ya cuenta con más de cinco siglos de historia.
URL:https://cicus.us.es/evento/relicariossigloxvii_08/
LOCATION:CICUS – EP1\, c/Madre de Dios 1-3\, Sevilla\, España
ATTACH;FMTTYPE=image/jpeg:https://cicus.us.es/wp-content/uploads/2023/07/evento1089b.jpg
END:VEVENT
BEGIN:VEVENT
DTSTART;TZID=Europe/Madrid:20231103T180000
DTEND;TZID=Europe/Madrid:20231103T180000
DTSTAMP:20260425T152459
CREATED:20231024T160408Z
LAST-MODIFIED:20231026T224545Z
UID:68269-1699034400-1699034400@cicus.us.es
SUMMARY:FERIA DEL LIBRO DE SEVILLA · PRESENTACIÓN DE LAS ÚLTIMAS OBRAS GANADORAS DE LOS PREMIOS DE NOVELA DE LA UNIVERSIDAD DE SEVILLA
DESCRIPTION:Fecha: viernes 3 de noviembre de 2023\nHora: 18 h\nLugar: Feria del Libro de Sevilla. Carpa de la Plaza Nueva \nENTRADA LIBRE HASTA COMPLETAR AFORO \nEn el marco de una nueva edición de la Feria del Libro de Sevilla\, la Universidad de Sevilla y El Paseo presentan las obras ganadoras de las dos últimas ediciones de los Premios de Novela de la Universidad de Sevilla. Será el viernes 3 de noviembre a las 18h en la carpa principal de la feria en la Plaza Nueva\, contando con la presencia de Abraham Guerrero\, poeta de Arcos de la Frontera y ganador del XXVII Certamen de Letras Hispánicas de la Universidad de Sevilla “Rafael de Cózar” (modalidad de novela) con “Las luces de Hannover”\, y por videoconferencia con Diana Aradas\, autora de “Una Madre”\, galardonada del XXVIII Certamen de Letras Hispánicas de la Universidad de Sevilla “Rafael de Cózar” (modalidad de novela). \nLAS LUCES DE HANNOVER\, de Abraham Guerrero\nObra ganadora del XXVII Certamen de Letras Hispánicas de la Universidad de Sevilla “Rafael de Cózar” (modalidad de NOVELA) \nSinopsis\nUn secuestro es el punto de partida en esta novela. A partir de este suceso se despliega una concatenación de situaciones y personajes que se ven afectados\, directa o indirectamente\, por las consecuencias del rapto. Dividida por capítulos a modo de relatos interpolados\, con una mezcla de estilos según la narración\, se establece un juego de géneros en el que la inmigración\, el acoso\, el coltán\, la infidelidad\, el suicidio o la propia literatura se erigen como temas secundarios de un thriller que abandona sus cauces tradicionales y adentra al lector en un laberinto de sospechas\, conjeturas y culpabilidad. \nAbraham Guerrero Tenorio\nPoeta español\, Abraham Guerrero Tenorio nacido en 1987 en Arcos de la Frontera. Se licencia en Filología Hispánica y ejerce como profesor de Lengua y Literatura tanto en cursos de Educación Secundaria como en Bachillerato. A lo largo de su trayectoria ha participado en eventos como el Festival Internacional de Poesía Cosmopoética\, además de ganar con sus textos varios certámenes y concursos literarios (Premio MálagaCrea en la modalidad de narrativa\, Premio Alcaraván de Poesía o el Premio UCOpoética). \nHa publicado poemarios como Los días perros y Toda la violencia\, gracias al cual se alzó con el Premio Adonáis de Poesía en su edición de 2020. \nUNA MADRE\, de Diana Aradas\nObra ganadora del XXVIII Certamen de Letras Hispánicas de la Universidad de Sevilla “Rafael de Cózar” (modalidad de NOVELA) \n \nSinopsis\nUn extraordinario debut literario: una original trama familiar que gira en torno a la maternidad\, que resultó ganadora del XXVIII Premio de Novela Universidad de Sevilla.Una madre presenta la historia de Emiliana\, una joven que\, excesivamente vigilada por su familia\, procura sin éxito evitar ese control al que se ve sometida. La situación se complica cuando la protagonista descubre que está embarazada y se plantea la huida de hogar familiar. Primero\, en pos del supuesto padre de la criatura; después\, en busca del propio bebé\, que ha desaparecido. Desde un inicio la muchacha luchará sin descanso por abandonar el cerrado círculo familiar que la acorrala. Sofía (su madre) y Candela (la niñera que esta ha contratado para atenderla) se convertirán en su sombra. En medio de terribles sospechas nada es lo que parece. Conforme de abren los secretos\, quien nos cuenta la historia se verá obligada a reconciliarse con la cruda verdad de su vida. \nDiana Aradas\nProfesora de lengua castellana\, poeta y crítica literaria. Es licenciada en filología gallega (Universidad de A Coruña)\, en teoría de la literatura y literatura comparada (Universidad de Valladolid)\, en filología románica (Universidad de Santiago de Compostela) y doctora en filología hispánica (Universidad de Salamanca). Recientemente ha concluido un máster de escritura creativa (Universidad de Salamanca). Ha publicado los poemarios La trayectoria de la luz (Torremozas\, 2017)\, Pájaros de alambre\, ganador del XXXII premio Cálamo/Gesto de poesía (2018) y Ocupar la luz (2020)\, accésit del premio Coronio\, convocado por la editorial Mariposa ediciones. En la actualidad\, trabaja como docente en el Instituto de Enseñanza Secundaria Moncho Valcarce de As Pontes de García Rodríguez (A Coruña). Además\, colabora con artículos de opinión sobre literatura en el diario El Progreso de Lugo. \nActividad organizada en colaboración con la Feria del Libro de Sevilla y editorial El Paseo \n \n 
URL:https://cicus.us.es/evento/ferialibro2023/
LOCATION:FERIA DEL LIBRO\, Plaza Nueva\, Sevilla\, Sevilla\, 41004\, España
ATTACH;FMTTYPE=image/jpeg:https://cicus.us.es/wp-content/uploads/2023/10/evento1153b.jpg
END:VEVENT
END:VCALENDAR