BEGIN:VCALENDAR
VERSION:2.0
PRODID:-//CICUS · Centro de Iniciativas Culturales de la Universidad de Sevilla - ECPv6.15.20//NONSGML v1.0//EN
CALSCALE:GREGORIAN
METHOD:PUBLISH
X-WR-CALNAME:CICUS · Centro de Iniciativas Culturales de la Universidad de Sevilla
X-ORIGINAL-URL:https://cicus.us.es
X-WR-CALDESC:Eventos para CICUS · Centro de Iniciativas Culturales de la Universidad de Sevilla
REFRESH-INTERVAL;VALUE=DURATION:PT1H
X-Robots-Tag:noindex
X-PUBLISHED-TTL:PT1H
BEGIN:VTIMEZONE
TZID:Europe/Madrid
BEGIN:DAYLIGHT
TZOFFSETFROM:+0100
TZOFFSETTO:+0200
TZNAME:CEST
DTSTART:20220327T010000
END:DAYLIGHT
BEGIN:STANDARD
TZOFFSETFROM:+0200
TZOFFSETTO:+0100
TZNAME:CET
DTSTART:20221030T010000
END:STANDARD
BEGIN:DAYLIGHT
TZOFFSETFROM:+0100
TZOFFSETTO:+0200
TZNAME:CEST
DTSTART:20230326T010000
END:DAYLIGHT
BEGIN:STANDARD
TZOFFSETFROM:+0200
TZOFFSETTO:+0100
TZNAME:CET
DTSTART:20231029T010000
END:STANDARD
BEGIN:DAYLIGHT
TZOFFSETFROM:+0100
TZOFFSETTO:+0200
TZNAME:CEST
DTSTART:20240331T010000
END:DAYLIGHT
BEGIN:STANDARD
TZOFFSETFROM:+0200
TZOFFSETTO:+0100
TZNAME:CET
DTSTART:20241027T010000
END:STANDARD
END:VTIMEZONE
BEGIN:VEVENT
DTSTART;TZID=Europe/Madrid:20231002T110000
DTEND;TZID=Europe/Madrid:20231006T110000
DTSTAMP:20260424T135026
CREATED:20230802T090644Z
LAST-MODIFIED:20230925T183120Z
UID:66267-1696244400-1696590000@cicus.us.es
SUMMARY:EXPOSICIÓN · PATRIMONIO RESTAURADO DE LA UNIVERSIDAD DE SEVILLA. RELICARIOS
DESCRIPTION:Fecha: 27 de septiembre – 3 de noviembre de 2023\nInauguración: miércoles 27 de septiembre\, a las 19 h.\nHorario: De lunes a viernes\, de 11 a 20 h.\nLugar: Sala EP1 · CICUS (C/ Madre de Dios\, 1) \n· ADQUIRIR INVITACIÓN\n· VER CARTEL \nLa exposición muestra los resultados de la restauración realizada al conjunto de bustos-relicario que forma parte del legado jesuita atesorado por la Universidad de Sevilla. Este excepcional grupo de diez imágenes escultóricas\, que representan a diversos santos\, fue ejecutado en el tránsito del siglo XVI al XVII para la iglesia de la Casa Profesa de la Compañía de Jesús\, la actual iglesia de la Anunciación. \nCon esta muestra continuamos nuestro compromiso de mostrar periódicamente piezas recuperadas de nuestra reserva patrimonial con el fin de dar a conocer el pasado artístico\, científico y pedagógico conservado en nuestra universidad. Se trata una vez más de dejar constancia del continuo compromiso de la Universidad con el legado heredado. Por una parte\, somos así fieles a la vocación universitaria de transferencia de conocimiento a la sociedad\, y al mismo tiempo cumplimos con nuestra labor institucional de proteger\, conservar y difundir el patrimonio de nuestra institución\, que ya cuenta con más de cinco siglos de historia.
URL:https://cicus.us.es/evento/relicariossigloxvii_02/
LOCATION:CICUS – EP1\, c/Madre de Dios 1-3\, Sevilla\, España
ATTACH;FMTTYPE=image/jpeg:https://cicus.us.es/wp-content/uploads/2023/07/evento1089b.jpg
END:VEVENT
BEGIN:VEVENT
DTSTART;TZID=Europe/Madrid:20231002T190000
DTEND;TZID=Europe/Madrid:20231002T190000
DTSTAMP:20260424T135026
CREATED:20230920T164428Z
LAST-MODIFIED:20230924T221306Z
UID:66447-1696273200-1696273200@cicus.us.es
SUMMARY:FIESTA DEL CINE DE ANIMACIÓN · EL FARAÓN\, EL SALVAJE Y LA PRINCESA
DESCRIPTION:CICLO FILMOTECA – FIESTA DEL CINE DE ANIMACIÓN \nFecha: lunes 2 de octubre de 2023\nHora: 19 h.\nLugar: CICUS · Auditorio \nADQUIRIR INVITACIÓN \nEL FARAÓN\, EL SALVAJE Y LA PRINCESA · Le pharaon\, le sauvage et la princesse\n(Michel Ocelot\, Francia\, 2022\, 83 min\, V.O.S.E.) \nComenzamos el ciclo Fiesta del cine de animación con el último título creado por el maestro francés Michel Ocelot\, con el que tuvimos la suerte de dialogar\, aquí en el CICUS\, durante la pasada edición del Festival de Sevilla. \n3 cuentos\, 3 eras\, 3 universos: una epopeya del antiguo Egipto\, una leyenda medieval de Auvernia\, una fantasía del siglo XVIII con trajes otomanos y palacios turcos\, para dejarse llevar por sueños contrastantes\, poblados de dioses espléndidos\, tiranos repugnantes\, vigilantes alegres \, amantes astutos\, príncipes y princesas haciendo lo que les da la gana\, en una explosión de color. \n  \n\nActividad realizada en colaboración con el Instituto Francés de Sevilla\, se enmarca dentro de la 22 edición de la Fête du cinéma d’animation (Fiesta del cine de animación)\, \n  \n \n  \n 
URL:https://cicus.us.es/evento/fdca02oct23/
LOCATION:CICUS – Auditorio\, c/Madre de Dios 1-3\, Sevilla\, España
ATTACH;FMTTYPE=image/jpeg:https://cicus.us.es/wp-content/uploads/2023/09/evento1108.jpg
END:VEVENT
END:VCALENDAR