BEGIN:VCALENDAR
VERSION:2.0
PRODID:-//CICUS · Centro de Iniciativas Culturales de la Universidad de Sevilla - ECPv6.15.20//NONSGML v1.0//EN
CALSCALE:GREGORIAN
METHOD:PUBLISH
X-WR-CALNAME:CICUS · Centro de Iniciativas Culturales de la Universidad de Sevilla
X-ORIGINAL-URL:https://cicus.us.es
X-WR-CALDESC:Eventos para CICUS · Centro de Iniciativas Culturales de la Universidad de Sevilla
REFRESH-INTERVAL;VALUE=DURATION:PT1H
X-Robots-Tag:noindex
X-PUBLISHED-TTL:PT1H
BEGIN:VTIMEZONE
TZID:Europe/Paris
BEGIN:DAYLIGHT
TZOFFSETFROM:+0100
TZOFFSETTO:+0200
TZNAME:CEST
DTSTART:20170326T010000
END:DAYLIGHT
BEGIN:STANDARD
TZOFFSETFROM:+0200
TZOFFSETTO:+0100
TZNAME:CET
DTSTART:20171029T010000
END:STANDARD
BEGIN:DAYLIGHT
TZOFFSETFROM:+0100
TZOFFSETTO:+0200
TZNAME:CEST
DTSTART:20180325T010000
END:DAYLIGHT
BEGIN:STANDARD
TZOFFSETFROM:+0200
TZOFFSETTO:+0100
TZNAME:CET
DTSTART:20181028T010000
END:STANDARD
BEGIN:DAYLIGHT
TZOFFSETFROM:+0100
TZOFFSETTO:+0200
TZNAME:CEST
DTSTART:20190331T010000
END:DAYLIGHT
BEGIN:STANDARD
TZOFFSETFROM:+0200
TZOFFSETTO:+0100
TZNAME:CET
DTSTART:20191027T010000
END:STANDARD
END:VTIMEZONE
BEGIN:VEVENT
DTSTART;VALUE=DATE:20180920
DTEND;VALUE=DATE:20180927
DTSTAMP:20260421T151659
CREATED:20180912T094845Z
LAST-MODIFIED:20180912T155910Z
UID:33979-1537401600-1538006399@cicus.us.es
SUMMARY:BOOKSTOCK · EXPOSICIÓN · NANOKOMIC
DESCRIPTION:Nanokomik es una iniciativa internacional que busca acercar a la sociedad los avances que se dan en el campo de la nanociencia y la nanotecnología a través del cómic. Este proyecto nace de la mano de los centros de investigación CIC nanoGUNE y Donostia International Physics Center (DIPC)\, con el fin de crear el primer cómic participativo de nanoficción. Se trata\, por tanto\, de una forma de divulgación científica que\, además\, fomenta el carácter participativo\, multidisciplinar y que despierta la creatividad desde edad temprana. \n  \nEn esta exposición presentamos el resultado final del proyecto nanoKOMIK de los años 2016 y 2017\, en el que se han implicado a más de 430 jóvenes y adultos en el proceso creativo. A estos desafíos se han presentado más de 170 trabajos en euskera\, castellano\, francés e inglés. En ellos\, han dado vida a su propia superheroína o superhéroe de cómic\, dotándolo de nanopoderes gracias a las sorprendentes propiedades que adquiere la materia utilizando la nanotecnología. \n  \nBasándose en las mejores ideas de los cómics presentados a los desafíos\, se ha dado forma a estos nanoKOMIKs. Una colección de historietas que ha sido publicada íntegramente en la revista Jot Down Kids y que está disponible en la web www.nanokomik.com \n  \nEl proyecto nanoKOMIK está cofinanciado por la Fundación Española para la Ciencia y la Tecnología – Ministerio de Economía\, Industria y Competitividad.
URL:https://cicus.us.es/evento/bookstock-%c2%b7-exposicion-%c2%b7-nanokomic/
LOCATION:CICUS · Sala MDD\, c/Madre de Dios 1-3\, Sevilla\, España
ATTACH;FMTTYPE=image/jpeg:https://cicus.us.es/wp-content/uploads/2018/09/nanokomic.jpg
END:VEVENT
BEGIN:VEVENT
DTSTART;TZID=Europe/Paris:20180925T113000
DTEND;TZID=Europe/Paris:20180925T113000
DTSTAMP:20260421T151659
CREATED:20180924T094115Z
LAST-MODIFIED:20180924T094115Z
UID:34027-1537875000-1537875000@cicus.us.es
SUMMARY:BIENAL · CHARLA ILUSTRADA Y CANTE FLAMENCO
DESCRIPTION:25 de septiembre · 11:30h · Paraninfo de la Universidad de Sevilla \n  \nAntonio Zoido\, director de la XX Bienal de Flamenco y José Valencia\, cantaor. \nLa narración de acontecimientos históricos desde el siglo XVIII se verá complementada por los diferentes cantes y coplas flamencas que han sabido transmitir estos acontecimientos en sus letras. El flamenco no solo como poesía lírica sino como testimonio histórico. Pasajes de la historia musicados.
URL:https://cicus.us.es/evento/bienal-%c2%b7-charla-ilustrada-y-cante-flamenco/
LOCATION:Paraninfo Universidad de Sevilla\, C/San Fernando 4\, SEVILLA\, 41008\, Escoga un País:
ATTACH;FMTTYPE=image/jpeg:https://cicus.us.es/wp-content/uploads/2018/09/CHARLA-ILUSTRADA.jpg
END:VEVENT
BEGIN:VEVENT
DTSTART;TZID=Europe/Paris:20180925T190000
DTEND;TZID=Europe/Paris:20180925T190000
DTSTAMP:20260421T151659
CREATED:20180830T111056Z
LAST-MODIFIED:20180906T064941Z
UID:33886-1537902000-1537902000@cicus.us.es
SUMMARY:CENTENARIO INGMAR BERGMAN · EL SILENCIO
DESCRIPTION:CENTENARIO INGMAR BERGMAN \n19h · Auditorio Cicus \n  \nMartes 25 de septiembre \nPRESENTACIÓN  \nA cargo de Sergio Cobo\, Prof. de la Facultad de Comunicación de la US. \n  \nPROYECCIÓN: EL SILENCIO \n(1963\, 96 min\, V.O.S.E.) \nEster\, su hermana Anna y su sobrino Johan atraviesan en tren un país extranjero y sombrío\, probablemente en guerra. Los tres vuelven a casa\, pero tienen que interrumpir el viaje y detenerse en una ciudad a descansar en un oscuro y destartalado hotel\, ya que Ester\, que sufre una crisis vital\, se ha puesto enferma. Mientras Ester trata de reprimir la atracción sexual que le inspira Anna\, ésta sale en busca de sensaciones que la liberen del tedio y la angustia. La total incomunicación entre las dos hermanas hace que su relación sea una extraña mezcla de odio exacerbado y patológica dependencia\, situación a la que asiste como testigo mudo el niño. (FILMAFFINITY) \n  \nMESA REDONDA con Maaret Koskinen (Prof. Universidad de Estocolmo)\, Sven Heed (Asociación Atmosphère)\, Pablo García (Director de la Filmoteca de Andalucía). Modera Sergio Cobo (Prof. de la Facultad de Comunicación de la US). \n  \n  \nLunes 24 de septiembre \nPRESENTACIÓN · A cargo de Sergio Cobo\, Prof. de la Facultad de Comunicación de la US. \nINTRODUCCIÓN AL CINE DE BERGMAN · A cargo de Maaret Koskinen\, Prof. de la Universidad de Estocolmo\, especialista en Bergman. \nPROYECCIÓN: COMO EN UN ESPEJO (1961\, 91 min\, V.O.S.E.) \n  \nMiércoles 26 de septiembre \nPRESENTACIÓN · A cargo de Samuel Fernández Pichel\, Prof. del Centro Universitario Internacional de la UPO. \nPROYECCIÓN: PERSONA (1966\, 81 min\, V.O.S.E.) \nJueves 27 de septiembre \nPRESENTACIÓN · A cargo de Samuel Fernández Pichel\, Prof. del Centro Universitario Internacional de la UPO. \nPROYECCIÓN: GRITOS Y SUSURROS (1972\, 91 min\, V.O.S.E.) \n  \n  \n Con la colaboración de la Filmoteca de Andalucía\, la Embajada de Suecia y la Asociación Atmosphère. \n  \n 
URL:https://cicus.us.es/evento/centenario-ingmar-bergman-%c2%b7-el-silencio/
LOCATION:CICUS · Auditorio\, c/Madre de Dios 1-3\, Sevilla\, España
ATTACH;FMTTYPE=image/jpeg:https://cicus.us.es/wp-content/uploads/2018/08/silencio-web.jpg
END:VEVENT
END:VCALENDAR