BEGIN:VCALENDAR
VERSION:2.0
PRODID:-//CICUS · Centro de Iniciativas Culturales de la Universidad de Sevilla - ECPv6.15.20//NONSGML v1.0//EN
CALSCALE:GREGORIAN
METHOD:PUBLISH
X-WR-CALNAME:CICUS · Centro de Iniciativas Culturales de la Universidad de Sevilla
X-ORIGINAL-URL:https://cicus.us.es
X-WR-CALDESC:Eventos para CICUS · Centro de Iniciativas Culturales de la Universidad de Sevilla
REFRESH-INTERVAL;VALUE=DURATION:PT1H
X-Robots-Tag:noindex
X-PUBLISHED-TTL:PT1H
BEGIN:VTIMEZONE
TZID:Europe/Paris
BEGIN:DAYLIGHT
TZOFFSETFROM:+0100
TZOFFSETTO:+0200
TZNAME:CEST
DTSTART:20170326T010000
END:DAYLIGHT
BEGIN:STANDARD
TZOFFSETFROM:+0200
TZOFFSETTO:+0100
TZNAME:CET
DTSTART:20171029T010000
END:STANDARD
BEGIN:DAYLIGHT
TZOFFSETFROM:+0100
TZOFFSETTO:+0200
TZNAME:CEST
DTSTART:20180325T010000
END:DAYLIGHT
BEGIN:STANDARD
TZOFFSETFROM:+0200
TZOFFSETTO:+0100
TZNAME:CET
DTSTART:20181028T010000
END:STANDARD
BEGIN:DAYLIGHT
TZOFFSETFROM:+0100
TZOFFSETTO:+0200
TZNAME:CEST
DTSTART:20190331T010000
END:DAYLIGHT
BEGIN:STANDARD
TZOFFSETFROM:+0200
TZOFFSETTO:+0100
TZNAME:CET
DTSTART:20191027T010000
END:STANDARD
END:VTIMEZONE
BEGIN:VEVENT
DTSTART;TZID=Europe/Paris:20180725T223000
DTEND;TZID=Europe/Paris:20180725T223000
DTSTAMP:20260424T015835
CREATED:20180612T112524Z
LAST-MODIFIED:20180612T125221Z
UID:33539-1532557800-1532557800@cicus.us.es
SUMMARY:21GRADOS · DORIS DÖRRIE\, NARRADORA DE HISTORIAS · HOMBRES\, HOMBRES
DESCRIPTION:22.30h · Patio Cicus  \nMiércoles 25 de julio \n  \nCiclo: Doris Dörrie\, Narradora de Historias \nHOMBRES\, HOMBRES \n(Doris Dörrie\, Alemania del Oeste\, 1985\, 99 min\, V.O.S.E.) \n  \n  \nLos celos hacen que un marido espíe a su mujer y descubra que esta mantiene un romance con otro hombre. Con el paso del tiempo\, entre el marido y el amante surge una relación que se transforma en amistad. (FILMAFFINITY)
URL:https://cicus.us.es/evento/21grados-%c2%b7-doris-dorrie-narradora-de-historias-%c2%b7-hombres-hombres/
LOCATION:CICUS · Patio\, C/ Madre de Dios\, 1\, Sevilla\, España
ATTACH;FMTTYPE=image/jpeg:https://cicus.us.es/wp-content/uploads/2018/06/25JUL.jpg
END:VEVENT
END:VCALENDAR