BEGIN:VCALENDAR
VERSION:2.0
PRODID:-//CICUS · Centro de Iniciativas Culturales de la Universidad de Sevilla - ECPv6.15.20//NONSGML v1.0//EN
CALSCALE:GREGORIAN
METHOD:PUBLISH
X-ORIGINAL-URL:https://cicus.us.es
X-WR-CALDESC:Eventos para CICUS · Centro de Iniciativas Culturales de la Universidad de Sevilla
REFRESH-INTERVAL;VALUE=DURATION:PT1H
X-Robots-Tag:noindex
X-PUBLISHED-TTL:PT1H
BEGIN:VTIMEZONE
TZID:Europe/Paris
BEGIN:DAYLIGHT
TZOFFSETFROM:+0100
TZOFFSETTO:+0200
TZNAME:CEST
DTSTART:20170326T010000
END:DAYLIGHT
BEGIN:STANDARD
TZOFFSETFROM:+0200
TZOFFSETTO:+0100
TZNAME:CET
DTSTART:20171029T010000
END:STANDARD
BEGIN:DAYLIGHT
TZOFFSETFROM:+0100
TZOFFSETTO:+0200
TZNAME:CEST
DTSTART:20180325T010000
END:DAYLIGHT
BEGIN:STANDARD
TZOFFSETFROM:+0200
TZOFFSETTO:+0100
TZNAME:CET
DTSTART:20181028T010000
END:STANDARD
BEGIN:DAYLIGHT
TZOFFSETFROM:+0100
TZOFFSETTO:+0200
TZNAME:CEST
DTSTART:20190331T010000
END:DAYLIGHT
BEGIN:STANDARD
TZOFFSETFROM:+0200
TZOFFSETTO:+0100
TZNAME:CET
DTSTART:20191027T010000
END:STANDARD
END:VTIMEZONE
BEGIN:VEVENT
DTSTART;TZID=Europe/Paris:20180724T223000
DTEND;TZID=Europe/Paris:20180724T223000
DTSTAMP:20260420T032248
CREATED:20180612T110334Z
LAST-MODIFIED:20180612T125221Z
UID:33529-1532471400-1532471400@cicus.us.es
SUMMARY:21GRADOS · IN MEMORIAM STÉPHANE AUDRAN · EL DISCRETO ENCANTO DE LA BURGUESÍA
DESCRIPTION:22.30h · Patio Cicus  \nMartes 24 de julio \n  \nCiclo: In memoriam: Stéphane Audran \nEL DISCRETO ENCANTO DE LA BURGUESÍA \n(Luis Buñuel\, Francia\, 1972\, 100 min\, V.O.S.E.) \n  \n  \nDon Rafael Costa\, embajador de Miranda\, y el matrimonio Thévenot están invitados a cenar en casa del matrimonio Sénechal\, pero a causa de un malentendido tienen que ir a un restaurante. Cuando llegan\, no pueden cenar porque el dueño del lugar ha muerto. A partir de ese momento\, las reuniones de este selecto grupo de burgueses se verán siempre interrumpidas por las circunstancias más extrañas\, algunas reales y otras fruto de su imaginación. (FILMAFFINITY) \n.
URL:https://cicus.us.es/evento/21grados-%c2%b7-in-memoriam-stephane-audran-%c2%b7-el-discreto-encanto-de-la-burguesia/
LOCATION:CICUS · Patio\, C/ Madre de Dios\, 1\, Sevilla\, España
ATTACH;FMTTYPE=image/jpeg:https://cicus.us.es/wp-content/uploads/2018/06/24JUL.jpg
END:VEVENT
END:VCALENDAR