BEGIN:VCALENDAR
VERSION:2.0
PRODID:-//CICUS · Centro de Iniciativas Culturales de la Universidad de Sevilla - ECPv6.15.20//NONSGML v1.0//EN
CALSCALE:GREGORIAN
METHOD:PUBLISH
X-ORIGINAL-URL:https://cicus.us.es
X-WR-CALDESC:Eventos para CICUS · Centro de Iniciativas Culturales de la Universidad de Sevilla
REFRESH-INTERVAL;VALUE=DURATION:PT1H
X-Robots-Tag:noindex
X-PUBLISHED-TTL:PT1H
BEGIN:VTIMEZONE
TZID:Europe/Paris
BEGIN:DAYLIGHT
TZOFFSETFROM:+0100
TZOFFSETTO:+0200
TZNAME:CEST
DTSTART:20170326T010000
END:DAYLIGHT
BEGIN:STANDARD
TZOFFSETFROM:+0200
TZOFFSETTO:+0100
TZNAME:CET
DTSTART:20171029T010000
END:STANDARD
BEGIN:DAYLIGHT
TZOFFSETFROM:+0100
TZOFFSETTO:+0200
TZNAME:CEST
DTSTART:20180325T010000
END:DAYLIGHT
BEGIN:STANDARD
TZOFFSETFROM:+0200
TZOFFSETTO:+0100
TZNAME:CET
DTSTART:20181028T010000
END:STANDARD
BEGIN:DAYLIGHT
TZOFFSETFROM:+0100
TZOFFSETTO:+0200
TZNAME:CEST
DTSTART:20190331T010000
END:DAYLIGHT
BEGIN:STANDARD
TZOFFSETFROM:+0200
TZOFFSETTO:+0100
TZNAME:CET
DTSTART:20191027T010000
END:STANDARD
END:VTIMEZONE
BEGIN:VEVENT
DTSTART;TZID=Europe/Paris:20180717T223000
DTEND;TZID=Europe/Paris:20180718T223000
DTSTAMP:20260423T184704
CREATED:20180612T125221Z
LAST-MODIFIED:20180702T122439Z
UID:33578-1531866600-1531953000@cicus.us.es
SUMMARY:21GRADOS · TEATRO · LAS HERMANAS RIVAS
DESCRIPTION:Días 17 y 18 de Julio · 22:30h \nPrecios:  \n3€ · Miembros de la comunidad universitaria de la Universidad de Sevilla. \n5€ · Entrada general. \nVenta de entradas desde las 20:30 horas en la conserjería del Centro. \n  \n  \nLAS HERMANAS RIVAS · CIA. DOBLESENTIDO PRODUCCIONES \n  \n“El amor es un acto extremadamente violento. Amor no significa amar a todos\, a todo. Amor significa\, selecciono algo y es la estructura del desequilibrio. \nAun cuando eso sea sólo un pequeño detalle\, una frágil persona indi-vidual. Yo digo: “te amo más que a cualquier cosa”. En este preciso sentido formal\, el amor es el mal.” \n  \nSlavoj Zizek \n  \nEl origen de este proyecto está inspirado en un cuento de Jorge Luís Borges “La Intrusa”. De su estructura y formato de “leyenda” poco queda. \n  \nIncluso el género de sus protagonistas es opuesto. En nuestra obra se va construyendo del propio relato la verdad de sus personajes\, que se \npresentan con el velo de sus deseos y pasiones\, y acaban condenados por sus propias decisiones. Equivocados o no\, parecerían no poder escapar del lugar que el destino les tenía asignados. \n  \nSINOPSIS: \nLas hermanas Dolores y Angustias Rivas están muy unidas\, lo comparten todo\, se consultan todo y nada hacen sin el consentimiento de la otra. Después de una noche de excesos Dolores conoce a un hombre\, El Potro Estrella\, un boxeador venido a menos. Sin consultar a Angustias lo trae a vivir a la casa. Él pasa a formar rápidamente parte de sus vidas. \nPara El Potro Estrella\, su única obsesión es entrenar para la pelea que lo llevara al triunfo definitivo. Poco a poco Angustias comienza a sentirse atraída por El Potro. Ella no puede controlar los deseos hacia el hombre de su hermana. \nDolores dándose cuenta de la situación\, y preservando el amor por su hermana decide darle vía libre a Angustias con El Potro Estrella. Desde ese momento\, comparten el mismo hombre. \nEsta situación tendrá consecuencias impredecibles. \n  \n  \nELENCO: \nAngustias: Regina Ferrando \nDolores: Luciana Drago \nEl Potro Estrella: Mariano Rochman \n  \nEQUIPO ARTÍSTICO: \nVestuario: Lucía López y Yolanda Leal \nProducción: Doble Sentido Producciones \nOperación Técnica: Sergio Guivernau y Raquel Rodríguez \nIluminación: Martín Egeido \nFotografía: Life Triumph \nVideo: Joppe de Bernardi \nDiseño gráfico y plataformas online: Verónica Troconis\, Paula Vega y Virginia Ramírez Herrero \nAsesor de boxeo: Quique Gómez Carrillo \nCompañía: Doble Sentido Producciones \nDirección: Adriana Roffi \nDuración: 75 min. \n  \nAlgunas apariciones en prensa han dicho: \n  \n\n“Cada uno de los actores está espléndido en su personaje\, creíbles hasta pensar por segundos que se está violando la intimidad de un hogar\, que eres un voyeur que no quieres perderte ni un instante…”\n\nJavier Sedano – Noviembre de 2015 \n  \n\n“Entre la monotonía y a\, ritmo de telenovela\, transcurren los días hasta que la pasión y el deseo se instala en sus vidas con la llegada de ‘El Potro Estrella’. Desgarrada\, pasional y llena de realismo..”\n\nAldo Ruiz Septiembre de 2015 \n  \n\n“Uno de los aspectos más atractivos de esta adaptación es el carácter contemporáneo de las mujeres aportando una mirada teatral e ideológica sumamente brillante. Por un lado\, el teatro bien servido en situaciones expresivas que dicen y sugieren mucho a través de las acciones\, huyendo de ese enemigo siniestro del teatro que es el discurso explicativo…\n\nHoracio Otheguy Riveira Noviembre de 2013 \n  \n\n“Lo que podría ser -y es- un drama rural acaba convirtiéndose en una comedia negra\, que ríen y aplauden los espectadores.\n\nLas hermanas Rivas” es buen teatro\, un espectáculo que se ve con interés porque está hecho con profesionalidad y talento.” \nAntonio Castro Junio de 2013 \n  \nwww.doblesentidoproducciones.com \nVideo corto promocional
URL:https://cicus.us.es/evento/21grados-%c2%b7-teatro-%c2%b7-las-hermanas-rivas/
LOCATION:CICUS · Patio\, C/ Madre de Dios\, 1\, Sevilla\, España
ATTACH;FMTTYPE=image/jpeg:https://cicus.us.es/wp-content/uploads/2018/06/teatro3.jpg
END:VEVENT
END:VCALENDAR