BEGIN:VCALENDAR
VERSION:2.0
PRODID:-//CICUS · Centro de Iniciativas Culturales de la Universidad de Sevilla - ECPv6.15.20//NONSGML v1.0//EN
CALSCALE:GREGORIAN
METHOD:PUBLISH
X-ORIGINAL-URL:https://cicus.us.es
X-WR-CALDESC:Eventos para CICUS · Centro de Iniciativas Culturales de la Universidad de Sevilla
REFRESH-INTERVAL;VALUE=DURATION:PT1H
X-Robots-Tag:noindex
X-PUBLISHED-TTL:PT1H
BEGIN:VTIMEZONE
TZID:Europe/Paris
BEGIN:DAYLIGHT
TZOFFSETFROM:+0100
TZOFFSETTO:+0200
TZNAME:CEST
DTSTART:20170326T010000
END:DAYLIGHT
BEGIN:STANDARD
TZOFFSETFROM:+0200
TZOFFSETTO:+0100
TZNAME:CET
DTSTART:20171029T010000
END:STANDARD
BEGIN:DAYLIGHT
TZOFFSETFROM:+0100
TZOFFSETTO:+0200
TZNAME:CEST
DTSTART:20180325T010000
END:DAYLIGHT
BEGIN:STANDARD
TZOFFSETFROM:+0200
TZOFFSETTO:+0100
TZNAME:CET
DTSTART:20181028T010000
END:STANDARD
BEGIN:DAYLIGHT
TZOFFSETFROM:+0100
TZOFFSETTO:+0200
TZNAME:CEST
DTSTART:20190331T010000
END:DAYLIGHT
BEGIN:STANDARD
TZOFFSETFROM:+0200
TZOFFSETTO:+0100
TZNAME:CET
DTSTART:20191027T010000
END:STANDARD
END:VTIMEZONE
BEGIN:VEVENT
DTSTART;TZID=Europe/Paris:20180628T193000
DTEND;TZID=Europe/Paris:20180628T193000
DTSTAMP:20260424T112948
CREATED:20180530T121655Z
LAST-MODIFIED:20180612T075237Z
UID:33382-1530214200-1530214200@cicus.us.es
SUMMARY:LA TRIBU · INAUGURACIÓN · PILAR BELLVER
DESCRIPTION:Jueves 28 de Junio · 19:30h \n  \nARQUEOLOGÍA LITERARIA FEMINISTA: EXCAVANDO ENTRE MITOS CLÁSICOS con Pilar Bellver. Presenta Carmen G. de la Cueva. \n  \nLos mitos clásicos greco-romanos han pervivido a lo largo de la historia de la literatura. Muchos escritores han sentido la necesidad de recrearlos en sus obras\, pero sin cuestionar el canon androcéntrico que esos mitos arrastran desde sus ancestros. También las escritoras han podido sentir esa necesidad. Pero\, ¿cuáles son los motivos diferenciales que llevan a las escritoras feministas a plantearse la necesidad de re-leerlos bajo una nueva luz? ¿Se puede hacer arqueología literaria para tratar de encontrar interpretaciones nuevas a los mitos clásicos? ¿Tiene sentido ese esfuerzo? \n  \nPilar Bellver nació en Villacarrillo\, Jaén\, en 1961. Licenciada en Periodismo por la Universidad Complutense de Madrid\, ha publicado: De las cosas que aprendí con el cedazo Nº 1 de mi abuelo (Premio Clarín de Cuentos de 1981\, publicado por la Universidad Complutense de Madrid); La tercera vez (Premio Nacional de Novela Breve J. L. Castillo-Puche de 1997\, publicado en 1998); Veinticuatro veces (Lumen\, 2000)\, su primera novela larga; La vendedora de tornillos o El tratado de las almas impuras (Elipsis Ediciones\, 2006); Vecinas\, relato incluido en Un deseo propio\, antología de escritoras españolas contemporáneas (Bruguera\, 2009); A todos nos matan antes de morir(Algaida\, 2010)\,  A Virginia le gustaba Vita\, relato incluido en la antología Ábreme con cuidado (Dos Bigotes\, 2015)\, que después se convirtió en la novela A Virginia le gustaba Vita (Dos Bigotes\, 2016) y V y V\, Violación y Venganza (Dos Bigotes\, 2017). La autora creó en 2008 la página pilarbellver.com con el único fin de ir permitiendo la descarga gratuita de sus obras publicadas en papel a medida que caducan los derechos editoriales. \n  \nTODA LA PROGRAMACIÓN AQUÍ \n  \nEl II Festival de Cultura Feminista de La tribu es gratuito salvo la actuación de Las XL que son 3 euros para comunidad universitaria y 5 euros para público general. Hay que inscribirse a los talleres para poder obtener plaza. Las inscripciones se abrirán próximamente en la web del CICUS: http://www.cicus.us.es/talleres \n 
URL:https://cicus.us.es/evento/la-tribu-%c2%b7-inauguracion-%c2%b7-pilar-bellver/
LOCATION:CICUS\, c/Madre de Dios 1-3\, Sevilla\, España
ATTACH;FMTTYPE=image/jpeg:https://cicus.us.es/wp-content/uploads/2018/05/LATRIBUPILARBELLVER.jpg
END:VEVENT
BEGIN:VEVENT
DTSTART;TZID=Europe/Paris:20180628T210000
DTEND;TZID=Europe/Paris:20180628T210000
DTSTAMP:20260424T112948
CREATED:20180604T115345Z
LAST-MODIFIED:20180604T115345Z
UID:33417-1530219600-1530219600@cicus.us.es
SUMMARY:MÚSICA ANTIGUA · AL-NAÍR ENSEMBLE Y ALBERTO BAREA · CUANDO LA HISTORIA SE HACE MÚSICA
DESCRIPTION:Jueves 28 de junio · 21h \n\nIglesia de la Anunciación \nEntrada libre hasta completar aforo \n  \n“Cuando la historia se hace música” es un proyecto inspirado en la figura del Juglar que iba de pueblo en pueblo contando las hazañas de sus Reyes\, historias y leyendas que han perdurado a través del tiempo. Lucía Carbonero (Flauta)\, María Cano (Oboe)\, Rafael Gurrea (Clarinete)\, Jaime Moreno (Trompa) y Loreto Linares (Fagot) conforman el ensemble que interpretará la música compuesta por Alberto Barea\, quien al mismo tiempo encarnará la figura del Juglar\, narrando historias y leyendas ubicadas en Andalucía\, con música de carácter descriptivo de tintes medievales y renacentistas. \nEn esta ocasión\, el Juglar narrará la Conquista de Sevilla del Rey Don Fernando III y la leyenda de la Cabeza del Rey Don Pedro. \n  \n1248\, La Conquista de Sevilla. Obra en forma de Poema Sinfónico inspirada en la narración de las “Crónicas Generales de España” de la Conquista de Sevilla por el Rey Don Fernando III “el Santo”. La obra\, de una duración aproximada de 22 minutos\, posee un carácter descriptivo\, bajo la visión de su compositor\, que se conjuga con textos narrativos que cuentan los hechos más relevantes que propiciaron el éxito de la Conquista de la Ciudad de Sevilla en el año 1248. \nEl lenguaje musical usado aborda años de estudio de la música medieval cuya principal textura es la monodia acompañada y que en ciertos pasajes se deja ver de forma sutil. Del mismo modo y eligiendo el lenguaje de la fuga como expresión\, dos de sus movimientos dejan ver las destrezas interpretativas del quinteto y sus recursos más característicos. \nEn general se usa un lenguaje\, entre lo tonal y lo modal de fácil audición\, cuya función principal combinada con los textos será la de despertar en el oyente su sentido de la imaginación\, atrayéndolo hacia los tiempos del medievo\, el tiempo de los Castillos\, de las Conquistas\, sus historias y sus leyendas… \nLa Cabeza del Rey Don Pedro\, forma parte de una obra titulada «Leyendas de Sevilla»\, donde la música y el modo recitativo se unen para contar breves leyendas en torno al monarca que más peso cultural dejó plasmado en la Ciudad de Sevilla\, Don Pedro I de Castilla. Tramas\, duelos a espada\, engaños\, romances y picaresca\, son llevados a la partitura en un lenguaje tonal que dejan entrever recuerdos de la canción popular y las formas típicas empleadas como Leitmotiv de los diferentes personajes implicados en la historia.
URL:https://cicus.us.es/evento/musica-antigua-%c2%b7-al-nair-ensemble-y-alberto-barea-%c2%b7-cuando-la-historia-se-hace-musica/
LOCATION:IGLESIA DE LA ANUNCIACIÓN\, c/ Laraña s/n\, Sevilla\, Sevilla\, España
ATTACH;FMTTYPE=image/jpeg:https://cicus.us.es/wp-content/uploads/2018/06/concierto.jpg
END:VEVENT
BEGIN:VEVENT
DTSTART;TZID=Europe/Paris:20180628T210000
DTEND;TZID=Europe/Paris:20180628T210000
DTSTAMP:20260424T112948
CREATED:20180606T130451Z
LAST-MODIFIED:20180612T073736Z
UID:33441-1530219600-1530219600@cicus.us.es
SUMMARY:FEMM+ · PROYECCIÓN · A LIFE IN WAVES
DESCRIPTION:(Brett Whitcomb\, EE.UU.\, 2017\, 75 min\, V.O.S.E.) \n  \nAuditorio CICUS · 21h \n  \nA Life in Waves es una inmersión en el mágico y cándido mundo de Suzanne Ciani\, pionera de la música electrónica y “ reina de los efectos musicales ” para la industria publicitaria. También cuenta la historia de su reinvención como estrella de la new wave\, su redescubrimiento por parte de una nueva generación de curiosos de los sintetizadores analógicos y el reencuentro con su viejo y gran amor: los instrumentos creados por Don Buchla durante los años 60 en el San Francisco Tape Music Center. En este documental de Brett Whitcomb y Bradford Thomason (tándem que ya reivindicó a otras mujeres\, las de la lucha libre\, en ‘Glow: The Story of Gorgeus Ladies of Wrestling’) artistas como Kitaro\, Peter Baumann (Tangerine Dream) o Robert Aiki Aubrey Lowe reverencian el talento de una mujer a la que durante décadas todo el mundo había escuchado pero de la que muy pocos sabían el nombre. Una historia llena de sonidos marcianos que en sus manos pueden conformar místicas odas a la naturaleza y también dar personalidad a un lavavajillas\, un cortador de césped o una botella de refresco. Sensualidad\, romanticismo a raudales y la irreductible fuerza de voluntad de una mujerpara abrirse camino en un “negocio de hombres\, en el que no tenía más remedio que ser mejor que ellos” \n  \nFEMM + es un ciclo dirigido a visualizar el papel de la mujer dentro de la escena musical más creativa de nuestro país. La propuesta plantea una acción multidisciplinar (taller práctico + mesa debate + proyección de documentales + actuaciones en vivo) desarrollada durante cuatro días dentro de un entorno universitario. \nPoniendo el foco sobre diferentes mujeres creadoras y profesionales de la industria musical\, FEMM + busca en esta primera temporada estival trazar una línea editorial en la que creación y reflexión conecten con el espectáculo desde un punto de vista femenino. Para ello se ha contado con instituciones aliadas del nivel de Fundación SGAE (implicada desde el principio en la dotación de contenidos tras concretar un acuerdo de colaboración con el Centro de Iniciativas Culturales de la Universidad de Sevilla)\, AIE (agente colaborador muy vinculado a la difusión de la música en directo con su circuito Artistas en Ruta)\, Asociación de Mujeres de la Industria de la Música (MIM)\, el prestigioso Festival de Cine Documental In-Edit (encargados de la selección de varias películas que se emitirán en el marco de Femm +)\, el Festival de Showcases y Feria de la Industria Musical Monkey Week (cabeza visible en Andalucía del esfuerzo por programar con criterios de paridad)\, la cabecera especializada en música independiente Mondo Sonoro y l@s agentes culturales Loveplugged. \nEl objetivo de la narrativa que guía a FEMM + se encuentra en la colaboración y la creación de sinergias que ayuden a visualizar la labor creativa y profesional que tiene la mujer dentro del mundo de la música (entendiendo esta disciplina como una manera de expresarse como individuo)\, más allá de posicionamientos políticos o de cualquier activismo social. \nEste nuevo ciclo\, que pretende instaurarse a lo largo del tiempo como un punto de encuentro en la provincia\, está enmarcado dentro del programa de actividades de verano del CICUS\, 21 GRADOS\, referente en la programación anual de la Universidad y de la ciudad en general. \nTodas las actividades que se desarrollarán en FEMM + serán gratuitas excepto el taller (que tendrá un precio simbólico previa inscripción\, por temas exclusivamente de aforo) y los conciertos (en un intento por enfatizar el valor que deberíamos adscribir a las actividades culturales\, vistas estas desde un punto de vista profesional y como modelo de consumo sostenible en el tiempo). \nEste ciclo no habría sido posible sin el apoyo de sus colaboradores\, haciendo especial\nmención a Fundación SGAE\, AIE y MIM. \n 
URL:https://cicus.us.es/evento/femm-%c2%b7-proyeccion-%c2%b7-a-life-in-waves/
ATTACH;FMTTYPE=image/jpeg:https://cicus.us.es/wp-content/uploads/2018/06/LIFEINWAVES.jpg
END:VEVENT
BEGIN:VEVENT
DTSTART;TZID=Europe/Paris:20180628T224500
DTEND;TZID=Europe/Paris:20180628T224500
DTSTAMP:20260424T112948
CREATED:20180606T130404Z
LAST-MODIFIED:20180606T130404Z
UID:33446-1530225900-1530225900@cicus.us.es
SUMMARY:FEMM+ · CONCIERTO · SOLEDAD VÉLEZ
DESCRIPTION:Patio CICUS · 22:45h \nSoledad Vélez nació en Concepción (Chile) en 1988. A los 13 años\, influida por el ambiente musical de su casa\, empezó a interesarse por los discos de blues y jazz que rondaban por casa (Nina Simone a la cabeza). Para gozo de sus fans\, en aquella época comenzó a tocar la guitarra. Tras decidir abandonar sus estudios de arquitectura\, la joven Vélez se lanzó a componer canciones. Tras por cambiar su residencia a Argentina\, convencida por un amigo músico español acabó prefiriendo emigrar a España\, concretamente a Valencia. Ya afincada en nuestro país y tras una larga\ntemporada cantando en un cuarteto de jazz\, decidió dar el salto en solitario y se auto editó ‘Four reasons to sing\,’ un EP de cuatro canciones grabado en el home estudio de un amigo. A principios de 2011\, tras fichar con Sello Salvaje\, lanzó ‘Black Light in the Forest’\, su segundo EP. Todos empezaban a hablar de Soledad\, la PJ Harvey latina\, la Diamanda Galàs del pop\, una mujer capaz de quebrar al más pintado con su actitud incendiaria y aquella voz musculosa y sugerente. Sus primeros álbumes\, ‘Wild Fishing’ (2012)\, ‘Run With Wolves’ (2013) y el poderoso ‘Dance and Hunt’ (2016) terminaron situando a la chilena en el Top del pop-rock independiente de nuestro país. Folk-rock intrépido y emocional\, en la mejor tradición de Cat Power o Siouxie. Intensa\, carismática y sin miedo al cambio\, Soledad ha vuelto en 2018 con un nuevo álbum bajo el brazo: ‘Nuevas Épocas’\, un cambio de registro con el que la compositora se sumerge en el synth-pop cantado en castellano. Un disco del que todo el mundo habla y que ha supuesto la entrada de Mrs. Vélez por la puerta grande del pop alternativo más expansivo y emocional. \n6€ / 3€ Com. Universitaria. Taquilla desde una hora antes en el CICUS. \n  \nFEMM + es un ciclo dirigido a visualizar el papel de la mujer dentro de la escena musical más creativa de nuestro país. La propuesta plantea una acción multidisciplinar (taller práctico + mesa debate + proyección de documentales + actuaciones en vivo) desarrollada durante cuatro días dentro de un entorno universitario. \nPoniendo el foco sobre diferentes mujeres creadoras y profesionales de la industria musical\, FEMM + busca en esta primera temporada estival trazar una línea editorial en la que creación y reflexión conecten con el espectáculo desde un punto de vista femenino. Para ello se ha contado con instituciones aliadas del nivel de Fundación SGAE (implicada desde el principio en la dotación de contenidos tras concretar un acuerdo de colaboración con el Centro de Iniciativas Culturales de la Universidad de Sevilla)\, AIE (agente colaborador muy vinculado a la difusión de la música en directo con su circuito Artistas en Ruta)\, Asociación de Mujeres de la Industria de la Música (MIM)\, el prestigioso Festival de Cine Documental In-Edit (encargados de la selección de varias películas que se emitirán en el marco de Femm +)\, el Festival de Showcases y Feria de la Industria Musical Monkey Week (cabeza visible en Andalucía del esfuerzo por programar con criterios de paridad)\, la cabecera especializada en música independiente Mondo Sonoro y l@s agentes culturales Loveplugged. \nEl objetivo de la narrativa que guía a FEMM + se encuentra en la colaboración y la creación de sinergias que ayuden a visualizar la labor creativa y profesional que tiene la mujer dentro del mundo de la música (entendiendo esta disciplina como una manera de expresarse como individuo)\, más allá de posicionamientos políticos o de cualquier activismo social. \nEste nuevo ciclo\, que pretende instaurarse a lo largo del tiempo como un punto de encuentro en la provincia\, está enmarcado dentro del programa de actividades de verano del CICUS\, 21 GRADOS\, referente en la programación anual de la Universidad y de la ciudad en general. \nTodas las actividades que se desarrollarán en FEMM + serán gratuitas excepto el taller (que tendrá un precio simbólico previa inscripción\, por temas exclusivamente de aforo) y los conciertos (en un intento por enfatizar el valor que deberíamos adscribir a las actividades culturales\, vistas estas desde un punto de vista profesional y como modelo de consumo sostenible en el tiempo). \nEste ciclo no habría sido posible sin el apoyo de sus colaboradores\, haciendo especial\nmención a Fundación SGAE\, AIE y MIM. \n 
URL:https://cicus.us.es/evento/femm-%c2%b7-concierto-%c2%b7-soledad-velez/
ATTACH;FMTTYPE=image/jpeg:https://cicus.us.es/wp-content/uploads/2018/06/SOLEDAD-VELEZ.jpg
END:VEVENT
END:VCALENDAR