BEGIN:VCALENDAR
VERSION:2.0
PRODID:-//CICUS · Centro de Iniciativas Culturales de la Universidad de Sevilla - ECPv6.15.20//NONSGML v1.0//EN
CALSCALE:GREGORIAN
METHOD:PUBLISH
X-WR-CALNAME:CICUS · Centro de Iniciativas Culturales de la Universidad de Sevilla
X-ORIGINAL-URL:https://cicus.us.es
X-WR-CALDESC:Eventos para CICUS · Centro de Iniciativas Culturales de la Universidad de Sevilla
REFRESH-INTERVAL;VALUE=DURATION:PT1H
X-Robots-Tag:noindex
X-PUBLISHED-TTL:PT1H
BEGIN:VTIMEZONE
TZID:Europe/Paris
BEGIN:DAYLIGHT
TZOFFSETFROM:+0100
TZOFFSETTO:+0200
TZNAME:CEST
DTSTART:20170326T010000
END:DAYLIGHT
BEGIN:STANDARD
TZOFFSETFROM:+0200
TZOFFSETTO:+0100
TZNAME:CET
DTSTART:20171029T010000
END:STANDARD
BEGIN:DAYLIGHT
TZOFFSETFROM:+0100
TZOFFSETTO:+0200
TZNAME:CEST
DTSTART:20180325T010000
END:DAYLIGHT
BEGIN:STANDARD
TZOFFSETFROM:+0200
TZOFFSETTO:+0100
TZNAME:CET
DTSTART:20181028T010000
END:STANDARD
BEGIN:DAYLIGHT
TZOFFSETFROM:+0100
TZOFFSETTO:+0200
TZNAME:CEST
DTSTART:20190331T010000
END:DAYLIGHT
BEGIN:STANDARD
TZOFFSETFROM:+0200
TZOFFSETTO:+0100
TZNAME:CET
DTSTART:20191027T010000
END:STANDARD
END:VTIMEZONE
BEGIN:VEVENT
DTSTART;TZID=Europe/Paris:20180524T110000
DTEND;TZID=Europe/Paris:20180524T200000
DTSTAMP:20260422T113515
CREATED:20180424T115146Z
LAST-MODIFIED:20180522T111501Z
UID:32565-1527159600-1527192000@cicus.us.es
SUMMARY:EXPOSICIÓN · EL CLAMOR DE LAS MOSCAS
DESCRIPTION:Chema Cobo \n  \nDel 24 de mayo al 31 de julio \nSala MDD. CICUS \nDe lunes a viernes de 11 a 20 h. sábados y festivos cerrado \nDesde 18 de junio cerrado de 14 a 18 h. \n Inauguración el 24 de mayo a las 20 h.  \nChema Cobo (1952)\, artista nacido en Tarifa\, lugar de encuentro entre diferentes culturas\, puerta de Europa a África\, atlántica y mediterránea. Cursó estudios de Filosofía y letras y se inició en el mundo de la imagen a través del cine\, que más tarde abandonaría -formalmente no volvería a rodar- para dedicarse de lleno a las artes plásticas. Avezado lector y diestro escritor. Sus aforismos son prueba de ello\, todo un recetario absurdo\, apocalíptico\, divertido y demoledor al mismo tiempo. \nAhora presentamos en el Centro de Iniciativas Culturales de la Universidad de Sevilla -CICUS-\, una muestra del artista. Una propuesta que nace tras la adquisición de ocho de sus dibujos\, fechados entre el 77 y 79 y que por primera vez tenemos la oportunidad de ver públicamente en su conjunto. Con la excusa de dar visibilidad a esta reciente incorporación al patrimonio universitario\, hemos contextualizado estos dibujos con otra parte de su trabajo para acercarnos todo lo posible al universo del artista. Esta exhibición podría ser esta\, pero también podría haber sido otra\, nacer de otra manera. Un artista como Chema Cobo\, con una dilatadísima carrera profesional y una vasta producción\, tan poliédrico\, tan críptico\, habría dado numerosas posibilidades expositivas. \nBajo el título El clamor de las moscas\, acogemos un trabajo situado más al margen de discursos oficialistas o institucionalizados. Dibujos y bocetos procedentes del archivo personal y más íntimo del artista\, muchos de ellos nunca expuestos anteriormente. Atendiendo a la naturaleza del centro que nos acoge\, planteamos esta muestra como un lugar de investigación\, análisis y reflexión\, donde el grueso de la obra que se exhibe no se haya visto antes o no\, desde las perspectivas que aquí intentamos arrojar. Pretendemos con ello abrir nuevas vías de exploración y conocimiento sobre la trayectoria de Chema Cobo. \nTenemos ante nosotros a uno de los artistas españoles más irreverentes y ácratas. Ha vivido en Tarifa\, Sevilla\, Madrid\, Nueva York\, Chicago\, Bruselas y Roma entre otros lugares. Fue uno de los integrantes de la Nueva Figuración Madrileña de los 70\, los llamados “esquizos”. Ahí realizó un trabajo irónico\, ácido y sobre todo libre de cualquier atadura\, arrojando al mundo de las artes plásticas españolas una nueva visión más allá del informalismo gris que lo dominaba todo. \nDesde muy joven ha estado presente en las colecciones internacionales más importantes como lo son el Metropolitan y el MoMA en Nueva York o el Museo de Arte Moderno de Chicago. En España su obra forma parte de las colecciones del Museo Nacional Centro de Arte Reina Sofía o el Centro Andaluz de Arte Contemporáneo entre otros y desde hace poco\, podemos encontrarlo en la colección de la Universidad de Sevilla.
URL:https://cicus.us.es/evento/exposicion-%c2%b7-el-clamor-de-las-moscas/
LOCATION:CICUS · Sala MDD\, c/Madre de Dios 1-3\, Sevilla\, España
ATTACH;FMTTYPE=image/jpeg:https://cicus.us.es/wp-content/uploads/2018/04/CHEMACOBO.jpg
END:VEVENT
END:VCALENDAR