BEGIN:VCALENDAR
VERSION:2.0
PRODID:-//CICUS · Centro de Iniciativas Culturales de la Universidad de Sevilla - ECPv6.15.20//NONSGML v1.0//EN
CALSCALE:GREGORIAN
METHOD:PUBLISH
X-ORIGINAL-URL:https://cicus.us.es
X-WR-CALDESC:Eventos para CICUS · Centro de Iniciativas Culturales de la Universidad de Sevilla
REFRESH-INTERVAL;VALUE=DURATION:PT1H
X-Robots-Tag:noindex
X-PUBLISHED-TTL:PT1H
BEGIN:VTIMEZONE
TZID:Europe/Paris
BEGIN:DAYLIGHT
TZOFFSETFROM:+0100
TZOFFSETTO:+0200
TZNAME:CEST
DTSTART:20170326T010000
END:DAYLIGHT
BEGIN:STANDARD
TZOFFSETFROM:+0200
TZOFFSETTO:+0100
TZNAME:CET
DTSTART:20171029T010000
END:STANDARD
BEGIN:DAYLIGHT
TZOFFSETFROM:+0100
TZOFFSETTO:+0200
TZNAME:CEST
DTSTART:20180325T010000
END:DAYLIGHT
BEGIN:STANDARD
TZOFFSETFROM:+0200
TZOFFSETTO:+0100
TZNAME:CET
DTSTART:20181028T010000
END:STANDARD
BEGIN:DAYLIGHT
TZOFFSETFROM:+0100
TZOFFSETTO:+0200
TZNAME:CEST
DTSTART:20190331T010000
END:DAYLIGHT
BEGIN:STANDARD
TZOFFSETFROM:+0200
TZOFFSETTO:+0100
TZNAME:CET
DTSTART:20191027T010000
END:STANDARD
END:VTIMEZONE
BEGIN:VEVENT
DTSTART;TZID=Europe/Paris:20180412T080000
DTEND;TZID=Europe/Paris:20180516T170000
DTSTAMP:20260420T041918
CREATED:20180321T131613Z
LAST-MODIFIED:20180413T122515Z
UID:32108-1523520000-1526490000@cicus.us.es
SUMMARY:EXPOSICIÓN XXIV CERTAMEN EUROPEO DE ARTES PLÁSTICAS UNIVERSIDAD DE SEVILLA
DESCRIPTION:Sala MDD\nDesde  12 de abril al 16 de mayo\nHORARIO: De 11 a 20 horas\, de lunes a viernes. Sábados y festivos cerrado. \nDurante los días laborables de Feria\, se abrirá desde las 11 a las 13:30h. \n  \nInauguración 12 de abril\, a las 19h \n  \nEl Premio Europeo de Artes Plásticas convocado por la Universidad de Sevilla\, a través de su Centro de Iniciativas Culturales (CICUS)\, cumple su vigésimo cuarto aniversario. Casi veinticinco años potenciando nuestra política de apoyo a la creación artística. Jóvenes universitarios o egresados recientes encuentran\, año a año\, en nuestras convocatorias\, un espacio para pensar\, para crear y\, finalmente\, para mostrarnos a todos el resultado de su proceso creativo.\nUna generación emergente que este año\, de nuevo\, nos muestra su obra en los espacios expositivos del CICUS\, en su sede de la calle Madre de Dios.
URL:https://cicus.us.es/evento/exposicion-xxiv-certamen-nacional-de-artes-plasticas-universidad-de-sevilla/
LOCATION:CICUS · Sala MDD\, c/Madre de Dios 1-3\, Sevilla\, España
ATTACH;FMTTYPE=image/jpeg:https://cicus.us.es/wp-content/uploads/2018/04/expoartesplasticas-1.jpg
END:VEVENT
BEGIN:VEVENT
DTSTART;VALUE=DATE:20180507
DTEND;VALUE=DATE:20180512
DTSTAMP:20260420T041918
CREATED:20180425T105835Z
LAST-MODIFIED:20180425T124619Z
UID:32720-1525651200-1526083199@cicus.us.es
SUMMARY:RUTAS DEL 27 · SEVILLA
DESCRIPTION:LAS MINERVAS DEL 27. LAS REVISTAS DE UNA GENERACIÓN \n  \n¿Dónde se alojaron los poetas del 27 durante su visita a Sevilla en diciembre de ese mítico año? ¿Qué fiestas celebraron? ¿Qué significó la ciudad para la Edad de Plata? El paseante seguirá un itinerario guiado para descubrir el 27 a modo de topoliteraturas. El recorrido propone seguir los lugares donde se reunían los escritores de la revista Mediodía\, plataforma de difusión del 27 sevillano; desvela los escenarios que recorrió la “brillante pléyade” de poetas de Madrid en los recitales organizados por el Ateneo; e invita a reconocer en qué espacios sevillanos se inspiraron los poetas del 27. \n  \nLunes 7 de mayo – viernes 11 de mayo \nMañana 11-12:30 h / Tarde 19-20:30 h \n  \nInscripciones en www.cicus.us.es \n  \nLugar de inicio: Stand de la Editorial de la Universidad de Sevilla en la Feria del Libro\, Plaza Nueva\, 41001 Sevilla \nLugar de finalización: Patio de Banderas\, 41004 Sevilla \n  \nEn colaboración con
URL:https://cicus.us.es/evento/escritorio-%c2%b7-the-life-and-works-of-william-butler-yeats-2/
LOCATION:FERIA DEL LIBRO\, Plaza Nueva\, Sevilla\, Sevilla\, 41004\, España
ATTACH;FMTTYPE=image/jpeg:https://cicus.us.es/wp-content/uploads/2018/04/RUTAS-DEL-27-1.jpg
END:VEVENT
BEGIN:VEVENT
DTSTART;TZID=Europe/Paris:20180509T110000
DTEND;TZID=Europe/Paris:20180509T210000
DTSTAMP:20260420T041919
CREATED:20180424T114026Z
LAST-MODIFIED:20180424T114927Z
UID:32417-1525863600-1525899600@cicus.us.es
SUMMARY:EXPOSICIÓN · PLAYA NEGRA. UN LUGAR EN GALÁPAGOS
DESCRIPTION:Javier Andrada \n  \nDel 9 de mayo al 31 de julio \nSala Casajús. CICUS \nDe lunes a viernes de 11 a 21 h. sábados y festivos cerrado \nDesde 18 de junio cerrado de 14 a 18 h. \n  \nPlaya Negra es la puerta de entrada a Floreana\, la más pequeña de las islas habitadas de las Galápagos. Allí convivió Javier Andrada entre 2009 y 2015\, en seis ocasiones diferentes de varios meses cada una\, con Pedro Cantero y Esteban Ruiz Ballesteros como miembro de un equipo de investigación antropológica. El uso de la fotografía se reveló parte consustancial en el método etnográfico empleado\, no sólo en el registro final\, sino también en las fases previas de observación del entorno y sobre todo por facilitar la fluidez del diálogo con los habitantes de la isla. Todo ese trabajo se editó en 2015 como libro con el título de “Floreana\, islamundo en Galápagos”. \nA partir del gran archivo de fotografías obtenido entonces\, Floreana se muestra ahora como una exposición autónoma que quiere recorrer la diversidad natural y humana de la isla. En el imaginario colectivo\, Galápagos puede aparecer como un paraíso intocado\, original\, donde Charles Darwin llegó en 1835 y tomó apuntes decisivos para elaborar su teoría de la evolución\, pero actualmente el archipiélago está poblado por 30.000 habitantes y en Floreana\, de manera muy evidente\, se debaten otras cuestiones relacionadas con el binomio naturaleza-cultura: conservación ambiental\, sostenibilidad\, turismo\, mercado o comunidad frente al estado. \nLa exposición\, más allá del mito y la leyenda\, es un encuentro con el presente de Floreana; isla de origen volcánico con una población cercana a los 150 habitantes que apenas ocupan el 2% de la superficie en dos zonas muy diferenciadas\, la playa y la parte alta. El resto es zona protegida\, el parque natural de Galápagos. \nEl recorrido visual se abre con el mar y se estructura en cuatro bloques temáticos (materia elemental\, familias\, construcciones y la galapaguera) presentados como polípticos sobre los que inciden numerosas fotografías de diversos tamaños\, enriqueciendo sus contenidos a la vez que sirven como elementos de conexión entre los temas básicos\, componiendo un recorrido unitario donde cada detalle es válido por sí mismo pero alcanza su sentido pleno como parte de un todo que es\, al fin y al cabo\, Floreana. Como no podía ser de otra manera\, el itinerario circular se cierra con el mar: una suerte de partitura fotográfica para ser interpretada por el espectador. \nA pesar de la importancia del paisaje\, la vegetación y la fauna autóctona\, la clave dominante está centrada en la comunidad que puebla Floreana\, en el habitar la isla. Y es que\, como dijo el poeta John Donne: Ningún hombre es una isla entera por sí mismo. Cada hombre es una pieza del continente\, una parte del todo. \n 
URL:https://cicus.us.es/evento/exposicion-%c2%b7-playa-negra-un-lugar-en-galapagos/
LOCATION:CICUS · Sala Casajús\, c/Madre de Dios 1\, Sevilla\, 41004\, España
ATTACH;FMTTYPE=image/jpeg:https://cicus.us.es/wp-content/uploads/2018/04/PLAYANEGRA.jpg
END:VEVENT
BEGIN:VEVENT
DTSTART;TZID=Europe/Paris:20180509T200000
DTEND;TZID=Europe/Paris:20180509T200000
DTSTAMP:20260420T041919
CREATED:20180503T093040Z
LAST-MODIFIED:20180504T083357Z
UID:32859-1525896000-1525896000@cicus.us.es
SUMMARY:XIII MUESTRA DEL AUDIOVISUAL ANDALUZ · MORIR
DESCRIPTION:Sesión 2 · Miércoles 9 de mayo · 20h · Auditorio Cicus \nCORTOMETRAJE · ARAAN \n(Jorge Dayas\, 2015\, 6 min) \nUna niña espera en casa la llegada de su padre que está luchando en el frente. Lejos de allí\, en un bosque nevado un pelotón de paracaidistas se enfrenta a un enemigo que les sorprende con fuego de ametralladora y artillería. Todos caen en la emboscada excepto uno de ellos\, que ha aguantado el ataque parapetado entre los árboles. \n  \nLARGOMETRAJE · MORIR \n(Fernando Franxo\, 2017\, 98 min) \nLuis y Marta llevan varios años en una sólida relación sentimental. Sin embargo\, la irrupción de un diagnóstico médico cambia por completo la dinámica de la pareja: comienzan a aflorar las primeras muestras de una crisis en la que se mezclan sentimientos muy diversos y\, en ocasiones\, encontrados. Todo este cóctel de emociones les acompaña y se acrecienta en sus viajes entre la ciudad y la casa de la playa. \nAdaptación libre de la novela homónima de Arthur Schnitzle. \n  \nPara consultar todos los detalles de la programación\, descárgate el programa AQUÍ \n  \nEn colaboración con
URL:https://cicus.us.es/evento/xiii-muestra-del-audiovisual-andaluz-%c2%b7-morir/
ATTACH;FMTTYPE=image/jpeg:https://cicus.us.es/wp-content/uploads/2018/05/morir.jpg
END:VEVENT
BEGIN:VEVENT
DTSTART;TZID=Europe/Paris:20180509T213000
DTEND;TZID=Europe/Paris:20180509T213000
DTSTAMP:20260420T041919
CREATED:20180322T141749Z
LAST-MODIFIED:20180322T141749Z
UID:32270-1525901400-1525901400@cicus.us.es
SUMMARY:21 FESTIVAL DE JAZZ · PEPA NIEBLA QUINTET
DESCRIPTION:Jazz Vocal \nPepa Niebla            -Voz (España) \nToni Mora              – Guitarra Electrica (España) \nAlex Gilson             – Double Bass ( Francia) \nPiergiorgio Pirro  – Piano (Italia) \nDaniel Jonkers      – Drums (Holanda) \n  \nPepa Niebla ha trabajado en numerosos formatos desde sus comienzos. Fue en el año 2014 cuando decide cambiar el dúo por un quinteto\, formato en el que Pepa Niebla siempre ha disfrutado y apostado por él. Con esta formato grabó una muestra con Billie Holiday como icono de proyecto y fuente de creación. Tras esa grabación Pepa Niebla se desplaza a Bruselas donde conocerá a los miembros de su actual quinteto. Una banda internacional de grandes talentos con la que Pepa Niebla pilota su propio proyecto combinando composiciones propias y arreglos originales de su mano y sus propios compañeros como es el caso del Guitarrista Toni Mora reflejando en su programa la influencia del jazz mas tradicional y estéticas jazzísticas más contemporáneas. \nJam Sessions en Restaurante Torre de los perdigones a partir de las 22.30\, una vez concluidos los conciertos en el teatro. \nEntradas/ Venta anticipada en la taquilla del Teatro Lope de Vega (Av. de María Luisa s/n)\, de martes a sábado de 11 a 14 y de 17:30 a 20:30 h.\, y en www.teatroalamedasevilla.org y www.icas-sevilla.org y una hora antes de cada concierto en la propia sala (en caso de no estar agotadas las localidades) \nPrecio: 12€ General y 6€ Comunidad universitaria y socios Assejazz \n \n 
URL:https://cicus.us.es/evento/21-festival-de-jazz-%c2%b7-pepa-niebla-quintet/
LOCATION:Teatro Alameda\, c/Crédito s/n\, Sevilla\, España
ATTACH;FMTTYPE=image/jpeg:https://cicus.us.es/wp-content/uploads/2018/03/PEPANIEBLA.jpg
END:VEVENT
END:VCALENDAR