BEGIN:VCALENDAR
VERSION:2.0
PRODID:-//CICUS · Centro de Iniciativas Culturales de la Universidad de Sevilla - ECPv6.15.20//NONSGML v1.0//EN
CALSCALE:GREGORIAN
METHOD:PUBLISH
X-ORIGINAL-URL:https://cicus.us.es
X-WR-CALDESC:Eventos para CICUS · Centro de Iniciativas Culturales de la Universidad de Sevilla
REFRESH-INTERVAL;VALUE=DURATION:PT1H
X-Robots-Tag:noindex
X-PUBLISHED-TTL:PT1H
BEGIN:VTIMEZONE
TZID:Europe/Paris
BEGIN:DAYLIGHT
TZOFFSETFROM:+0100
TZOFFSETTO:+0200
TZNAME:CEST
DTSTART:20170326T010000
END:DAYLIGHT
BEGIN:STANDARD
TZOFFSETFROM:+0200
TZOFFSETTO:+0100
TZNAME:CET
DTSTART:20171029T010000
END:STANDARD
BEGIN:DAYLIGHT
TZOFFSETFROM:+0100
TZOFFSETTO:+0200
TZNAME:CEST
DTSTART:20180325T010000
END:DAYLIGHT
BEGIN:STANDARD
TZOFFSETFROM:+0200
TZOFFSETTO:+0100
TZNAME:CET
DTSTART:20181028T010000
END:STANDARD
BEGIN:DAYLIGHT
TZOFFSETFROM:+0100
TZOFFSETTO:+0200
TZNAME:CEST
DTSTART:20190331T010000
END:DAYLIGHT
BEGIN:STANDARD
TZOFFSETFROM:+0200
TZOFFSETTO:+0100
TZNAME:CET
DTSTART:20191027T010000
END:STANDARD
END:VTIMEZONE
BEGIN:VEVENT
DTSTART;TZID=Europe/Paris:20180302T200000
DTEND;TZID=Europe/Paris:20180302T200000
DTSTAMP:20260422T053117
CREATED:20180123T140918Z
LAST-MODIFIED:20180226T202220Z
UID:30863-1520020800-1520020800@cicus.us.es
SUMMARY:ESTRÉNATE 2017 · Cía: LAPEPEPITA · TÚ&TÚ
DESCRIPTION:2 marzo 2018 \n  \nSobre la compañía: \nCompañía LAPEPEPITA nació ayer. \nPorque fue ayer cuando decidí bautizarla como LAPEPEPITA; así es como lo dice Sofía y punto. \nY la determinación de Sofía\, con sus dos años y medio\, es mi impulso para seguir dándole forma a esta Productora de Ideas que me hace más y más feliz. \nAyer tomé la decisión\, hoy estoy plena\, mañana…mañana…tomorrow… \nLAPEPEPITA es Marisa Refoyo\, actriz\, creadora\, docente. \nLicenciada en Arte Dramático en la Esad de Murcia 2001.Miembro de la compañía Vagalume Teatro desde 2007. \nHa trabajado con las compañías: La Rous\, La Canela\, Laviebel. \nEsta es su primera experiencia en solitario: “Un gran salto al vacío…pero me río.” \n  \nSobre la obra: \nEn el mundo de las rocas sólo hay rocas\, rocas…y un palo. \nY hay que deshacerse de él\, porque es distinto\, raro. \nRoca es su única amiga\, pero cuando las otras piedras los descubren\, expulsarán a Palo de su mundo. \nTù&Tú es el viaje de Roca\, la protagonista\, en busca de Palo. \nDescubrirá la importancia de no conformarse con lo que existe y se dará cuenta de todas las cosas de las que son capaces de hacer una Roca y un Palo. \nTan opuestos y a su vez tan complementarios. \nTù&Tú se desarrolla en una mesa. Un espectáculo de formato pequeño para todos los públicos donde Petra\, la rockera\, nos atrapará en su juego de piedras\, palos\, canciones y cacharros. \n  \nFicha artística y técnica: \nPuesta en escena: Marisa Refoyo \nDirección: Maite Campos. \nCreación y dramaturgia: Marisa Refoyo y Maite Campos. \nConstrucción de escenografía y diseño: Fabián Huertes Castillo \nConstrucción de personajes: Fabián Huertes. Marisa Refoyo. \nDiseño de iluminación: Eneco Álamo \nCreación musical y espacio sonoro: Adrián Rincón \nProducción: LAPEPEPITA\, Puri Castillo \n\n  \nTeaser \n\n  \nPrecio de las entradas: 5€ entrada general y 3€ Comunidad universitaria de la Universidad de Sevilla \nLugar: Auditorio CICUS \nHora: a las 20:00 horas \nVenta de entradas el día de la función desde las 18:00 en el CICUS\, C/ Madre de Dios\, nº 1. \n 
URL:https://cicus.us.es/evento/estrenate-2017-%c2%b7-cia-lapepepita-%c2%b7-tutu/
LOCATION:CICUS · Auditorio\, c/Madre de Dios 1-3\, Sevilla\, España
ATTACH;FMTTYPE=image/jpeg:https://cicus.us.es/wp-content/uploads/2018/01/TUTU.jpg
END:VEVENT
BEGIN:VEVENT
DTSTART;TZID=Europe/Paris:20180302T203000
DTEND;TZID=Europe/Paris:20180302T203000
DTSTAMP:20260422T053117
CREATED:20180123T151538Z
LAST-MODIFIED:20180302T112115Z
UID:30904-1520022600-1520022600@cicus.us.es
SUMMARY:ANUNCIACIÓN · ORQUESTA Y CORO DE LA UNIVERSIDAD DE JAÉN
DESCRIPTION:Viernes 2 de marzo · 20:30h \n  \nApollo et Hyacinthus Kv38 de W.A. Mozart (Ópera en versión concierto). \n  \nOrquesta y Coro de la Universidad de Jaén \nDirección musical · Ignacio Ábalos \nDirección del coro: Mercedes Castillo y Mª del Coral Morales \nCantantes solistas · Caridad Cordero\, Rocío Faus\, Anna Gomà\, Carolina Gilabert\, Román Barceló \n  \nIglesia de la Anunciación (c/Laraña\, s/n) \nEntrada libre hasta completar aforo \nEn el marco del recién inaugurado programa cultural de intercambio de formaciones musicales entre universidades públicas andaluzas del proyecto Atalaya –proyecto auspiciado por la Consejería de Economía y Conocimiento de la Junta de Andalucía–\, y tras un primer encuentro con la Orquesta de la Universidad de Granada\, tendremos ocasión de asistir a un nuevo concierto en la iglesia de la Anunciación\, esta vez a cargo de la Orquesta y Coro de la Universidad de Jaén\, quien interpretará en concierto la obra de Apollo et Hyacinthus\, primera ópera de Mozart compuesta en 1767 cuando contaba con tan sólo 11 años de edad. \nEn colaboración con \n  \n\n\n\n 
URL:https://cicus.us.es/evento/anunciacion-%c2%b7-orquesta-y-coro-de-la-universidad-de-jaen/
LOCATION:Iglesia de la Anunciación\, c/ Laraña s/n\, Sevilla\, Sevilla\, España
ATTACH;FMTTYPE=image/jpeg:https://cicus.us.es/wp-content/uploads/2018/01/ANUNCIACION.jpg
END:VEVENT
END:VCALENDAR