BEGIN:VCALENDAR
VERSION:2.0
PRODID:-//CICUS · Centro de Iniciativas Culturales de la Universidad de Sevilla - ECPv6.15.20//NONSGML v1.0//EN
CALSCALE:GREGORIAN
METHOD:PUBLISH
X-WR-CALNAME:CICUS · Centro de Iniciativas Culturales de la Universidad de Sevilla
X-ORIGINAL-URL:https://cicus.us.es
X-WR-CALDESC:Eventos para CICUS · Centro de Iniciativas Culturales de la Universidad de Sevilla
REFRESH-INTERVAL;VALUE=DURATION:PT1H
X-Robots-Tag:noindex
X-PUBLISHED-TTL:PT1H
BEGIN:VTIMEZONE
TZID:Europe/Paris
BEGIN:DAYLIGHT
TZOFFSETFROM:+0100
TZOFFSETTO:+0200
TZNAME:CEST
DTSTART:20160327T010000
END:DAYLIGHT
BEGIN:STANDARD
TZOFFSETFROM:+0200
TZOFFSETTO:+0100
TZNAME:CET
DTSTART:20161030T010000
END:STANDARD
BEGIN:DAYLIGHT
TZOFFSETFROM:+0100
TZOFFSETTO:+0200
TZNAME:CEST
DTSTART:20170326T010000
END:DAYLIGHT
BEGIN:STANDARD
TZOFFSETFROM:+0200
TZOFFSETTO:+0100
TZNAME:CET
DTSTART:20171029T010000
END:STANDARD
BEGIN:DAYLIGHT
TZOFFSETFROM:+0100
TZOFFSETTO:+0200
TZNAME:CEST
DTSTART:20180325T010000
END:DAYLIGHT
BEGIN:STANDARD
TZOFFSETFROM:+0200
TZOFFSETTO:+0100
TZNAME:CET
DTSTART:20181028T010000
END:STANDARD
END:VTIMEZONE
BEGIN:VEVENT
DTSTART;VALUE=DATE:20170626
DTEND;VALUE=DATE:20170701
DTSTAMP:20260421T173432
CREATED:20170602T111358Z
LAST-MODIFIED:20170602T111358Z
UID:28102-1498435200-1498867199@cicus.us.es
SUMMARY:21GRADOS · EXPOSICIÓN · ALBINO · ANA PALACIOS
DESCRIPTION:ALBINO \nEXPOSICIÓN FOTOGRÁFICA DE ANA PALACIOS \nDel 14 de junio al 10 de agosto de 2017 \nCICUS. Sala MDD. C/ Madre de Dios\, 1 \nDe lunes a viernes de 11 a 14 horas y de 18 a 21 horas\, durante el mes de agosto\, viernes tarde cerrado.  \n  \n  \n  \nEn el lenguaje fotográfico de Ana Palacios\, compuesto por imágenes complejas\, sutiles y polisémicas\, la descripción de historias humanas de gran dureza no está reñida con la captación de momentos mágicos. La formación periodística de la autora la lleva a visibilizar lugares y personas que permanecen alejados de la actualidad informativa. En esta serie su mirada se posa en el día a día de los albinos en el continente africano. A las complicaciones médicas asociadas a esta condición genética se unen las difíciles circunstancias económicas de su contexto y la discriminación social que padecen los afectados. Estas fotografías nos colocan frente a una dura situación humana y nuestra primera reacción\, como espectadores y como seres humanos\, es exigirnos una respuesta. Al mismo tiempo\, el relato fotográfico se centra en los más jóvenes\, lo que se revela como una decisión trascendental en el terreno ético y también en el narrativo: desplazando el foco de la historia hacia el porvenir\, Ana Palacios nos sitúa en el terreno de lo posible\, de aquello que puede y debe solucionarse. Las imágenes de Albino desprecian lo obvio del subrayado y acortan la distancia entre el espectador y el sujeto fotografiado\, apelando a la cotidianidad y a los gestos sencillos en los que nos reconocemos: el amamantamiento de un niño\, la alegría del juego\, la quietud al caer la tarde. A ello contribuye la renuncia al dramatismo en las composiciones\, la elección del encuadre\, el uso de la luz y del color. Los protagonistas no se nos proponen como símbolos o emblemas\, no son la representación visual de ideas o conceptos preestablecidos. Son personas vivas\, captadas en momentos de sosiego\, de intimidad y de esperanza. \n  \nAlicia Ventura. Comisaria
URL:https://cicus.us.es/evento/21grados-%c2%b7-exposicion-%c2%b7-albino-%c2%b7-ana-palacios-3/
LOCATION:CICUS · Sala MDD\, c/Madre de Dios 1-3\, Sevilla\, España
END:VEVENT
BEGIN:VEVENT
DTSTART;VALUE=DATE:20170626
DTEND;VALUE=DATE:20170701
DTSTAMP:20260421T173432
CREATED:20170602T115133Z
LAST-MODIFIED:20170621T095947Z
UID:28120-1498435200-1498867199@cicus.us.es
SUMMARY:21GRADOS · EXPOSICIÓN · LES HABITANTS · RAYMOND DEPARDON
DESCRIPTION:LES HABITANTS \nDel 22 de junio al 10 de agosto de 2017 \nCICUS. Sala Casajus y Galería del Patio. C/ Madre de Dios\, 1 \nDe lunes a viernes de 11 a 14 horas y de 18 a 21 horas\, durante el mes de agosto viernes tardes cerrado. \n \nOrganizado por el Centro de Iniciativas Culturales de la Universidad de Sevilla y el Institut Français de Sevilla\, la presentación de la exposición de fotografías inéditas realizadas mientras se grababa la última película de Raymond Depardon\, “Les habitants”\, tendrá lugar en el patio del CICUS desde el próximo 22 de junio hasta el 10 de agosto en el marco del proyecto 21 Grados y del Mes de Francia. \nEste proyecto pretende rendir homenaje a una leyenda del mundo de la fotografía y del documental en Francia. Figura emblemática de la agencia Magnum desde hace más de treinta años\, fundador de la prestigiosa agencia Gamma de fotoperiodismo\, ha dirigido más de 40 películas y documentales. Su estilo propio\, conocido como “el cinema direct”\, le ha convertido en uno de los más prestigiosos directores de cine documental. Su visión siempre es única y precisa\, mire donde mire: el mundo rural\, el funcionamiento de la justicia o de la vida política. \n“Les habitants” (Los franceses) es su último trabajo y consiste en una radiografía del pueblo francés. En enero de 2015\, Raymond Depardon y su esposa\, la productora Claudine Nougaret\, preparaban las maletas para marcharse al continente africano para rodar una nueva película. Pero entonces sucedió lo inesperado: el atentado de Charlie Hebdo y el supermercado judío en París. “El 11-S francés”\, tituló entonces Le Monde. “Fue una fecha simbólica que nos hizo entender que algo había cambiado\, igual que el 11-M debió de serlo en España”\, afirma el fotógrafo. “Entendimos que debíamos quedarnos aquí e ir al encuentro de los franceses\, para escuchar qué tenían que decir”. \nEs un documental de una increíble sencillez\, pero a la vez muy humano. Un retrato de Francia a través de las conversaciones de sus pobladores. La caravana es una tradición muy popular en Francia\, la manera más sencilla y barata de pasar las vacaciones. También\, el medio de transporte de Raymond Depardon para recorrer Francia de Norte a Sur en busca de los temas de conversación de los franceses. \nEse es el principio de este documental\, “Los habitantes” en el que Depardon hace un retrato conmovedor y muy humano de su país natal\, filmando a 90 parejas que hablan de todo y de nada en su caravana-estudio. Entre ellas: jóvenes y viejos\, mujeres y hombres\, verdaderas parejas\, grupos de amigos\, miembros de una familia\, vecinos\, colegas\, meras presentaciones de última hora. Hablan de sus sueños\, problemas personales o de trabajo\, el desempleo o la familia. \nCon el objetivo de acompañar la proyección de su película “Les habitants” Depardon  puso a disposición fotografías inéditas que relatan su viaje a los cuatro rincones de Francia. Una cuarentena de tiradas de gran formato de fotografías de calle que muestra la Francia real\, fotografía cercana hecha desde la distancia\, tomadas por el artista durante el rodaje de la película. \nUna mirada íntima del paisaje humano francés de uno de los directores franceses más comprometidos para entender mejor la “Francia profunda”\, tras las recientes elecciones en este país vecino. \nEn colaboración con\n \n.
URL:https://cicus.us.es/evento/21grados-%c2%b7-exposicion-%c2%b7-les-habitants-%c2%b7-raymond-depardon-2/
LOCATION:CICUS · Sala Casajús\, c/Madre de Dios 1\, Sevilla\, 41004\, España
END:VEVENT
BEGIN:VEVENT
DTSTART;TZID=Europe/Paris:20170629T213000
DTEND;TZID=Europe/Paris:20170629T213000
DTSTAMP:20260421T173432
CREATED:20170526T115302Z
LAST-MODIFIED:20170620T153104Z
UID:27932-1498771800-1498771800@cicus.us.es
SUMMARY:21GRADOS · SHOEGAZE Y NEOPSICODELIA · TERRY VS. TORI Y MONTE TERROR
DESCRIPTION:NOCHES DE SHOEGAZE Y NEOPSICODELIA EN ESPACIO CICUS  21º \n  \n29 y 30 de junio \n21 .30h Patio del CICUS \n  \n  \nEl ciclo 21 grados/noches de verano en la Universidad de Sevilla\, nacido para dar voz a las propuestas artísticas más experimentales y acercarlas al público sevillano desde el Centro de Iniciativas Culturales de la Universidad de Sevilla (CICUS)\, acogerá en Junio de 2017 dos jornadas que exploran el panorama nacional de shoegaze y neopsicodelia. \nSi ya 21 grados\, desde 2009\, ha ido ampliando su oferta para dar cabida a todas las expresiones culturales de vanguardia (cine\, videocreación\, literatura\, música) en la capital andaluza\, ahora nos introduce en géneros musicales que se basan en una conjunción casi palpable de materiales sónicos y visuales: capas superpuestas de reverb\, ruidismo hipnótico que suma delays para crear texturas atmosféricas\, repetitivas y sorprendentemente rotas por desgarradores arranques noise; experimentación musical que construye\, onda a onda\, a partir de telarañas de efectos en las guitarras y voces concebidas como un instrumento más\, catedrales sónicas generalmente acompañadas de proyecciones visuales que recrean y expanden esa sensación de construcción viva\, de muralla de sonido en movimiento\, de espectáculo hecho a la vez para el oído\, la vista y hasta el propio tacto. \n  \nEl CICUS ofrecerá\, así\, los días 29 y 30 de Junio de 2017 un acercamiento a estas tendencias a través de los conciertos de cuatro grupos señeros dentro del panorama nacional de shoegaze y neopsicodélica que llevan la tradición de estos estilos a una dimensión\, a la vez\, actual y personal\, con sello propio: Celica XX (Madrid)\, My Expansive Awareness (Zaragoza)\, Terry vs Tori (Sevilla) y MonteTerror (Almería). \n  \nEste ciclo se verá completado con el ciclo de “Cine y Psicodelia” \n  \n  \nPrograma 29 de junio \nTERRY VS. TORI (Sevilla) · MONTE TERROR (Granada) \n  \n \n  \nhttp://terryvstori.bandcamp.com/ \nhttps://open.spotify.com/artist/1UAyQNs2HANU7mGGqtXzJv \nTerry vs. Tori se sorprendieron cuando la prestigiosa revista británica DIY Mag los destacó como una de los mejores grupos de música underground de España. Esta banda emergente y su dream pop pegadizo han llamado la atención nacional e internacionalmente desde que publicaron su primer EP en Bandcamp en junio de 2016. El grupo cita entre sus influencias a Wild Nothing\,Beat Happening\, DIIV\, Pale Saints\, The Wedding Present\, los Smiths\, Gang of Four y otras muchas bandas que siguen la tradición shoegazer. \nTerry vs. Tori suenan a dream pop de los años 80 con evocadoras guitarras “jangle”. Su primer EP\, Terry vs. Tori\, salió en noviembre de 2016 de la mano de Discos FUP\, y fue grabado y masterizado por Cris Romero (Sundae\, The Royal Landscaping Society) en los estudios Cherry Sounds. Este trabajo transporta al verano\, la playa y la nostalgia vacacional. Las canciones que lo componen han sonado varias veces en diferentes programas de\nRadio3 como destacadas del año. \nEn mayo de 2017 sale a la luz su segundo EP\, Leap Day\, también grabado en Cherry Sounds con Cris Romero y mezclado y masterizado en Sputnik grabaciones estelares por Jordi Gil. Este nuevo trabajo lo estrenan conjuntamente con el sello Spirit Goth de Los Ángeles y presenta una evolución importante de su sonido hacia estructuras más complejas y letras que esta vez evocan la luz suave de otoño y las complicaciones de aceptarse a uno mismo. \nFelices por la repercusión conseguida en poco tiempo y\, tras su participación en diversos festivales y acompañar en directo a bandas importantes en el panorama nacional e internacional\, Terry vs. Tori esperan poder presentar su trabajo en varias ciudades de dentro y fuera de España. \nÚltimas reseñas:\nhttp://jenesaispop.com/2016/09/23/276191/terry-vs-tori/\nhttps://shookdown.es/terry-vs-tori-ensonacion-vital/ \nhttp://diymag.com/2017/05/31/the-neu-bulletin-lo-moon-crumb-essx-station-more\n  \n \n  \nMonte Terror comienza a tocar en directo a finales de 2013 a la vez que preparan su primer E.P “Monte Terror”\, en colaboración con el artista Pablo Foruria\, lanzado en abril de 2014 a través de Aneurisma Records\, sello del que pasan a formar parte. \nPara Monte Terror\, 2014 supone la consolidación como banda ascendente dentro del panorama andaluz\, estando presentes en eventos tales como la final del Concurso Emergentes en la Sala Planta Baja de Granada o el III Aneurisma Summer Festival\, y siendo considerado su E.P. de debut como uno de los mejores del año en la zona sur por Mondo Sonoro (2o mejor grupo demoscópico para la edición sur)\, así como\, desarrollan una intensa actividad de directos en los que ponen de relieve su personal sonido a caballo entre el Pop independiente y el Rock Alternativo\, con referentes del Shoegaze noventero envueltos en sólidos pasajes atmosféricos\, así como un delicado sentido de la melodía vocal más Pop en una perfecta combinación de voces femeninas y masculinas sin dejar de lado la contundencia rítmica en arranques de furia Noise Rock perfectamente sustentados en una potente base rítmica. \nEn 2015\, el quinteto almeriense se consolida como punta de lanza del shoegaze sureño con la publicación de su nuevo EP\, titulado Venga mi muerte. Un colofón inmejorable para un año en el que participaron en las Fiestas Demoscópicas de Mondo Sonoro\, formaron parte de la última edición del festival Pulpop (Roquetas de Mar) y fueron incluidos en la selección de bandas que aparecen en el recopilatorio Una nueva dimensión\, editado por Ondas del espacio. \nDurante todo 2016 el grupo presenta en directo este trabajo\, desplegando la característica sonoridad que recorre las tres canciones del EP: atmósferas sólidas y contundentes donde las voces\, como haces de melancólica luz\, luchan por rasgar la oscuridad eléctrica de unas guitarras profundas y expansivas\, en constante lucha con las sacudidas de los sintetizadores.
URL:https://cicus.us.es/evento/21grados-%c2%b7-shoegaze-y-neopsicodelia-%c2%b7-terry-vs-tori-y-monte-terror/
LOCATION:CICUS · Patio\, C/ Madre de Dios\, 1\, Sevilla\, España
END:VEVENT
END:VCALENDAR