BEGIN:VCALENDAR
VERSION:2.0
PRODID:-//CICUS · Centro de Iniciativas Culturales de la Universidad de Sevilla - ECPv6.15.20//NONSGML v1.0//EN
CALSCALE:GREGORIAN
METHOD:PUBLISH
X-ORIGINAL-URL:https://cicus.us.es
X-WR-CALDESC:Eventos para CICUS · Centro de Iniciativas Culturales de la Universidad de Sevilla
REFRESH-INTERVAL;VALUE=DURATION:PT1H
X-Robots-Tag:noindex
X-PUBLISHED-TTL:PT1H
BEGIN:VTIMEZONE
TZID:Europe/Paris
BEGIN:DAYLIGHT
TZOFFSETFROM:+0100
TZOFFSETTO:+0200
TZNAME:CEST
DTSTART:20150329T010000
END:DAYLIGHT
BEGIN:STANDARD
TZOFFSETFROM:+0200
TZOFFSETTO:+0100
TZNAME:CET
DTSTART:20151025T010000
END:STANDARD
BEGIN:DAYLIGHT
TZOFFSETFROM:+0100
TZOFFSETTO:+0200
TZNAME:CEST
DTSTART:20160327T010000
END:DAYLIGHT
BEGIN:STANDARD
TZOFFSETFROM:+0200
TZOFFSETTO:+0100
TZNAME:CET
DTSTART:20161030T010000
END:STANDARD
BEGIN:DAYLIGHT
TZOFFSETFROM:+0100
TZOFFSETTO:+0200
TZNAME:CEST
DTSTART:20170326T010000
END:DAYLIGHT
BEGIN:STANDARD
TZOFFSETFROM:+0200
TZOFFSETTO:+0100
TZNAME:CET
DTSTART:20171029T010000
END:STANDARD
END:VTIMEZONE
BEGIN:VEVENT
DTSTART;TZID=Europe/Paris:20160530T110000
DTEND;TZID=Europe/Paris:20160603T210000
DTSTAMP:20260420T234633
CREATED:20160430T112218Z
LAST-MODIFIED:20160513T085217Z
UID:24664-1464606000-1464987600@cicus.us.es
SUMMARY:EXPOSICIÓN · LO AUDIO-VISUAL
DESCRIPTION:LO AUDIO-VISUAL \nARTE SONORO EN LAS COLECCIONES DE 9915 \nComisaria Alicia Ventura \nSala EP1\, C/ Madre de Dios\, 1 Sevilla \nDel 4 de mayo al 12 de julio de 2016 \nDe lunes a viernes\, de 11 a 21H \nEste proyecto refleja el interés de los coleccionistas de la Asociación 9915 por los nuevos lenguajes artísticos. Lo hace además en un marco como el Centro de Iniciativas Culturales de la Universidad de Sevilla (CICUS)\, que condensa algunos de los valores fundamentales para la asociación: la formación\, la investigación como actividad generadora de conocimiento\, la difusión en tanto que búsqueda de nuevos públicos para el arte contemporáneo. \nEl foco de interés de esta exposición lo conforma la confluencia entre las dimensiones visual y sonora\, los dos grandes vectores que condicionan nuestra percepción del mundo. El conjunto de prácticas artísticas que aquí se presentan (en ocasiones tan diversas entre sí) exploran las posibilidades que ofrece esta intersección y participan de una cualidad esencial del arte de nuestro tiempo: la interdisciplinariedad y la hibridación entre técnicas\, formatos y lenguajes expresivos. \nLa atención a la riqueza de las relaciones paradójicas\, poéticas\, siempre fructíferas\, que se puedan establecer entre el sonido\, la imagen\, el espacio o el lenguaje determinan la selección de obra para la muestra. El discurso comisarial se fija así en las posibilidades de la creación audiovisual contemporánea para generar nuevos discursos y nuevas formas de ver (y de relacionarse con) el mundo. \n \nEn un universo social cada vez más determinado por la estricta racionalidad y por dinámicas vinculadas exclusivamente a la productividad y rendimiento\, el arte supone una línea de fuga\, un espacio abierto a otras lógicas\, a otras temporalidades\, a una vinculación con lo real que reivindica lo sensorial frente a la mediación del lenguaje y la palabra. Por ello\, el discurso de la exposición atiende también de manera especial a obras que permiten al espectador reflexionar (de manera experiencial\, intuitiva\, lúdica también) sobre el espacio\, sobre su propio cuerpo\, sobre el entorno expositivo que lo rodea. Espacio y tiempo físico\, pero también espacio y tiempo vividos: sensación\, movimiento\, recuerdo\, experiencia\, memoria. \nLos artistas que componen la muestra son Eder Santos\, Sergio Prego\, Begoña Montalbán\, Paco Guillén\, Ignacio Llamas\, Federico Guzmán\, Glenda León\, Manu Arregui\, Coco Moya e Iván Cebrián\, Zsolt Asztalos\, Leslie Deere\, Iñaki Bonillas\, Juan del Juanco\, Pep Fajardo\, Samuel Ortí y Nelo Vinuesa\, Susan Philipsz\, Mario García Torres\, Adam Pendleton y Arturo Hernández Alcázar. \nAlicia Ventura. Comisaria. \nSala EP1\, C/ Madre de Dios\, 1 Sevilla \nDel 4 de mayo al 12 de julio de 2016 \nDe lunes a viernes\, de 11 a 21H \n  \nEn colaboración con la Asociación de coleccionistas 9915 \n \n  \n  \n  \n 
URL:https://cicus.us.es/evento/inauguracion-exposicion-%c2%b7-lo-audio-visual-5/
END:VEVENT
BEGIN:VEVENT
DTSTART;TZID=Europe/Paris:20160601T200000
DTEND;TZID=Europe/Paris:20160601T200000
DTSTAMP:20260420T234633
CREATED:20160525T090226Z
LAST-MODIFIED:20160525T090226Z
UID:24849-1464811200-1464811200@cicus.us.es
SUMMARY:TRASTABLAOS · Lola Pantoja | Romerito de Jerez
DESCRIPTION:TRASTABLAOS  \n  \nLola Pantoja con Romerito de Jerez \n1 JUNIO  2016 · 20h · Auditorio CICUS \n  \nRomerito de Jerez \n \nMANUEL ROMERO PANTOJA\, cantaor muy conocido por toda la afición con el nombre artístico de ROMERITO DE JEREZ\,  nació en Jerez de la Frontera (Cádiz) en el año de 1932\, comenzó su vida artística junto a Terremoto\, tanto en Jerez como en el tablao sevillano El Guajiro\, para pasar luego a distintos cuadros y elencos. Durante los años setenta actuó en el tablao Madrileño Las Brujas y llevó a cabo sus primeras grabaciones discográficas. \nRomerito se crió junto a una buena generación de cantaores de su tierra jerezana\, como Terremoto\, Sordera\, Sernita\, y todos aquellos de su misma época\,  Romerito ha triunfado como cantaor para el baile\, faceta en la que ha trabajado para todos los grandes del género. \nEs poseedor también de varios  premios importantes\, en el año 1973 se le otorga  a Romerito de Jerez  el gran galardón de la   Copa de Jerez\, también posee  un amplísimo repertorio discográfico. \nRomerito de Jerez tiene grabaciones donde nos demuestra su gran capacidad para el cante\, abarca una gran variedad de cantes jerezanos\, sobre todo es un buen especialista en los cantes por saetas\, como en la soleá\, seguiriyas\, bulerías\, tientos y tangos. \n  \nDolores Pantoja Guerrero \n \nLicenciada en ciencias de la información\,  imagen y sonido\, máster en artes del espectáculo vivo de la universidad de sevilla. \nInvestigadora sobre el Flamenco en la Alameda de Hércules desde la década de los treinta hasta la de los sesenta del s. XX. Su trabajo fue becado con el premio Pedro Bacán promovido por la Excma. Diputación de Sevilla. \n  \n  \n  \n  \n  \n  \n  \n  \n 
URL:https://cicus.us.es/evento/trastablaos-%c2%b7-lola-pantoja-romerito-de-jerez/
END:VEVENT
BEGIN:VEVENT
DTSTART;TZID=Europe/Paris:20160601T210000
DTEND;TZID=Europe/Paris:20160601T223000
DTSTAMP:20260420T234633
CREATED:20160425T110300Z
LAST-MODIFIED:20160601T151704Z
UID:24508-1464814800-1464820200@cicus.us.es
SUMMARY:ANUNCIACIÓN · Coro Capella · Calvin College de Michigan
DESCRIPTION:  \nMiércoles 1 junio · 21h \nTHE CAPELLA OF CALVIN COLLEGE (MICHIGAN) \nPearl Shangkuan · directora \n  \nFormación integrada por miembros que cursan diferentes disciplinas universitarias y con un régimen de ensayos intensivo de cuatro días a la semana\, este coro de Michigan destaca por su calidad así como por los numerosos conciertos que llevan a cabo a lo largo del año\, siendo los más reseñables aquellos que marcan cada comienzo y fin de semestre académico\, así como sus giras en el extranjero\, como en Europa en mayo de 2008\, donde ganó el tercer premio en el concurso coral internacional en Tours (Francia). En enero de 2012\, también realizaron una gira por Hong Kong\, Guangzhou\, Manila y Singapur. Han intervenido en varias convenciones estatales y es frecuentemente invitado a cantar con orquestas sinfónicas profesionales de Michigan. \nEl coro fue fundado por Seymour Swets en 1935 y más tarde han sido sus directores Howard Slenk\, Merle Mustert y Joel Navarro\, siendo Perla Shangkuan su actual directora. Las obras que tienen previsto interpretar en su nueva gira por España y Portugal serán tanto de música sacra como profana. \n  \n \nPrograma (sujeto a eventuales modificaciones) \nDurufle – Ubi caritas \nPalestrina – Sicut cervus \nVictoria – Missa «O Quam Gloriosum»: \nKyrie \nGloria \nBusto – Esta Tierra \nStroope – Amor de mi Alma \nRunestad – Good Night\, My Love \nWhitacre – Little Man in a Hurry \nElberdin – Exsultate Justi \nPater Noster \nJasperse- The Long Path \nSoler/arr. Koning – El Mismo Sol \nArr. Hirt – Abide with Me \nArr. Parker – Hark\, I Hear the Harps Eternal \nArr. Hogan – This Little Light of Mine \nHampton – This is the Day (encargo expreso para esta gira) \nPelz – Peace I Leave with You \n  \nEn colaboración con \n \n\n\n\n\n\nG\nM\nT\n\n\n\n\n\n\n\n\nDetect languageAfrikaansAlbanianArabicArmenianAzerbaijaniBasqueBelarusianBengaliBosnianBulgarianCatalanCebuanoChichewaChinese (Simplified)Chinese (Traditional)CroatianCzechDanishDutchEnglishEsperantoEstonianFilipinoFinnishFrenchGalicianGeorgianGermanGreekGujaratiHaitian CreoleHausaHebrewHindiHmongHungarianIcelandicIgboIndonesianIrishItalianJapaneseJavaneseKannadaKazakhKhmerKoreanLaoLatinLatvianLithuanianMacedonianMalagasyMalayMalayalamMalteseMaoriMarathiMongolianMyanmar (Burmese)NepaliNorwegianPersianPolishPortuguesePunjabiRomanianRussianSerbianSesothoSinhalaSlovakSlovenianSomaliSpanishSundaneseSwahiliSwedishTajikTamilTeluguThaiTurkishUkrainianUrduUzbekVietnameseWelshYiddishYorubaZulu\n\nAfrikaansAlbanianArabicArmenianAzerbaijaniBasqueBelarusianBengaliBosnianBulgarianCatalanCebuanoChichewaChinese (Simplified)Chinese (Traditional)CroatianCzechDanishDutchEnglishEsperantoEstonianFilipinoFinnishFrenchGalicianGeorgianGermanGreekGujaratiHaitian CreoleHausaHebrewHindiHmongHungarianIcelandicIgboIndonesianIrishItalianJapaneseJavaneseKannadaKazakhKhmerKoreanLaoLatinLatvianLithuanianMacedonianMalagasyMalayMalayalamMalteseMaoriMarathiMongolianMyanmar (Burmese)NepaliNorwegianPersianPolishPortuguesePunjabiRomanianRussianSerbianSesothoSinhalaSlovakSlovenianSomaliSpanishSundaneseSwahiliSwedishTajikTamilTeluguThaiTurkishUkrainianUrduUzbekVietnameseWelshYiddishYorubaZulu\n\n\n\n\n\n\n\n\n\n\n\n\n\n\n\nText-to-speech function is limited to 100 characters\n\nOptions : History : Help : FeedbackClose
URL:https://cicus.us.es/evento/anunciacion-%c2%b7-coro-capella-%c2%b7-calvin-college-de-michigan/
LOCATION:Iglesia de la Anunciación\, c/ Laraña s/n\, Sevilla\, España
END:VEVENT
END:VCALENDAR