BEGIN:VCALENDAR
VERSION:2.0
PRODID:-//CICUS · Centro de Iniciativas Culturales de la Universidad de Sevilla - ECPv6.15.20//NONSGML v1.0//EN
CALSCALE:GREGORIAN
METHOD:PUBLISH
X-WR-CALNAME:CICUS · Centro de Iniciativas Culturales de la Universidad de Sevilla
X-ORIGINAL-URL:https://cicus.us.es
X-WR-CALDESC:Eventos para CICUS · Centro de Iniciativas Culturales de la Universidad de Sevilla
REFRESH-INTERVAL;VALUE=DURATION:PT1H
X-Robots-Tag:noindex
X-PUBLISHED-TTL:PT1H
BEGIN:VTIMEZONE
TZID:Europe/Madrid
BEGIN:DAYLIGHT
TZOFFSETFROM:+0100
TZOFFSETTO:+0200
TZNAME:CEST
DTSTART:20140330T010000
END:DAYLIGHT
BEGIN:STANDARD
TZOFFSETFROM:+0200
TZOFFSETTO:+0100
TZNAME:CET
DTSTART:20141026T010000
END:STANDARD
BEGIN:DAYLIGHT
TZOFFSETFROM:+0100
TZOFFSETTO:+0200
TZNAME:CEST
DTSTART:20150329T010000
END:DAYLIGHT
BEGIN:STANDARD
TZOFFSETFROM:+0200
TZOFFSETTO:+0100
TZNAME:CET
DTSTART:20151025T010000
END:STANDARD
BEGIN:DAYLIGHT
TZOFFSETFROM:+0100
TZOFFSETTO:+0200
TZNAME:CEST
DTSTART:20160327T010000
END:DAYLIGHT
BEGIN:STANDARD
TZOFFSETFROM:+0200
TZOFFSETTO:+0100
TZNAME:CET
DTSTART:20161030T010000
END:STANDARD
END:VTIMEZONE
BEGIN:VEVENT
DTSTART;TZID=Europe/Madrid:20150223T090000
DTEND;TZID=Europe/Madrid:20150227T210000
DTSTAMP:20260421T151654
CREATED:20141021T084459Z
LAST-MODIFIED:20141021T084459Z
UID:19336-1424682000-1425070800@cicus.us.es
SUMMARY:EXPOSICIÓN | UNIVITELINOS  ·  PAULA CABRERA
DESCRIPTION:Patio del CICUS\, desde el 12 de noviembre de 2014 hasta junio de 2015 \nProyecto ganador del II Concurso de ideas para exposición de lonas del Patio en el edificio CICUS\, comisariado por Ignacio González. \nSevilla\, 1985. Licenciada en  Bellas Artes. Su proyecto final Univitelinos\, realizado como alumna de Fotografía en la Escuela de Arte de Sevilla\, fue elegido en 2012 por la Sala Cobertura Photo para ser expuesto y continuar con su desarrollo. En el mismo año\, fue seleccionada junto con otros once jóvenes fotógrafos para participar en el proyecto europeo TOET (Los Otros viajeros europeos). Recientemente\, ha sido seleccionada en el XX Certamen Nacional de Artes Plásticas de la Universidad de Sevilla. \nLa serie fotográfica Univitelinos parte de la experiencia personal de Paula como gemela. El planteamiento en este proyecto es provocar expectación en las diferencias y crear reflexiones sobre identidad a través de aspectos formales y estéticos que tienen que ver con el sistema que nuestra sociedad ha establecido para identificarnos (DNI). Explotar ese dato tan contundente que afirma que los univitelinos contienen 100 % la misma carga genética. La idea es\, en definitiva\, crear al espectador ciertas preguntas y hacer uso de esas diferencias y roles que podemos apreciar a través de estos retratos y que rompen la idea de que los seres humanos somos únicamente genética. Todo un cúmulo de cuestiones que giran en torno a la propia identidad y personalidad del individuo\, al simple hecho de pensar “cómo sería una persona igual que yo”. \nwww.paulacabrera.com
URL:https://cicus.us.es/evento/exposicion-univitelinos-%c2%b7-paula-cabrera-18/
END:VEVENT
BEGIN:VEVENT
DTSTART;TZID=Europe/Madrid:20150223T110000
DTEND;TZID=Europe/Madrid:20150227T210000
DTSTAMP:20260421T151654
CREATED:20150127T122819Z
LAST-MODIFIED:20150127T122819Z
UID:20518-1424689200-1425070800@cicus.us.es
SUMMARY:EXPO · MÚLTIPLO DE CIEN
DESCRIPTION:MÚLTIPLO DE 100. SALOMÉ DEL CAMPO\, VICTORIA GIL\, PEPA RUBIO \n  \nSala EP1 CICUS. Del 23 de enero al 5 de marzo de 2015. De lunes a viernes\, de 11 a 21 horas \nEn el campo de las artes plásticas\, la crítica Lucy Lippard analizó a mediados de los años 7º cómo el feminismo abrió el camino para un nuevo contexto donde pensar sobre el arte realizado por mujeres. Para Lippard\, el arte feminista no consistía simplemente en una imaginería\, aunque esta debiera ser un vehículo\, sino en la construcción de un sistema de arte feminista dentro de una sociedad feminista y en el desafío de las  estructuras jerárquicas. \nLas obras de Salomé del Campo\, Victoria Gil y Pepa Rubio\, a inicios de los años 90\, reflejaban planteamientos teóricos y tensiones de género a diferente escala\, y tenían como denominador común el partir de experiencias propias y\, con ello\, de una reflexión a partir también de su condición de mujer. Al igual que participaban de metodologías comunes como la utilización de objetos domésticos o de imágenes de los medios de comunicación ‐ ante la constatación del incremento de la mercantilización de todas las esferas de la vida ‐ que manipulaban con el fin de provocar extrañeza\, perturbar la mirada y desvelar tanto deseos subyugados como mecanismos del poder dominante; lo que llevaban a cabo por medio de técnicas escultóricas o pictóricas de superposición o contraposición de elementos e imágenes; en definitiva\, ejercicios de recodificación\, desencarnación y encarnación. \nDesde entonces\, ellas han seguido trabajando desde “una habitación propia» (parafraseando el título del emblemático ensayo de Virginia Woolf)\, desde sus estudios donde han elaborado relatos plásticos en los que lo individual da paso a lo social y la cotidianidad se cruza con la historia y la memoria. \n  \nComisariado: Mar Villaespesa \nCoordinación y producción: BNV producciones \nTransporte y montaje: Mecánica de Exposiciones Parguz S.C \nSeguros: Aon Risk Solutions/STAI – AON Arte
URL:https://cicus.us.es/evento/expo-%c2%b7-multiplo-de-cien-6/
LOCATION:CICUS – EP1\, c/Madre de Dios 1-3\, Sevilla\, España
END:VEVENT
BEGIN:VEVENT
DTSTART;TZID=Europe/Madrid:20150223T110000
DTEND;TZID=Europe/Madrid:20150227T210000
DTSTAMP:20260421T151654
CREATED:20150213T144141Z
LAST-MODIFIED:20150213T144141Z
UID:20684-1424689200-1425070800@cicus.us.es
SUMMARY:EXPOSICIÓN · DKV FRESH ART
DESCRIPTION:DKV FRESH ART \nEl Centro de Iniciativas Culturales de la Universidad de Sevilla  acoge  una exposición en la que la comisaria\, Alicia Ventura ha realizado una selección de las obras producidas en las seis ediciones celebradas del Campus DKV Fresh Art\, organizado por DKV Seguros. \nLas piezas reflejan la variedad de lenguajes y formatos de la creación contemporánea\, a través de la visión fresca y personal de los jóvenes freshartistas. \nLa muestra\, que podrá visitarse 17 de febrero y el 10 de abril\, está formada por las obras: \n\n\n\nMeritxel Ahicart Centelles\nVenus\n1er Premio\nFotografía digital en color\n2010\n\n\nMeritxel Ahicart Centelles\nLa joven de la perla\n1er premio\nFotografía digital en color\n2010\n\n\nLorena Mergarejo García\nPremonición I\, II\, III. De la Serie: Je ne t’aime plus mon amour.\n\nFotografías en b/n\n2009\n\n\nIsmael Cerezuela Gómez\nCoocoon\n1er Premio\nFotografía digital en b/n\n2011\n\n\nMeritxel Ahicart Centelles\nOphelia\n1er premio\nFotografía digital en color\n2010\n\n\nJordi Núñez Navarro\nPromo de La Presencia\n1er premio\nVídeo\n2009\n\n\nSara Salmerón Valiño\nTragos de rutina\n3er Premio\nVídeo a doble pantalla\n2014\n\n\nAdrián Romero Guerrero\nUn suspiro\n\nVídeo a doble pantalla\n2014\n\n\nAdrián Rodríguez Morales\nDeconstrucción\, exclusión\, reconstrucción\n\nCianotipia\n2009\n\n\nSergi Dolcet Escrig\nHuellas de la naturaleza\n2º Premio\nFotografía digital en blanco y negro\n2012\n\n\nRubén Juan Montesinos\nS/T\n\nFotografía digital\n2010\n\n\n\n  \nDurante el Campus DKV Fresh Art\,  además de formarse en diferentes materias artísticas\, los  ganadores elaboran una obra a lo largo de esa semana\, que es evaluada por un jurado de expertos. En función de la calidad técnica/plástica\, así como la emotividad y originalidad\, posteriormente eligen a los tres premiados\, que reciben  una cantidad económica para invertir en material escolar o formativo. \nDKV Fresh Art es una iniciativa de DKV Seguros que promueve principios fundamentales para la compañía como la creatividad y la innovación. Desarrollado en colaboración con la Cátedra DKV Arte & Salud de la Universitat Politècnica de València y enmarcado dentro del programa ARTERIA DKV\, el concurso impulsa el desarrollo de las aptitudes artísticas entre los jóvenes que se encuentran en una etapa previa a los estudios universitarios. \nDKV Fresh Art se celebró por primera vez en 2009 entre estudiantes de la Comunidad Valenciana y Murcia. En la edición de 2010 se unieron a la iniciativa las comunidades de Aragón\, Baleares y Catalunya\, y en 2011 se incorporaron Madrid\, Castilla y León y País Vasco. \nEn 2011 se amplió a estudiantes de Extremadura\, Castilla La Mancha\, Galicia y Andalucía\, y se abrió la participación a alumnos de ciclos formativos de grado medio\, además de los de 1º y 2º de bachillerato\,  y en 2012 hubo dos novedades: se añadió la categoría “Grafiti” y\, por primera vez\, se extendió a estudiantes de todas las comunidades autónomas. \nArteria DKV \nEl concurso DKV Fresh Art se enmarca dentro del programa ARTERIA de DKV Seguros\, una iniciativa para impulsar la creación artística dentro y fuera de la compañía y que se alinea con dos de los atributos recogidos en el plan estratégico de la aseguradora para el periodo 2007-2010: creatividad e innovación. \nEn el marco de este programa DKV Seguros mantiene una colaboración con la Universitat Politècnica de València (UPV) a través de la cátedra DKV Arte y Salud\, una vía  para impulsar la conexión entre la universidad\, la comunidad\, el entorno sanitario y sus usuarios\, además de crear líneas de investigación dentro del binomio arte y salud. La cátedra también ha puesto en marcha la Beca DKV Grand Tour\, que brinda la posibilidad a  estudiantes del Máster en Producción Artística de la Facultat de Belles Arts de la UPV de perfeccionar sus proyectos en prestigiosas escuelas internacionales. \nOtra de las acciones es la colección DKV: Arte y Salud\, un conjunto de obras de artistas de la zona de Levante\, que la compañía ha cedido temporalmente al Hospital de Dénia (Alicante). Esta colección constituye el proyecto “CuidArt”\, una iniciativa pionera en España que pone de manifiesto como el arte influye en la mejora de la salud y el bienestar. \n  \nSala MDD\, del 17 de febrero al 10 de abril. De lunes a viernes\, de 11 a 21 horas \nTODA LA INFORMACIÓN EN LA WEB DEL CONCURSO \n 
URL:https://cicus.us.es/evento/exposicion-%c2%b7-dkv-fresh-art-3/
END:VEVENT
BEGIN:VEVENT
DTSTART;VALUE=DATE:20150226
DTEND;VALUE=DATE:20150227
DTSTAMP:20260421T151654
CREATED:20150116T165409Z
LAST-MODIFIED:20150120T093906Z
UID:20329-1424908800-1424995199@cicus.us.es
SUMMARY:I #EBOOKSPAIN OPEN. LOS ESTÁNDARES EN LA EDICIÓN DIGITAL.
DESCRIPTION:I #EBOOKSPAIN OPEN. LOS ESTÁNDARES EN LA EDICIÓN DIGITAL. \nLos estándares\, sus formatos\, su semántica y sus aplicaciones son básicos para la edición digital\, hasta el punto de que esta no se puede considerar como tal si no se aplican. El desarrollo de estos estándares en la industria de contenidos digitales\, on line o no\, está presente desde ya hace muchos años\, trabajando en y con ellos\, pero su adaptación a los nuevos formatos de libros digitales ha resultado un sonoro fracaso. En países como Estados Unidos\, la necesidad de profundizar en la adopción y desarrollo de estándares se considera un tema de importancia indiscutible desde hace años\, pero esta importante cuestión no se ha tratado de forma profesional hasta ahora en ningún país de habla hispana. \n  \nObjetivos: \n1. Promover el conocimiento de los estándares profesionales de la edición digital. \n2. Adentrarse en el uso de la edición semántica en el ámbito digital. \n3. Comprender la utilidad de los metadatos en la edición digital. \n  \nPlazo de inscripción: del 17/12/2014 al 20/02/2015 o hasta la adjudicación de todas las plazas disponibles \nPrecio: 45.00 € \nEl precio de inscripción para personas que no pertenezcan a la comunidad universitaria dela Universidad de Sevilla será de 45 euros hasta el 31 de enero y de 65 euros a partir del 1 de febrero de 2015. \nMás información e inscripciones en la web del Cicus: \nhttp://cicus.us.es \n  \n  \n 
URL:https://cicus.us.es/evento/i-ebookspain-open-los-estandares-en-la-edicion-digital/
END:VEVENT
BEGIN:VEVENT
DTSTART;TZID=Europe/Madrid:20150226T100000
DTEND;TZID=Europe/Madrid:20150226T140000
DTSTAMP:20260421T151654
CREATED:20150119T184206Z
LAST-MODIFIED:20150120T094008Z
UID:20390-1424944800-1424959200@cicus.us.es
SUMMARY:AMANT | MASTERCLASSES ·  Violín  · Alexis Aguado
DESCRIPTION:  \nMasterclass violín. Alexis Aguado \nCicus (c/Madre de Dios\, 1) \nPreinscripciones abiertas hasta el 17 de febrero en www.cicus.us.es \n  \nAMANT – MASTERCLASSES.   Invitados de la OBS \nDentro del Proyecto Amant\, una de las secciones más destacadas es precisamente la del desarrollo a lo largo del curso de un ciclo de clases magistrales\, donde se contaría con algunos de los más prestigiosos intérpretes especializados en la interpretación de la música renacentista y barroca. En esta ocasión será la soprano María Hinojosa quien imparta la clase magistral. \nNúmero máximo de alumnos intérpretes: 4. Posibilidad de asistencia como libre oyente más allá de este número\, hasta completar aforo. \nPrecio: 50.00 € – Estudiantes/PDI/PAS Universidad de Sevilla: 30.00 € \nPrecio alumnos CSM Manuel Castillo y Conservatorio de Grado Medio: 30\,00 €. \nExiste un número limitado de plazas becadas a talleres musicales del CICUS para miembros de la Orquesta Sinfónica Conjunta US/CSM Manuel Castillo. \n  \n  \n 
URL:https://cicus.us.es/evento/amant-masterclasses-%c2%b7-violin-%c2%b7-alexis-aguado/
END:VEVENT
BEGIN:VEVENT
DTSTART;TZID=Europe/Madrid:20150226T180000
DTEND;TZID=Europe/Madrid:20150226T180000
DTSTAMP:20260421T151654
CREATED:20150119T185654Z
LAST-MODIFIED:20150225T140438Z
UID:20396-1424973600-1424973600@cicus.us.es
SUMMARY:CONCIERTO ROSS · ENSAYO PÚBLICO · DR. ATOMIC DE J. ADAMS
DESCRIPTION:DR. ATOMIC DE J. ADAMS · ENSAYO PÚBLICO DE LA ROSS \nEntrada libre mediante invitación. Las invitaciones pueden recogerse de lunes a viernes de 10h a 18h en el CICUS (c/Madre de Dios\, 1) y  DESDE UNA HORA ANTES EN LA ETS DE INGENIERÍA. \n  \nLectura Pública de la ópera Dr. Atomic de J. Adams. ROSS \nReal Orquesta Sinfónica de Sevilla \nPedro Halffter\, dirección \nEn colaboración con la ROSS \nDestacada en la amplia programación cultural del CICUS es la colaboración con otras instituciones musicales\, tales comola ROSS\, OBS y Teatro dela Maestranza. Así\, conla ROSS\,la Universidadde Sevilla celebra no sólo los tradicionales conciertos de apertura y clausura de curso académico\, sino también un importante número de actividades de orden artístico y académico. \nSi en el curso pasado tuvimos ocasión de asistir a la lectura pública de uno de los actos de El Ocaso de los Dioses  (Götterdämmerung) de R.Wagner\, en el mes de febrero del presente curso la ROSS ofrecerá la lectura pública de alguno de los actos de la ópera Dr. Atomic de J. Adams en el auditorio dela ETS de Ingeniería\, siendo dirigida la orquesta por Pedro Halffter. Un aperitivo perfecto para los amantes de la ópera que tendrán ocasión más adelante de disfrutar de la representación de la misma en el Teatro dela Maestranza los días 13\, 16 y 18 de marzo. \n  \nEntrada libre mediante invitación. Las invitaciones pueden recogerse de lunes a viernes de 10h a 18h en el CICUS (c/Madre de Dios\, 1) y  DESDE UNA HORA ANTES EN LA ETS DE INGENIERÍA.
URL:https://cicus.us.es/evento/concierto-ross-%c2%b7-ensayo-publico-%c2%b7-dr-atomic-de-j-adams/
END:VEVENT
BEGIN:VEVENT
DTSTART;TZID=Europe/Madrid:20150226T190000
DTEND;TZID=Europe/Madrid:20150226T190000
DTSTAMP:20260421T151654
CREATED:20150216T093740Z
LAST-MODIFIED:20150216T094154Z
UID:20701-1424977200-1424977200@cicus.us.es
SUMMARY:Presentación · Viaje de invierno
DESCRIPTION: \n \nPresentación del libro Viaje de invierno\, de Santiago Velázquez.\nPublicada por Zut ediciones.\nAcompañará al autor Fran G. Matute\, de Estado Crítico. \nCon poco más de veinte años\, Rubén Granta y Alejandra Osorio se conocen en una dionisíaca fiesta de Carnavales. Rubén es un joven de clase alta\, estudia Derecho pero quiere dedicar su vida a la pintura. Hijo de un prestigioso abogado\, criado entre amas de llave\, vive atormentado por la ansiedad creativa\, la culpa y la cobardía. Alejandra\, en cambio\, pertenece a una familia que ha logrado construir su hogar en las barriadas marginales de la gran ciudad\, estudia Medicina y sueña con llenar\, con su canto\, óperas y teatros. \nComienza entonces una luminosa historia de amor\, el descubrimiento insólito de haber encontrado a la otra mitad\, dos personajes complementarios que viven obsesionados con dejar huella en el mundo a través del arte. Corre el mes de diciembre de 1997 y ante la perspectiva de los exámenes que están por venir\, deciden ir a pasar un fin de semana a la nieve\, en el crudo invierno de las montañas. Tienen toda la vida por delante… Pero ¿qué pasa cuando las circunstancias cambian repentina y gravemente? ¿Nos mantenemos fieles a nuestros ideales? \nUna delicadísima y terrible historia sobre el amor\, la pasión y los ideales\, un mapa de la íntima cobardía humana y la traición. Narrada sin compasión\, Viaje de invierno es\, sobre todo\, una novela de horror.
URL:https://cicus.us.es/evento/presentacion-%c2%b7-viaje-de-invierno/
END:VEVENT
BEGIN:VEVENT
DTSTART;TZID=Europe/Madrid:20150226T200000
DTEND;TZID=Europe/Madrid:20150226T200000
DTSTAMP:20260421T151654
CREATED:20150119T183239Z
LAST-MODIFIED:20150120T094008Z
UID:20387-1424980800-1424980800@cicus.us.es
SUMMARY:AMANT | CONFERENCIAS · FRANCISCO CALLEJO · La sonata en el Siglo de Oro
DESCRIPTION:  \nAMANT – CONFERENCIAS. \n Conferencia Francisco Callejo. «La sonata en el Siglo de Oro» \nTaller de Contextualización Histórico-Cultural y Apreciación de la Música \nParte fundamental de AMANT\, es el desarrollo de este taller en el que los inscritos\, además de poder asistir a los ensayos generales de la OBS en su temporada de conciertos\, también asistirán al ciclo de conferencias propuesto que este año no sólo ilustra la elección de temas y programas de cada uno de los conciertos de la OBS\, sino que también procurarán a los alumnos algunos conocimientos sobre conceptos fundamentales tanto de orden cultural como histórico\, en definitiva herramientas cognitivas necesarias para una mejor comprensión de la producción musical del Renacimiento y del Barroco. \n  \nAcademia de Música Antigua de la Universidad de Sevilla \nDel 4 de octubre de 2014 al 21 de junio de 2015 \nAMANT es un proyecto nacido en este curso académico con la pretensión de convertirse en unos años en un centro de referencia para el estudio\, investigación\, difusión\, formación y divulgación de la música antigua en España. El título escogido para este primer año es el de «La música en el Siglo de las Luces». El programa consta de diversas actividades\, que incluyen conferencias\, ensayos abiertos\, clases magistrales\, formación de un “grupo residente” de alumnos\, seminarios de interpretación\, así como algunos conciertos públicos. Cuenta asimismo con un grupo residente\, que además tendrá ocasión de actuar en Bolonia y Gante\, al igual que alumnos de estas universidades harán lo mismo aquí en Sevilla. \nEste proyecto se desarrolla en colaboración con la Orquesta Barroca de Sevilla\, Instituto de la Cultura y las Artes de Sevilla (ICAS)\, Asociación de Amigos de la OBS\, Academia English Language Institute (ELI) y Conservatorio Superior de Música Manuel Castillo. \n  \nSolicitudes e inscripción \n  \nFinalizado el plazo de inscripciones para el presente curso\, salvo para las clases magistrales propuestas\, cuyo plazo de está abierto durante todo el curso para aquellos alumnos interesados en participar activamente en las mismas. \n  \n 
URL:https://cicus.us.es/evento/amant-conferencias-%c2%b7-francisco-callejo-%c2%b7-la-sonata-en-el-siglo-de-oro/
END:VEVENT
BEGIN:VEVENT
DTSTART;TZID=Europe/Madrid:20150226T203000
DTEND;TZID=Europe/Madrid:20150226T203000
DTSTAMP:20260421T151654
CREATED:20150218T122706Z
LAST-MODIFIED:20150218T122915Z
UID:20746-1424982600-1424982600@cicus.us.es
SUMMARY:PRESENTACIÓN · TEXTOS DE DOCTORADO · ENTREGA DEL III PREMIO IUACC A LA MEJOR TESIS DOCTORAL
DESCRIPTION:Presentación de las dos últimas publicaciones de la Colección «Textos de Doctorado»\, pertenecientes a la serie Arquitectura y publicadas con los números 47 y 48 de la colección\, y realizar el Acto de entrega del III Premio IUACC a la Mejor Tesis Doctoral: \nCórdoba y el Guadalquivir. Construcción de un ideario de futuro – Fernando Osuna Pérez \nMuerte en el bosque. Fenomenología espacial comparada de tres imágenes kinetoarquitectónicas – Pablo López Santana \nEn el acto también intervendrán Ángel Martínez García-Posadas y Javier Terrados Cepeda\, profesores del Departamento de Proyectos Arquitectónicos de la Universidad de Sevilla\, y premiados en anteriores ediciones de los Premios IUACC a la Mejor Tesis Doctoral. \nMás información en la web del IUACC.
URL:https://cicus.us.es/evento/presentacion-%c2%b7-textos-de-doctorado-%c2%b7-entrega-del-iii-premio-iuacc-a-la-mejor-tesis-doctoral/
END:VEVENT
END:VCALENDAR