BEGIN:VCALENDAR
VERSION:2.0
PRODID:-//CICUS · Centro de Iniciativas Culturales de la Universidad de Sevilla - ECPv6.15.20//NONSGML v1.0//EN
CALSCALE:GREGORIAN
METHOD:PUBLISH
X-WR-CALNAME:CICUS · Centro de Iniciativas Culturales de la Universidad de Sevilla
X-ORIGINAL-URL:https://cicus.us.es
X-WR-CALDESC:Eventos para CICUS · Centro de Iniciativas Culturales de la Universidad de Sevilla
REFRESH-INTERVAL;VALUE=DURATION:PT1H
X-Robots-Tag:noindex
X-PUBLISHED-TTL:PT1H
BEGIN:VTIMEZONE
TZID:Europe/Madrid
BEGIN:DAYLIGHT
TZOFFSETFROM:+0100
TZOFFSETTO:+0200
TZNAME:CEST
DTSTART:20120325T010000
END:DAYLIGHT
BEGIN:STANDARD
TZOFFSETFROM:+0200
TZOFFSETTO:+0100
TZNAME:CET
DTSTART:20121028T010000
END:STANDARD
BEGIN:DAYLIGHT
TZOFFSETFROM:+0100
TZOFFSETTO:+0200
TZNAME:CEST
DTSTART:20130331T010000
END:DAYLIGHT
BEGIN:STANDARD
TZOFFSETFROM:+0200
TZOFFSETTO:+0100
TZNAME:CET
DTSTART:20131027T010000
END:STANDARD
BEGIN:DAYLIGHT
TZOFFSETFROM:+0100
TZOFFSETTO:+0200
TZNAME:CEST
DTSTART:20140330T010000
END:DAYLIGHT
BEGIN:STANDARD
TZOFFSETFROM:+0200
TZOFFSETTO:+0100
TZNAME:CET
DTSTART:20141026T010000
END:STANDARD
BEGIN:DAYLIGHT
TZOFFSETFROM:+0100
TZOFFSETTO:+0200
TZNAME:CEST
DTSTART:20150329T010000
END:DAYLIGHT
BEGIN:STANDARD
TZOFFSETFROM:+0200
TZOFFSETTO:+0100
TZNAME:CET
DTSTART:20151025T010000
END:STANDARD
END:VTIMEZONE
BEGIN:VEVENT
DTSTART;VALUE=DATE:20130709
DTEND;VALUE=DATE:20140201
DTSTAMP:20260424T075650
CREATED:20130527T224912Z
LAST-MODIFIED:20131219T135517Z
UID:13402-1373328000-1391212799@cicus.us.es
SUMMARY:Exposición "NO HAY CRISIS CREATIVA"
DESCRIPTION:Imagen: Lucas Martinez para Zunder Collective \nNO HAY CRISIS CREATIVA\, De Irene Pérez Miranda (comisaria) \nLugar: Fachada del edificio sede del CICUS\nFecha: Del 9 de julio a final de 2013. \nSe trata de una exposición colectiva\, multidisciplinar\, de jóvenes andaluces y creativos. Las lonas expuestas en la fachada del CICUS serán ventanas donde descubrir proyectos de diseño\, ilustración\, música\, artes escénicas\, arte urbano\, moda\, arquitectura\, arte digital… Todo ello a través de grandes creadores activos e innovadores. Como afirma la comisaria de la exposición en su proyecto: No es una generación perdida\, es una generación efervescente.\nPensamos que este proyecto da más sentido si cabe al CICUS en cuanto que centro de iniciativas culturales. Nos ha gustado especialmente que nuestra fachada pueda ser también un escaparate de esa efervescencia\, de la creatividad y de las ganas de jóvenes emprendedores andaluces por sacar adelante sus proyectos culturales.\nLas lonas de las plantas primera y segunda contienen las propuestas artísticas de cada disciplina o proyecto. En las ventanas de abajo\, mediante un plano esquemático\, se remitirá a los distintos proyectos a través de un código QR que lleva a la página web de cada artista.
URL:https://cicus.us.es/evento/exposicion-no-hay-crisis-creativa/
LOCATION:CICUS\, C/ Madre de Dios\, 1\, Sevilla\, Sevilla\, España
END:VEVENT
BEGIN:VEVENT
DTSTART;VALUE=DATE:20131219
DTEND;VALUE=DATE:20131220
DTSTAMP:20260424T075650
CREATED:20131007T215749Z
LAST-MODIFIED:20131121T114447Z
UID:14222-1387411200-1387497599@cicus.us.es
SUMMARY:EXPOSICIÓN BIBLIOTECAS EN LA BIBLIOTECA DE LA UNIVERSIDAD DE SEVILLA: FONDOS Y PROCEDENCIAS
DESCRIPTION:Del 16 de diciembre de 2013 al 5 de febrero de 2014\nHorarios: De 11 a 21 horas de lunes a viernes\, sábados y festivos cerrado \nDentro del trabajo de investigación y difusión del rico patrimonio de la Universidad de Sevilla el CICUS aborda en esta ocasión las grades colecciones históricas bibliográficas.\nLa importancia de esta exposición\, por sus contenidos\, y sobre todo por presentar a la Biblioteca de la Universidad de Sevilla como el resultado de cinco siglos de interactuación de la Universidad y la ciudad de Sevilla\, justifica que junto a la exposición virtual y a la presentación de su catálogo se sume esta gran muestra que contribuirán a un mejor conocimiento de nuestro patrimonio por parte de la sociedad sevillana.
URL:https://cicus.us.es/evento/exposicion-bibliotecas-en-la-biblioteca-de-la-universidad-de-sevilla-fondos-y-procedencias-7/
END:VEVENT
BEGIN:VEVENT
DTSTART;TZID=Europe/Madrid:20131219T203000
DTEND;TZID=Europe/Madrid:20131219T203000
DTSTAMP:20260424T075650
CREATED:20131007T221323Z
LAST-MODIFIED:20131213T124312Z
UID:14254-1387485000-1387485000@cicus.us.es
SUMMARY:ANDALUCIA BIG BAND
DESCRIPTION:ANDALUCIA BIG BAND\nJazz Sessions #5\n \nDirector BOB SANDS\nBob Sands.  Nacido en Manhattan en 1966. Estudia Piano desde los 5 años. A los 9 años\, empieza a estudiar el saxofón. Obtiene el Bachelor of Music Degree (Saxofón clasico) de Eastman School of Music (University of Rochester) en 1988. Obtiene el Master of Music Degree (Musica de Jazz y Comercial) de Manhattan School of Music en 1991 con honores. en 1987 y 1988\, recibe el Premio Honorable Mention de la revista DownBeat. Profesores principales: Ramon Ricker\, Bob Mintzer\, Bill Dobbins\, Ray Wright\, Al Regni y George Coleman. En 1992 se traslada a Madrid\, donde vive actualmente.\nHa participado en giras internacionales con las orquestas de Lionel Hampton y The Glenn Miller Orchestra. A nivel internacional\, ha tenido la oportunidad de tocar junto a: Lionel Hampton\, Dizzy Gillespie\, Paquito D’Rivera\, Gerry Mulligan\, Mel Lewis\, Gary Smulyan\, Clark Terry\, Mark Murphy\, Dee Dee Bridgewater\, Ron McClure\, George Mraz\, Kurt Weiss and J.J. Johnson\, entre otros. Desde que se trasladó a España a actuado con Perico Sambeat\, Jorge Pardo\, Chano Domínguez\, Pedro Iturralde\, Albert Bover\, Iñaki Salvador\,Horacio Icasto\, Javier Colina\, Mario Rossy\, Jorge Rossy\, Bernardo Sasseti\, Guillermo McGuill\, Chris Kase\, Mikel Andueza y Yayo Morales entre otros. En 1998\, graba su primer disco como lider en España para el sello Fresh Sound New Talent\, en el que también participanAlbert Bover\, Carlos Barretto\, Philipe Soiratt\, Perico Sambeat y Kurt Weiss. Actualmente\, trabaja como lider de varios projectos\, Musico “freelance” y profesor de armonía de jazz y director de Big Band en Musikene en San Sebastian. Sus projectos de momento incluyen su trio\, cuarteto y The Bob Sands Big Band\, que dirige cuando sus obligaciones como músico de grabaciones y solista lo permiten. \nAuditorio Cicus\,  20.30h\nPrecios: 8 € entrada normal / 4 € estudiantes\, comunidad universitaria y socios de Assejazz y talleres de jazz de la US.\nTaquilla desde 2 horas antes en CICUS
URL:https://cicus.us.es/evento/andalucia-big-band/
END:VEVENT
END:VCALENDAR