BEGIN:VCALENDAR
VERSION:2.0
PRODID:-//CICUS · Centro de Iniciativas Culturales de la Universidad de Sevilla - ECPv6.15.20//NONSGML v1.0//EN
CALSCALE:GREGORIAN
METHOD:PUBLISH
X-WR-CALNAME:CICUS · Centro de Iniciativas Culturales de la Universidad de Sevilla
X-ORIGINAL-URL:https://cicus.us.es
X-WR-CALDESC:Eventos para CICUS · Centro de Iniciativas Culturales de la Universidad de Sevilla
REFRESH-INTERVAL;VALUE=DURATION:PT1H
X-Robots-Tag:noindex
X-PUBLISHED-TTL:PT1H
BEGIN:VTIMEZONE
TZID:Europe/Madrid
BEGIN:DAYLIGHT
TZOFFSETFROM:+0100
TZOFFSETTO:+0200
TZNAME:CEST
DTSTART:20120325T010000
END:DAYLIGHT
BEGIN:STANDARD
TZOFFSETFROM:+0200
TZOFFSETTO:+0100
TZNAME:CET
DTSTART:20121028T010000
END:STANDARD
BEGIN:DAYLIGHT
TZOFFSETFROM:+0100
TZOFFSETTO:+0200
TZNAME:CEST
DTSTART:20130331T010000
END:DAYLIGHT
BEGIN:STANDARD
TZOFFSETFROM:+0200
TZOFFSETTO:+0100
TZNAME:CET
DTSTART:20131027T010000
END:STANDARD
BEGIN:DAYLIGHT
TZOFFSETFROM:+0100
TZOFFSETTO:+0200
TZNAME:CEST
DTSTART:20140330T010000
END:DAYLIGHT
BEGIN:STANDARD
TZOFFSETFROM:+0200
TZOFFSETTO:+0100
TZNAME:CET
DTSTART:20141026T010000
END:STANDARD
BEGIN:DAYLIGHT
TZOFFSETFROM:+0100
TZOFFSETTO:+0200
TZNAME:CEST
DTSTART:20150329T010000
END:DAYLIGHT
BEGIN:STANDARD
TZOFFSETFROM:+0200
TZOFFSETTO:+0100
TZNAME:CET
DTSTART:20151025T010000
END:STANDARD
END:VTIMEZONE
BEGIN:VEVENT
DTSTART;VALUE=DATE:20130709
DTEND;VALUE=DATE:20140201
DTSTAMP:20260423T145632
CREATED:20130527T224912Z
LAST-MODIFIED:20131219T135517Z
UID:13402-1373328000-1391212799@cicus.us.es
SUMMARY:Exposición "NO HAY CRISIS CREATIVA"
DESCRIPTION:Imagen: Lucas Martinez para Zunder Collective \nNO HAY CRISIS CREATIVA\, De Irene Pérez Miranda (comisaria) \nLugar: Fachada del edificio sede del CICUS\nFecha: Del 9 de julio a final de 2013. \nSe trata de una exposición colectiva\, multidisciplinar\, de jóvenes andaluces y creativos. Las lonas expuestas en la fachada del CICUS serán ventanas donde descubrir proyectos de diseño\, ilustración\, música\, artes escénicas\, arte urbano\, moda\, arquitectura\, arte digital… Todo ello a través de grandes creadores activos e innovadores. Como afirma la comisaria de la exposición en su proyecto: No es una generación perdida\, es una generación efervescente.\nPensamos que este proyecto da más sentido si cabe al CICUS en cuanto que centro de iniciativas culturales. Nos ha gustado especialmente que nuestra fachada pueda ser también un escaparate de esa efervescencia\, de la creatividad y de las ganas de jóvenes emprendedores andaluces por sacar adelante sus proyectos culturales.\nLas lonas de las plantas primera y segunda contienen las propuestas artísticas de cada disciplina o proyecto. En las ventanas de abajo\, mediante un plano esquemático\, se remitirá a los distintos proyectos a través de un código QR que lleva a la página web de cada artista.
URL:https://cicus.us.es/evento/exposicion-no-hay-crisis-creativa/
LOCATION:CICUS\, C/ Madre de Dios\, 1\, Sevilla\, Sevilla\, España
END:VEVENT
BEGIN:VEVENT
DTSTART;VALUE=DATE:20131211
DTEND;VALUE=DATE:20131214
DTSTAMP:20260423T145632
CREATED:20131007T165058Z
LAST-MODIFIED:20131007T165058Z
UID:14188-1386720000-1386979199@cicus.us.es
SUMMARY:FESTIVAL ANIMALADA - TALLERES
DESCRIPTION:11 DE DICIEMBRE\n10 a 14H. Introducción a la Animación Tradicional\nPlazas: 20\nHoras: 4\nImpartido por: Francisco A. Peinado – Dibujante\, especialista en Animación\nInscripción: 18/11/13 al 30/11/13\nPrecio: 20 € general 10 € Estudiantes/PDI/PAS Universidad Sevilla.\nSolicitados créditos de libre disposición o créditos de libre configuración para alumnos del plan antiguo.\nEntrada limitada a alumnos inscritos\nLugar: Café Cicus \n12 DE DICIEMBRE\n10 a 14H. Diseño de Personajes para Animación\nPlazas: 20\nHoras: 4\nImpartido por: Abel Ippólito – Dibujante\, especialista en Cómic.\nInscripción: 18/11/13 al 30/11/13\nPrecio: 20 € general 10 € Estudiantes/PDI/PAS Universidad Sevilla.\nSolicitados créditos de libre disposición o créditos de libre configuración para alumnos del plan antiguo.\nEntrada limitada a alumnos inscritos\nLugar: Café Cicus \n13 DE DICIEMBRE\n10 a 14H. Herramientas de Animación en AfterEffects\nPlazas: 20\nHoras: 4\nImpartido por: Pablo Márquez\, – Ilustrador y Programador 3D.\nInscripción: 18/11/13 al 30/11/13\nPrecio: 20 € general 10 € Estudiantes/PDI/PAS Universidad Sevilla.\nSolicitados créditos de libre disposición o créditos de libre configuración para alumnos del plan antiguo.\nEntrada limitada a alumnos inscritos\nLugar: Café Cicus
URL:https://cicus.us.es/evento/festival-animalada-talleres/
LOCATION:CICUS – Sala Café\, C/ Madre de Dios\,1\, Sevilla\, Sevilla\, España
END:VEVENT
BEGIN:VEVENT
DTSTART;TZID=Europe/Madrid:20131213T100000
DTEND;TZID=Europe/Madrid:20131213T140000
DTSTAMP:20260423T145632
CREATED:20131022T164423Z
LAST-MODIFIED:20131022T164423Z
UID:14564-1386928800-1386943200@cicus.us.es
SUMMARY:FESTIVAL ANIMALADA – TALLERES
DESCRIPTION:13 DE DICIEMBRE\n10 a 14H. Herramientas de Animación en AfterEffects \nINSCRIPCIÓN AQUÍ : Del 18/11/13 al 30/11/13 \nPrecio: 20 € general 10 € Estudiantes/PDI/PAS Universidad Sevilla. \nPlazas: 20 \nHoras: 4 \nImpartido por: Pablo Márquez\, – Ilustrador y Programador 3D. \nEntrada limitada a alumnos inscritos \nLugar: Café Cicus
URL:https://cicus.us.es/evento/festival-animalada-%e2%80%93-talleres-3/
LOCATION:CICUS
END:VEVENT
BEGIN:VEVENT
DTSTART;TZID=Europe/Madrid:20131213T190000
DTEND;TZID=Europe/Madrid:20131213T190000
DTSTAMP:20260423T145632
CREATED:20131007T164517Z
LAST-MODIFIED:20131205T151715Z
UID:14185-1386961200-1386961200@cicus.us.es
SUMMARY:PROYECCIÓN CINE FRANCÉS | LES ENFANTS VOLÉS
DESCRIPTION:LES ENFANTS VOLÉS \n(Sandrine Mercier y Juan Gordillo Hidalgo\, 2012\, 52 min.\, V.O.S.E.) \nTras la proyección\, tendremos ocasión de debatir sobre la película con  los dos autores de la misma\, Sandrine Mercier y Juan Gordillo.  \nSinopsis: \nEn España\, multitud de niños han sido sustraídos\, arrancados de sus raíces\, entre 1939 y 1996. El neonato era declarado fallecido\, cuando en realidad\, vivo\, era vendido a otra familia. \nDesde hace algunos años\, las víctimas han decidido llevar a cabo una investigación\, por su cuenta. \nLas hemos acompañado siguiendo las huellas de esta increíble historia para comprender como ha podido ocurrir este tráfico y desarrollarse\, hasta tal punto de sobrepasar hoy\, ampliamente\, las fronteras de España. \n  \n  \n 
URL:https://cicus.us.es/evento/proyeccion-cine-frances-les-enfants-voles/
LOCATION:CICUS – Sala Café\, C/ Madre de Dios\,1\, Sevilla\, Sevilla\, España
END:VEVENT
END:VCALENDAR