BEGIN:VCALENDAR
VERSION:2.0
PRODID:-//CICUS · Centro de Iniciativas Culturales de la Universidad de Sevilla - ECPv6.15.20//NONSGML v1.0//EN
CALSCALE:GREGORIAN
METHOD:PUBLISH
X-WR-CALNAME:CICUS · Centro de Iniciativas Culturales de la Universidad de Sevilla
X-ORIGINAL-URL:https://cicus.us.es
X-WR-CALDESC:Eventos para CICUS · Centro de Iniciativas Culturales de la Universidad de Sevilla
REFRESH-INTERVAL;VALUE=DURATION:PT1H
X-Robots-Tag:noindex
X-PUBLISHED-TTL:PT1H
BEGIN:VTIMEZONE
TZID:Europe/Madrid
BEGIN:DAYLIGHT
TZOFFSETFROM:+0100
TZOFFSETTO:+0200
TZNAME:CEST
DTSTART:20120325T010000
END:DAYLIGHT
BEGIN:STANDARD
TZOFFSETFROM:+0200
TZOFFSETTO:+0100
TZNAME:CET
DTSTART:20121028T010000
END:STANDARD
BEGIN:DAYLIGHT
TZOFFSETFROM:+0100
TZOFFSETTO:+0200
TZNAME:CEST
DTSTART:20130331T010000
END:DAYLIGHT
BEGIN:STANDARD
TZOFFSETFROM:+0200
TZOFFSETTO:+0100
TZNAME:CET
DTSTART:20131027T010000
END:STANDARD
BEGIN:DAYLIGHT
TZOFFSETFROM:+0100
TZOFFSETTO:+0200
TZNAME:CEST
DTSTART:20140330T010000
END:DAYLIGHT
BEGIN:STANDARD
TZOFFSETFROM:+0200
TZOFFSETTO:+0100
TZNAME:CET
DTSTART:20141026T010000
END:STANDARD
BEGIN:DAYLIGHT
TZOFFSETFROM:+0100
TZOFFSETTO:+0200
TZNAME:CEST
DTSTART:20150329T010000
END:DAYLIGHT
BEGIN:STANDARD
TZOFFSETFROM:+0200
TZOFFSETTO:+0100
TZNAME:CET
DTSTART:20151025T010000
END:STANDARD
END:VTIMEZONE
BEGIN:VEVENT
DTSTART;VALUE=DATE:20130709
DTEND;VALUE=DATE:20140201
DTSTAMP:20260420T184211
CREATED:20130527T224912Z
LAST-MODIFIED:20131219T135517Z
UID:13402-1373328000-1391212799@cicus.us.es
SUMMARY:Exposición "NO HAY CRISIS CREATIVA"
DESCRIPTION:Imagen: Lucas Martinez para Zunder Collective \nNO HAY CRISIS CREATIVA\, De Irene Pérez Miranda (comisaria) \nLugar: Fachada del edificio sede del CICUS\nFecha: Del 9 de julio a final de 2013. \nSe trata de una exposición colectiva\, multidisciplinar\, de jóvenes andaluces y creativos. Las lonas expuestas en la fachada del CICUS serán ventanas donde descubrir proyectos de diseño\, ilustración\, música\, artes escénicas\, arte urbano\, moda\, arquitectura\, arte digital… Todo ello a través de grandes creadores activos e innovadores. Como afirma la comisaria de la exposición en su proyecto: No es una generación perdida\, es una generación efervescente.\nPensamos que este proyecto da más sentido si cabe al CICUS en cuanto que centro de iniciativas culturales. Nos ha gustado especialmente que nuestra fachada pueda ser también un escaparate de esa efervescencia\, de la creatividad y de las ganas de jóvenes emprendedores andaluces por sacar adelante sus proyectos culturales.\nLas lonas de las plantas primera y segunda contienen las propuestas artísticas de cada disciplina o proyecto. En las ventanas de abajo\, mediante un plano esquemático\, se remitirá a los distintos proyectos a través de un código QR que lleva a la página web de cada artista.
URL:https://cicus.us.es/evento/exposicion-no-hay-crisis-creativa/
LOCATION:CICUS\, C/ Madre de Dios\, 1\, Sevilla\, Sevilla\, España
END:VEVENT
BEGIN:VEVENT
DTSTART;TZID=Europe/Madrid:20131125T180000
DTEND;TZID=Europe/Madrid:20131125T180000
DTSTAMP:20260420T184211
CREATED:20131007T161800Z
LAST-MODIFIED:20131007T162244Z
UID:14174-1385402400-1385402400@cicus.us.es
SUMMARY:MUESTRA AVA | SESIÓN 7. DOCUMENTALES
DESCRIPTION:SESIÓN 7. DOCUMENTALES \n18.00 h. – 75 min. \nPresentación a cargo del director. \nEl Rocío es compartir.- Francisco Campos Barba (Francisco Campos Barba\, 2012\, 75 min.) \nFrancisco Campos nos muestra ese Rocío «que no se ve»\, es decir\, el que viven los romeros de camino a su destino. Las comidas\, las oraciones\, las canciones\, las charlas\, los silencios… Un camino en el que «todos son iguales\, no hay unos más que otros ni importa la condición social». ¿Que hay famosos que van para ver y dejarse ver? No va de ellos El Rocío es compartir\, sino de quienes emprenden la ruta para rezar\, sentir y\, por supuesto\, reír y participar a los demás de esa felicidad. Son\, «los auténticos protagonistas de la película». \nCon la colaboración de
URL:https://cicus.us.es/evento/muestra-ava-sesion-7-documentales/
LOCATION:CICUS – Sala Café\, C/ Madre de Dios\,1\, Sevilla\, Sevilla\, España
END:VEVENT
BEGIN:VEVENT
DTSTART;TZID=Europe/Madrid:20131125T200000
DTEND;TZID=Europe/Madrid:20131125T200000
DTSTAMP:20260420T184211
CREATED:20131007T155839Z
LAST-MODIFIED:20131007T155839Z
UID:14157-1385409600-1385409600@cicus.us.es
SUMMARY:Filmoteca |  PIATA PORA ROKU (La quinta estación del año)
DESCRIPTION:Muestra de cine polaco \nPIATA PORA ROKU (La quinta estación del año)  \n(Jerzy Domaracki\, Polonia 2012\, 96 min.\, v.o.s.e.) \nSinopsis: \nEl viaje de dos protagonistas por todo el país es un buen pretexto para ajustar mostrar \nla realidad de la Polonia contemporánea. Es un retrato de Polonia después de veinte \naños de democracia\, que tiene por objeto invitar al espectador polaco a la reflexión \nanalizando como era el país en el que vivió “ayer” y como será el del “mañana”. Los protagonistas que vivieron su juventud en tiempos del comunismo\, ahora están \nhaciendo balance. En estos momentos su percepción es más aguda y más sensible a los \npequeños detalles. (Formato Blue Ray) \n 
URL:https://cicus.us.es/evento/filmoteca-piata-pora-roku-la-quinta-estacion-del-ano/
LOCATION:CICUS\, C/ Madre de Dios\,1\, Sevilla\, Sevilla\, España
END:VEVENT
END:VCALENDAR