BEGIN:VCALENDAR
VERSION:2.0
PRODID:-//CICUS · Centro de Iniciativas Culturales de la Universidad de Sevilla - ECPv6.15.20//NONSGML v1.0//EN
CALSCALE:GREGORIAN
METHOD:PUBLISH
X-ORIGINAL-URL:https://cicus.us.es
X-WR-CALDESC:Eventos para CICUS · Centro de Iniciativas Culturales de la Universidad de Sevilla
REFRESH-INTERVAL;VALUE=DURATION:PT1H
X-Robots-Tag:noindex
X-PUBLISHED-TTL:PT1H
BEGIN:VTIMEZONE
TZID:Europe/Madrid
BEGIN:DAYLIGHT
TZOFFSETFROM:+0100
TZOFFSETTO:+0200
TZNAME:CEST
DTSTART:20120325T010000
END:DAYLIGHT
BEGIN:STANDARD
TZOFFSETFROM:+0200
TZOFFSETTO:+0100
TZNAME:CET
DTSTART:20121028T010000
END:STANDARD
BEGIN:DAYLIGHT
TZOFFSETFROM:+0100
TZOFFSETTO:+0200
TZNAME:CEST
DTSTART:20130331T010000
END:DAYLIGHT
BEGIN:STANDARD
TZOFFSETFROM:+0200
TZOFFSETTO:+0100
TZNAME:CET
DTSTART:20131027T010000
END:STANDARD
BEGIN:DAYLIGHT
TZOFFSETFROM:+0100
TZOFFSETTO:+0200
TZNAME:CEST
DTSTART:20140330T010000
END:DAYLIGHT
BEGIN:STANDARD
TZOFFSETFROM:+0200
TZOFFSETTO:+0100
TZNAME:CET
DTSTART:20141026T010000
END:STANDARD
BEGIN:DAYLIGHT
TZOFFSETFROM:+0100
TZOFFSETTO:+0200
TZNAME:CEST
DTSTART:20150329T010000
END:DAYLIGHT
BEGIN:STANDARD
TZOFFSETFROM:+0200
TZOFFSETTO:+0100
TZNAME:CET
DTSTART:20151025T010000
END:STANDARD
END:VTIMEZONE
BEGIN:VEVENT
DTSTART;VALUE=DATE:20130709
DTEND;VALUE=DATE:20140201
DTSTAMP:20260420T062111
CREATED:20130527T224912Z
LAST-MODIFIED:20131219T135517Z
UID:13402-1373328000-1391212799@cicus.us.es
SUMMARY:Exposición "NO HAY CRISIS CREATIVA"
DESCRIPTION:Imagen: Lucas Martinez para Zunder Collective \nNO HAY CRISIS CREATIVA\, De Irene Pérez Miranda (comisaria) \nLugar: Fachada del edificio sede del CICUS\nFecha: Del 9 de julio a final de 2013. \nSe trata de una exposición colectiva\, multidisciplinar\, de jóvenes andaluces y creativos. Las lonas expuestas en la fachada del CICUS serán ventanas donde descubrir proyectos de diseño\, ilustración\, música\, artes escénicas\, arte urbano\, moda\, arquitectura\, arte digital… Todo ello a través de grandes creadores activos e innovadores. Como afirma la comisaria de la exposición en su proyecto: No es una generación perdida\, es una generación efervescente.\nPensamos que este proyecto da más sentido si cabe al CICUS en cuanto que centro de iniciativas culturales. Nos ha gustado especialmente que nuestra fachada pueda ser también un escaparate de esa efervescencia\, de la creatividad y de las ganas de jóvenes emprendedores andaluces por sacar adelante sus proyectos culturales.\nLas lonas de las plantas primera y segunda contienen las propuestas artísticas de cada disciplina o proyecto. En las ventanas de abajo\, mediante un plano esquemático\, se remitirá a los distintos proyectos a través de un código QR que lleva a la página web de cada artista.
URL:https://cicus.us.es/evento/exposicion-no-hay-crisis-creativa/
LOCATION:CICUS\, C/ Madre de Dios\, 1\, Sevilla\, Sevilla\, España
END:VEVENT
BEGIN:VEVENT
DTSTART;TZID=Europe/Madrid:20131117T200000
DTEND;TZID=Europe/Madrid:20131117T200000
DTSTAMP:20260420T062111
CREATED:20131007T213123Z
LAST-MODIFIED:20131104T104607Z
UID:14201-1384718400-1384718400@cicus.us.es
SUMMARY:CENIT V  · ORILLA OLVIDO
DESCRIPTION:“ORILLA OLVIDO”. SAVIA ROJA \nSinopsis:\nUn país cualquiera de los muchos países pobres del sur\, una mujer y un hombre\, él y ella\, de cualquier tiempo y de cualquier cultura\, una playa\, una frontera frente a ellos\, el mar\, y una orilla al otro lado\, la orilla rica del noroeste. Él decide embarcarse hacia esa playa del norte en busca de una vida más próspera para ambos\, ella promete esperarlo\, pero el tiempo pasa y ambos se desesperan. Son muchos los sueños y las ilusiones que ambos se crean sobre la nueva y mejor vida que tendrán en ese desarrollado país del norte pero todos esos sueños se verán truncados por el destino.\nEntre los textos poéticos que ambos personajes intercalan desde uno y otro lado del mar\, los sueños y las ilusiones de ambos se muestran con alegres coreografías de claqué que suenan a música jazz\, y en medio de toda esta confusión\, puesto que es difícil distinguir la realidad de los sueños\, aparece un tercer personaje que está por encima de todo lo tangible\, un personaje que mezcla la ironía con la verdad más cruda\, un personaje que hace un llamamiento al espectador a despertar y hacerse valer en esta sociedad tan corrompida por el hombre.\nLa dramaturgia de la obra se sustenta en textos de Walt Whitman\, José Hierro y Alba Mata. \nFicha artística: \nIdea original\, adaptación de textos y dramaturgia: Alba Mata\nIntérpretes: Fran Machado / Alba Mata\nMúsica original: Manu Arteaga\nArreglos de sonido: Loles López / Manu Arteaga / Miguel Paz\nDiseño de iluminación: Loles López\nEscenografía y atrezzo: Cristóbal López / Alessandra Orofino\nVestuario: Farah Hasanat\nMaquillaje y peluquería: José Carlos Pinto\nDirección: Alba Mata \nDuración aproximada: 60 minutos.\nVideo promocional: http://www.youtube.com/watch?v=VJA8SqB3_Lc
URL:https://cicus.us.es/evento/cenit-v-%c2%b7-orilla-olvido/
LOCATION:Centro Atalaya-TNT\, Avda. Parque de Despeñaperros\, 1. \, Sevilla\, Sevilla\, España
END:VEVENT
BEGIN:VEVENT
DTSTART;TZID=Europe/Madrid:20131117T203000
DTEND;TZID=Europe/Madrid:20131117T203000
DTSTAMP:20260420T062111
CREATED:20131007T213314Z
LAST-MODIFIED:20131104T104702Z
UID:14202-1384720200-1384720200@cicus.us.es
SUMMARY:CENIT V  · FRAG. # 3 APROXIMACIÓN A LA IDEA DE DESCONFIANZA
DESCRIPTION:“FRAG. # 3 APROXIMACIÓN A LA IDEA DE DESCONFIANZA”. Cía. Evelyn B./ Pitou Strash Company \nSinopsis:\nFrag. # 3\, Aproximación a la idea de desconfianza se basa en buscar el verdadero significado del texto\, lo que no se dice\, el uso de los espacios abiertos no convencional\, un lenguaje escénico multidisciplinario\, con un predominio del cuerpo y la tecnología\, la invasión del espacio cerrando al espectador convirtiéndolo en un coro griego con un tema centrado en los conflictos entre el individuo y el grupo.\nUn plástico cuadrado transparente marca el límite\, Video proyectado en los muros como escenografía viva que cambia constantemente y tres micrófonos para los sonidos in live creado por los actores.\nCon un cuerpo bañado en miel\, sinónimo de Dunkin Donut. Un hombre enterrado y vestido con plástico estirable que nace de la tierra. Arcilla color gris liquida para un cuerpo que salta como un pez fuera del agua acompañado de cenizas flotando gracias a dos ventiladores industriales\, simbolizando los cuerpos del Holocausto. Pintura roja proyectada como látigos en un cuerpo desnudo\, mostrando las cicatrices dejadas por el egoísmo humano o llevar heridas en el ser.\nTerminando con agua\, los intérpretes se lavan a sí mismos al ritmo de «Magnificat» de Arvo Part\, en torno a un carro de supermercado en llamas\, para deshacerse de la suciedad\, que se ha convertido en una espiral de consumo\, un sentimiento de desesperación de la humanidad\, como una reacción a nuestra sociedad. \nFicha técnica:\nEvelyn B.: Directora / Productora / Actriz / Autor\nJulie Pichavant: Actriz / Director\nMichael Steffan: Actor / Cantante\nRamón Diago: Video-Intérprete / Filólogo \nDuración aproximada: 60-70 minutos\nVideo Promo: http://www.youtube.com/watch?v=VIcoUosx0xU\nWeb de la compañía: www.pitoustrash.org\nFotos y video: http://www.pitoustrash.org/#/frag-3-photos-video
URL:https://cicus.us.es/evento/cenit-v-%c2%b7-frag-3-aproximacion-a-la-idea-de-desconfianza/
LOCATION:Centro Atalaya-TNT\, Avda. Parque de Despeñaperros\, 1. \, Sevilla\, Sevilla\, España
END:VEVENT
END:VCALENDAR