BEGIN:VCALENDAR
VERSION:2.0
PRODID:-//CICUS · Centro de Iniciativas Culturales de la Universidad de Sevilla - ECPv6.15.20//NONSGML v1.0//EN
CALSCALE:GREGORIAN
METHOD:PUBLISH
X-WR-CALNAME:CICUS · Centro de Iniciativas Culturales de la Universidad de Sevilla
X-ORIGINAL-URL:https://cicus.us.es
X-WR-CALDESC:Eventos para CICUS · Centro de Iniciativas Culturales de la Universidad de Sevilla
REFRESH-INTERVAL;VALUE=DURATION:PT1H
X-Robots-Tag:noindex
X-PUBLISHED-TTL:PT1H
BEGIN:VTIMEZONE
TZID:Europe/Madrid
BEGIN:DAYLIGHT
TZOFFSETFROM:+0100
TZOFFSETTO:+0200
TZNAME:CEST
DTSTART:20120325T010000
END:DAYLIGHT
BEGIN:STANDARD
TZOFFSETFROM:+0200
TZOFFSETTO:+0100
TZNAME:CET
DTSTART:20121028T010000
END:STANDARD
BEGIN:DAYLIGHT
TZOFFSETFROM:+0100
TZOFFSETTO:+0200
TZNAME:CEST
DTSTART:20130331T010000
END:DAYLIGHT
BEGIN:STANDARD
TZOFFSETFROM:+0200
TZOFFSETTO:+0100
TZNAME:CET
DTSTART:20131027T010000
END:STANDARD
BEGIN:DAYLIGHT
TZOFFSETFROM:+0100
TZOFFSETTO:+0200
TZNAME:CEST
DTSTART:20140330T010000
END:DAYLIGHT
BEGIN:STANDARD
TZOFFSETFROM:+0200
TZOFFSETTO:+0100
TZNAME:CET
DTSTART:20141026T010000
END:STANDARD
BEGIN:DAYLIGHT
TZOFFSETFROM:+0100
TZOFFSETTO:+0200
TZNAME:CEST
DTSTART:20150329T010000
END:DAYLIGHT
BEGIN:STANDARD
TZOFFSETFROM:+0200
TZOFFSETTO:+0100
TZNAME:CET
DTSTART:20151025T010000
END:STANDARD
END:VTIMEZONE
BEGIN:VEVENT
DTSTART;VALUE=DATE:20130709
DTEND;VALUE=DATE:20140201
DTSTAMP:20260424T075632
CREATED:20130527T224912Z
LAST-MODIFIED:20131219T135517Z
UID:13402-1373328000-1391212799@cicus.us.es
SUMMARY:Exposición "NO HAY CRISIS CREATIVA"
DESCRIPTION:Imagen: Lucas Martinez para Zunder Collective \nNO HAY CRISIS CREATIVA\, De Irene Pérez Miranda (comisaria) \nLugar: Fachada del edificio sede del CICUS\nFecha: Del 9 de julio a final de 2013. \nSe trata de una exposición colectiva\, multidisciplinar\, de jóvenes andaluces y creativos. Las lonas expuestas en la fachada del CICUS serán ventanas donde descubrir proyectos de diseño\, ilustración\, música\, artes escénicas\, arte urbano\, moda\, arquitectura\, arte digital… Todo ello a través de grandes creadores activos e innovadores. Como afirma la comisaria de la exposición en su proyecto: No es una generación perdida\, es una generación efervescente.\nPensamos que este proyecto da más sentido si cabe al CICUS en cuanto que centro de iniciativas culturales. Nos ha gustado especialmente que nuestra fachada pueda ser también un escaparate de esa efervescencia\, de la creatividad y de las ganas de jóvenes emprendedores andaluces por sacar adelante sus proyectos culturales.\nLas lonas de las plantas primera y segunda contienen las propuestas artísticas de cada disciplina o proyecto. En las ventanas de abajo\, mediante un plano esquemático\, se remitirá a los distintos proyectos a través de un código QR que lleva a la página web de cada artista.
URL:https://cicus.us.es/evento/exposicion-no-hay-crisis-creativa/
LOCATION:CICUS\, C/ Madre de Dios\, 1\, Sevilla\, Sevilla\, España
END:VEVENT
BEGIN:VEVENT
DTSTART;TZID=Europe/Madrid:20131111T180000
DTEND;TZID=Europe/Madrid:20131111T180000
DTSTAMP:20260424T075632
CREATED:20131007T161039Z
LAST-MODIFIED:20131007T162058Z
UID:14169-1384192800-1384192800@cicus.us.es
SUMMARY:MUESTRA AVA | SESIÓN 5. CORTOMETRAJES
DESCRIPTION:SESIÓN 5. CORTOMETRAJES \n18.00 h. – 71 min. \n  \n1. Diafracma.- José Antonio Mesa (José Antonio Mesa\, Carlos Rodríguez\, Antonio De la Mano\, 2011\, 5 min.) \nUn fotógrafo. Un paisaje frente a él. Algo extraño aparece en las fotografías. \n  \n2. Project Shell.- Blow Studio (Alejandro Jiménez\, Fátima de los Santos\, Bernardo González\, 2012\, 4 min.) \nAño 2086. Project Shell es un ambicioso programa científico de la UNC basado en generar ciber-clones para trabajar en la producción de recursos y energías. Los clones se rebelaron y escaparon cuando tomaron conciencia de su situación de esclavitud\, sin importar las vidas que ello costase. La UNC creó una división policial para darles caza\, pero una de esas cazas era un asunto personal. \n  \n3. Jacobo.- David del Águila (David del Águila\, 2012\, 13 min.) \nJacobo tiene que tomar la decisión más difícil de su vida. \n  \n4. La media vuelta.- Ferdydurke (Fernando Franco\, 2012\, 17 min.) \nPerdona… ¿me das un cigarrillo? \n  \n5. Sentido Obligatorio.- Juan Carlos Guerra (Juan Carlos Guerra\, 2010\, 15 min.) \nErnesto es uno de los elementos de una compleja y peligrosa trama que está a punto de fracasar\, situación que los deja a él y a sus compañeros en una posición extrema. Junto a Rosi y a Andrey\, decide desaparecer esa misma noche de la ciudad. En la vorágine de los acontecimientos\, Ernesto conoce a Laura\, con la que tiene una pequeña relación que\, de pronto\, parece abrir un horizonte diferente en la trayectoria de su vida. Sin embargo\, algunos sucesos precipitarán el desenlace y dirigirán ineludiblemente sus pasos en uno de los dos sentidos planteados. \n  \n6. Irene.- Emilio Egea (Leocricia Sabán\, 2012\, 17 min.) \nIrene es el gélido viaje entre las fronteras de la realidad conocida y la desconocida de una madre desesperada por recuperar a su hija. El drama\,el suspense y el género fantástico se entremezclan en esta historia situada en un futuro no muy lejano en el que la ciencia nos da nuevas esperanzas de vida. \n  \nCon la colaboración de
URL:https://cicus.us.es/evento/muestra-ava-sesion-5-cortometrajes/
LOCATION:CICUS – Sala Café\, C/ Madre de Dios\,1\, Sevilla\, Sevilla\, España
END:VEVENT
BEGIN:VEVENT
DTSTART;TZID=Europe/Madrid:20131111T200000
DTEND;TZID=Europe/Madrid:20131111T200000
DTSTAMP:20260424T075632
CREATED:20131007T155333Z
LAST-MODIFIED:20131007T160025Z
UID:14153-1384200000-1384200000@cicus.us.es
SUMMARY:Filmoteca |  IL MIRACOLO
DESCRIPTION:Tendencias del cine italiano \n IL MIRACOLO \n(Edoardo Winspeare\, Italia 2003\, 93 min.\, v.o.s.e.) \nSinopsis: \nTonio es un niño de 12 años al que un día atropella un coche. Cuando despierta del coma en el hospital\, descubre algo sorprendente: al acercarse a un hombre cuyo cardiograma no indica latido alguno\, su corazón comienza a palpitar. 
URL:https://cicus.us.es/evento/filmoteca-il-miracolo/
LOCATION:CICUS\, C/ Madre de Dios\,1\, Sevilla\, Sevilla\, España
END:VEVENT
END:VCALENDAR