BEGIN:VCALENDAR
VERSION:2.0
PRODID:-//CICUS · Centro de Iniciativas Culturales de la Universidad de Sevilla - ECPv6.15.20//NONSGML v1.0//EN
CALSCALE:GREGORIAN
METHOD:PUBLISH
X-WR-CALNAME:CICUS · Centro de Iniciativas Culturales de la Universidad de Sevilla
X-ORIGINAL-URL:https://cicus.us.es
X-WR-CALDESC:Eventos para CICUS · Centro de Iniciativas Culturales de la Universidad de Sevilla
REFRESH-INTERVAL;VALUE=DURATION:PT1H
X-Robots-Tag:noindex
X-PUBLISHED-TTL:PT1H
BEGIN:VTIMEZONE
TZID:Europe/Madrid
BEGIN:DAYLIGHT
TZOFFSETFROM:+0100
TZOFFSETTO:+0200
TZNAME:CEST
DTSTART:20120325T010000
END:DAYLIGHT
BEGIN:STANDARD
TZOFFSETFROM:+0200
TZOFFSETTO:+0100
TZNAME:CET
DTSTART:20121028T010000
END:STANDARD
BEGIN:DAYLIGHT
TZOFFSETFROM:+0100
TZOFFSETTO:+0200
TZNAME:CEST
DTSTART:20130331T010000
END:DAYLIGHT
BEGIN:STANDARD
TZOFFSETFROM:+0200
TZOFFSETTO:+0100
TZNAME:CET
DTSTART:20131027T010000
END:STANDARD
BEGIN:DAYLIGHT
TZOFFSETFROM:+0100
TZOFFSETTO:+0200
TZNAME:CEST
DTSTART:20140330T010000
END:DAYLIGHT
BEGIN:STANDARD
TZOFFSETFROM:+0200
TZOFFSETTO:+0100
TZNAME:CET
DTSTART:20141026T010000
END:STANDARD
BEGIN:DAYLIGHT
TZOFFSETFROM:+0100
TZOFFSETTO:+0200
TZNAME:CEST
DTSTART:20150329T010000
END:DAYLIGHT
BEGIN:STANDARD
TZOFFSETFROM:+0200
TZOFFSETTO:+0100
TZNAME:CET
DTSTART:20151025T010000
END:STANDARD
END:VTIMEZONE
BEGIN:VEVENT
DTSTART;VALUE=DATE:20130709
DTEND;VALUE=DATE:20140201
DTSTAMP:20260420T053117
CREATED:20130527T224912Z
LAST-MODIFIED:20131219T135517Z
UID:13402-1373328000-1391212799@cicus.us.es
SUMMARY:Exposición "NO HAY CRISIS CREATIVA"
DESCRIPTION:Imagen: Lucas Martinez para Zunder Collective \nNO HAY CRISIS CREATIVA\, De Irene Pérez Miranda (comisaria) \nLugar: Fachada del edificio sede del CICUS\nFecha: Del 9 de julio a final de 2013. \nSe trata de una exposición colectiva\, multidisciplinar\, de jóvenes andaluces y creativos. Las lonas expuestas en la fachada del CICUS serán ventanas donde descubrir proyectos de diseño\, ilustración\, música\, artes escénicas\, arte urbano\, moda\, arquitectura\, arte digital… Todo ello a través de grandes creadores activos e innovadores. Como afirma la comisaria de la exposición en su proyecto: No es una generación perdida\, es una generación efervescente.\nPensamos que este proyecto da más sentido si cabe al CICUS en cuanto que centro de iniciativas culturales. Nos ha gustado especialmente que nuestra fachada pueda ser también un escaparate de esa efervescencia\, de la creatividad y de las ganas de jóvenes emprendedores andaluces por sacar adelante sus proyectos culturales.\nLas lonas de las plantas primera y segunda contienen las propuestas artísticas de cada disciplina o proyecto. En las ventanas de abajo\, mediante un plano esquemático\, se remitirá a los distintos proyectos a través de un código QR que lleva a la página web de cada artista.
URL:https://cicus.us.es/evento/exposicion-no-hay-crisis-creativa/
LOCATION:CICUS\, C/ Madre de Dios\, 1\, Sevilla\, Sevilla\, España
END:VEVENT
BEGIN:VEVENT
DTSTART;TZID=Europe/Madrid:20131104T180000
DTEND;TZID=Europe/Madrid:20131104T180000
DTSTAMP:20260420T053117
CREATED:20131007T160832Z
LAST-MODIFIED:20131007T162032Z
UID:14167-1383588000-1383588000@cicus.us.es
SUMMARY:MUESTRA AVA | SESIÓN 4. CORTOMETRAJES
DESCRIPTION:SESIÓN 4. CORTOMETRAJES \n18.00 h. – 72 min. \n  \n1. Alfred y Ana. – Forma Animada S.L. (Juanma Suárez\, 2012\, 14 min.) \nDesde que las familias de Humminbird tuvieron que emigrar\, dejando al pueblo sin niños\, el profesor Alfred ha visto truncada su gran pasión\, dar clases de música. Además\, Alfred se ha ido aislando y distanciando cada vez más de su esposa Anna y de la vida que ambos habían deseado. La llegada de un nuevo alumno le devolverá a Alfred la ilusión por las clases\, pero\, ¿podrá Alfred recuperar la ilusión por el amor? \n  \n2. Tchang.- Dos de Catorce Producciones (Gonzalo Visedo\, Daniel Strömbeck\, 2010 \, 27 min.) \nDos montañeros vascos sufren un accidente en una cumbre del sur de España. El servicio de rescate de la Guardia Civil sale a buscarlos. Dos guardias consiguen localizarles en una cresta. Después de un arriesgado rescate\, el tiempo cambia y una fuerte ventisca obliga a los cuatro a refugiarse en una pequeña cueva. Tras una noche de supervivencia\, la vida de uno de ellos cambiará para siempre. en la cresta de una montaña… en el interior de una cueva… entre la vida y la muerte… \n  \n3. El día que decidí matarme.- Producciones Salvage’s (Salvador Guerra\, 2011 \, 20 min.) \nEmilio está perdido en la vida. Siempre ha soñado con ser escritor\, pero trabaja para una compañía de seguros. Con tal de conseguir su sueño\, dará un giro drástico a su vida. \n  \n4. La Cuerda.- Porlacara Producciones (Pablo Sola\, 2010 \, 11 min.) \nLa humanidad apesta. Javier vive con su perro Kojak y no necesita absolutamente a nadie más para vivir\, ni siquiera… un momento\, ¿qué es eso que sale del wáter?… ¿una cuerda?… \n  \nCon la colaboración de
URL:https://cicus.us.es/evento/muestra-ava-sesion-4-cortometrajes/
LOCATION:CICUS – Sala Café\, C/ Madre de Dios\,1\, Sevilla\, Sevilla\, España
END:VEVENT
BEGIN:VEVENT
DTSTART;TZID=Europe/Madrid:20131104T200000
DTEND;TZID=Europe/Madrid:20131104T200000
DTSTAMP:20260420T053117
CREATED:20131007T155156Z
LAST-MODIFIED:20131007T160219Z
UID:14151-1383595200-1383595200@cicus.us.es
SUMMARY:Filmoteca | LACAPAGIRA
DESCRIPTION:Tendencias del cine italiano \nLACAPAGIRA \n(Alessandro Piva\, Italia\, 2000\, 70 min.\, v.o.s.e.) \nSinopsis: \nUn grupo de jóvenes delincuentes busca un paquete perdido que ha llegado de los Balcanes. 
URL:https://cicus.us.es/evento/filmoteca-lacapagira/
LOCATION:CICUS – Sala Café\, C/ Madre de Dios\,1\, Sevilla\, Sevilla\, España
END:VEVENT
END:VCALENDAR