BEGIN:VCALENDAR
VERSION:2.0
PRODID:-//CICUS · Centro de Iniciativas Culturales de la Universidad de Sevilla - ECPv6.15.20//NONSGML v1.0//EN
CALSCALE:GREGORIAN
METHOD:PUBLISH
X-ORIGINAL-URL:https://cicus.us.es
X-WR-CALDESC:Eventos para CICUS · Centro de Iniciativas Culturales de la Universidad de Sevilla
REFRESH-INTERVAL;VALUE=DURATION:PT1H
X-Robots-Tag:noindex
X-PUBLISHED-TTL:PT1H
BEGIN:VTIMEZONE
TZID:Europe/Madrid
BEGIN:DAYLIGHT
TZOFFSETFROM:+0100
TZOFFSETTO:+0200
TZNAME:CEST
DTSTART:20120325T010000
END:DAYLIGHT
BEGIN:STANDARD
TZOFFSETFROM:+0200
TZOFFSETTO:+0100
TZNAME:CET
DTSTART:20121028T010000
END:STANDARD
BEGIN:DAYLIGHT
TZOFFSETFROM:+0100
TZOFFSETTO:+0200
TZNAME:CEST
DTSTART:20130331T010000
END:DAYLIGHT
BEGIN:STANDARD
TZOFFSETFROM:+0200
TZOFFSETTO:+0100
TZNAME:CET
DTSTART:20131027T010000
END:STANDARD
BEGIN:DAYLIGHT
TZOFFSETFROM:+0100
TZOFFSETTO:+0200
TZNAME:CEST
DTSTART:20140330T010000
END:DAYLIGHT
BEGIN:STANDARD
TZOFFSETFROM:+0200
TZOFFSETTO:+0100
TZNAME:CET
DTSTART:20141026T010000
END:STANDARD
BEGIN:DAYLIGHT
TZOFFSETFROM:+0100
TZOFFSETTO:+0200
TZNAME:CEST
DTSTART:20150329T010000
END:DAYLIGHT
BEGIN:STANDARD
TZOFFSETFROM:+0200
TZOFFSETTO:+0100
TZNAME:CET
DTSTART:20151025T010000
END:STANDARD
END:VTIMEZONE
BEGIN:VEVENT
DTSTART;VALUE=DATE:20130709
DTEND;VALUE=DATE:20140201
DTSTAMP:20260420T041919
CREATED:20130527T224912Z
LAST-MODIFIED:20131219T135517Z
UID:13402-1373328000-1391212799@cicus.us.es
SUMMARY:Exposición "NO HAY CRISIS CREATIVA"
DESCRIPTION:Imagen: Lucas Martinez para Zunder Collective \nNO HAY CRISIS CREATIVA\, De Irene Pérez Miranda (comisaria) \nLugar: Fachada del edificio sede del CICUS\nFecha: Del 9 de julio a final de 2013. \nSe trata de una exposición colectiva\, multidisciplinar\, de jóvenes andaluces y creativos. Las lonas expuestas en la fachada del CICUS serán ventanas donde descubrir proyectos de diseño\, ilustración\, música\, artes escénicas\, arte urbano\, moda\, arquitectura\, arte digital… Todo ello a través de grandes creadores activos e innovadores. Como afirma la comisaria de la exposición en su proyecto: No es una generación perdida\, es una generación efervescente.\nPensamos que este proyecto da más sentido si cabe al CICUS en cuanto que centro de iniciativas culturales. Nos ha gustado especialmente que nuestra fachada pueda ser también un escaparate de esa efervescencia\, de la creatividad y de las ganas de jóvenes emprendedores andaluces por sacar adelante sus proyectos culturales.\nLas lonas de las plantas primera y segunda contienen las propuestas artísticas de cada disciplina o proyecto. En las ventanas de abajo\, mediante un plano esquemático\, se remitirá a los distintos proyectos a través de un código QR que lleva a la página web de cada artista.
URL:https://cicus.us.es/evento/exposicion-no-hay-crisis-creativa/
LOCATION:CICUS\, C/ Madre de Dios\, 1\, Sevilla\, Sevilla\, España
END:VEVENT
BEGIN:VEVENT
DTSTART;TZID=Europe/Madrid:20131028T180000
DTEND;TZID=Europe/Madrid:20131028T180000
DTSTAMP:20260420T041919
CREATED:20130925T062611Z
LAST-MODIFIED:20130925T062741Z
UID:14037-1382983200-1382983200@cicus.us.es
SUMMARY:IX MUESTRA AVA | SESIÓN 3. CORTOMETRAJES
DESCRIPTION:IX MUESTRA AVA \nSESIÓN 3. CORTOMETRAJES\n18.00 h. – 69 min.  \n1. La Matraca de Bengasi.- Paco Torres (Paco Torres\, 2012\, 11 min.)\nEl ruido de una Matraca es intenso\, inconfundible e implacable. En Bengasi\, un niño y una niña juegan con una matraca para silenciar el ruido de los bombardeos. Juegan a ser ellos mismos. Sus sonrisas se convierten en lágrimas silenciosas llenas de esperanza. \n2. La última foto.- Raúl Arteaga (Raúl Arteaga\, 2012\, 19 min.)\n\nUna pareja después de revelar sus fotografías de vacaciones\, descubren una imagen que no recuerdan haber hecho\, a partir de ese momento comienzan una serie de sucesos extraños.  \n3. Fosfato de calcio.- SABBIA Films (Gabriel Carrasco Álvarez\, 2011\, 5 min.)\n\nEncuentro en una situación surrealista acompasada mediante textos de Berger y danza\ncontemporánea. \n4. Fuertes.- Albert Nash (Nacho Albert\, 2011\, 15 min.)\n\nUna mujer que necesita ayuda… ayuda a otra mujer \n5. El Jinete Austero.- Albert Nash (Nacho Albert\, 2010\, 19 min.)\n\nAbelardo es un cazador experimentado y Carlitos es su ingenuo aprendiz. ¿Podría cualquier contingencia truncar la aparente normalidad de un día de caza? \nCon la colaboración de
URL:https://cicus.us.es/evento/ix-muestra-ava-sesion-3-cortometrajes/
END:VEVENT
BEGIN:VEVENT
DTSTART;TZID=Europe/Madrid:20131028T200000
DTEND;TZID=Europe/Madrid:20131028T200000
DTSTAMP:20260420T041919
CREATED:20130925T061948Z
LAST-MODIFIED:20130925T061948Z
UID:14033-1382990400-1382990400@cicus.us.es
SUMMARY:FILMOTECA | SANTA MARADONA
DESCRIPTION:Tendencias del cine italiano \nSANTA MARADONA\n(Marco Ponti\, Italia 2001\, 96 min.\, v.o.s.e.) \nSinopsis:\nAndrea es un joven de 27 años que se licenció en la universidad\, pero cuya carrera apenas le es útil para encontrar trabajo. Se pasa los días buscando un empleo y mata el tiempo hablando con su compañero de piso Bart y su amiga indo-italiana Lucia. Pero todo cambia el día que conoce a Dolores\, una atractiva profesora y actriz.
URL:https://cicus.us.es/evento/filmoteca-santa-maradona/
END:VEVENT
END:VCALENDAR