BEGIN:VCALENDAR
VERSION:2.0
PRODID:-//CICUS · Centro de Iniciativas Culturales de la Universidad de Sevilla - ECPv6.15.20//NONSGML v1.0//EN
CALSCALE:GREGORIAN
METHOD:PUBLISH
X-ORIGINAL-URL:https://cicus.us.es
X-WR-CALDESC:Eventos para CICUS · Centro de Iniciativas Culturales de la Universidad de Sevilla
REFRESH-INTERVAL;VALUE=DURATION:PT1H
X-Robots-Tag:noindex
X-PUBLISHED-TTL:PT1H
BEGIN:VTIMEZONE
TZID:Europe/Madrid
BEGIN:DAYLIGHT
TZOFFSETFROM:+0100
TZOFFSETTO:+0200
TZNAME:CEST
DTSTART:20120325T010000
END:DAYLIGHT
BEGIN:STANDARD
TZOFFSETFROM:+0200
TZOFFSETTO:+0100
TZNAME:CET
DTSTART:20121028T010000
END:STANDARD
BEGIN:DAYLIGHT
TZOFFSETFROM:+0100
TZOFFSETTO:+0200
TZNAME:CEST
DTSTART:20130331T010000
END:DAYLIGHT
BEGIN:STANDARD
TZOFFSETFROM:+0200
TZOFFSETTO:+0100
TZNAME:CET
DTSTART:20131027T010000
END:STANDARD
BEGIN:DAYLIGHT
TZOFFSETFROM:+0100
TZOFFSETTO:+0200
TZNAME:CEST
DTSTART:20140330T010000
END:DAYLIGHT
BEGIN:STANDARD
TZOFFSETFROM:+0200
TZOFFSETTO:+0100
TZNAME:CET
DTSTART:20141026T010000
END:STANDARD
END:VTIMEZONE
BEGIN:VEVENT
DTSTART;VALUE=DATE:20130409
DTEND;VALUE=DATE:20130420
DTSTAMP:20260420T042123
CREATED:20130331T173413Z
LAST-MODIFIED:20130408T110031Z
UID:12533-1365465600-1366415999@cicus.us.es
SUMMARY:UBICUA· Exposición Mobile Photography Project
DESCRIPTION:Fecha: Del 9 al 19 de abril\, en la sala de exposiciones del CICUS. \nPrecio: Entrada libre hasta completar aforo. \n“Mobile Photography Project” pretende hacer partícipe a la comunidad universitaria de Sevilla mediante la fotografía móvil realizando diversas acciones en el CICUS. Para ello utilizaremos la red social gratuita de fotografía para Android y iPhone “Instagram”. \nEl proyecto constará de talleres de fotografía móvil\, ponencias de usuarios destacados en distintas disciplinas\, uso de aplicaciones y de accesorios y concursos mediante los cuales utilizando siempre la etiqueta (hashtag) #cicus demos a conocer el centro en las redes sociales. En cada uno de los concursos se seleccionarán 25 fotografías que pasarán a formar parte de la exposición final durante el festival UBICUA. Para poder participar en dichos concursos \ny asistir a los talleres/ponencias se deberá seguir a CICUS tanto en el perfil de facebook como en el perfil que se creará con tal fin en Instagram\, donde además de anunciar las acciones del Mobile Photography Project se utilizará para publicitar las exposiciones\, talleres\, etc. que se lleven a cabo en el centro. Estas campañas se reforzarán con el apoyo de los usuarios @colcherovazquez y @sevillacretiva contando con más de 8.000 seguidores. \nCoordinación: José Martos López (Sevilla Creativa) y Manuel Colchero Vázquez. \nColaboradores \nLuis Rodríguez\, Carolina de Britos Marsal\, Rocío Sánchez Navarro\, Colectivo de artistas Pasearte
URL:https://cicus.us.es/evento/ubicua%c2%b7-exposicion-mobile-photography-project/
LOCATION:CICUS\, C/ Madre de Dios\, 1\, Sevilla\, Sevilla\, España
END:VEVENT
BEGIN:VEVENT
DTSTART;VALUE=DATE:20130409
DTEND;VALUE=DATE:20130501
DTSTAMP:20260420T042123
CREATED:20130331T173554Z
LAST-MODIFIED:20130422T153729Z
UID:12535-1365465600-1367366399@cicus.us.es
SUMMARY:UBICUA · ANTÍGONA Instalación Elena Asins
DESCRIPTION:Elena Asins centra su búsqueda en un lenguaje basado en los números\, las proporciones y el ritmo. No necesita plasmar referentes visuales que entronquen con el mundo real. Tampoco los símbolos le interesan especialmente\, sólo aquellos que remiten a conceptos de carácter universal. La idea es lo absoluto\, fuente de imágenes concretas. Ordenador y calculadora como herramientas de trabajo para obtener formas matemáticas con interrelación numérica. La tecnología como aliada del arte.
URL:https://cicus.us.es/evento/ubicua-%c2%b7-antigona-instalacion-elena-asins/
LOCATION:CICUS\, C/ Madre de Dios\, 1\, Sevilla\, Sevilla\, España
END:VEVENT
BEGIN:VEVENT
DTSTART;VALUE=DATE:20130412
DTEND;VALUE=DATE:20130413
DTSTAMP:20260420T042123
CREATED:20130331T164807Z
LAST-MODIFIED:20130412T101725Z
UID:12496-1365724800-1365811199@cicus.us.es
SUMMARY:APLAZADO EL CONCIERTO DE CORO DE CÁMARA MAESE RODRIGO
DESCRIPTION:POR RAZONES AJENAS A LA ORGANIZACIÓN ESTE CONCIERTO HA SIDO APLAZADO. PRONTO SE HARÁ PÚBLICA LA NUEVA FECHA. PERDONEN LAS MOLESTIAS. \nCoro de Cámara Maese Rodrigo \nAlberto Álvarez\, director \nDesde su fundación en 2006\, el coro está formado fundamentalmente por antiguos alumnos/as de la carrera de Maestro (antigua especialidad de música)\, y por miembros de la Universidad de Sevilla. \nHa actuado en diversos lugares de Sevilla y provincia\, así como en otras localidades dentro y fuera de Andalucía y ocasionalmente en el extranjero. \nDestacan un Segundo Premio en el “IV Certamen Nacional de Polifonía Ciudad de Motril” (2009)\, y el Primer Premio en el X Concurso Internacional “Venezia in musica” en la categoría de “Coro de Cámara”\, teniendo la ocasión de poder actuar en la magnífica Iglesia Madonna dei Miracoli. \nLos repertorios del Coro Maese Rodrigo van desde el siglo XVI hasta la actualidad\, interpretando obras tanto sacras como profanas. \nEn junio de 2012\, el Coro Maese Rodrigo grabó su primer disco\, titulado Entre la luz y la oscuridad\, estando disponible en los diversos canales digitales y existiendo una edición limitada de la misma grabación en formato CD. \nSu director es el profesor de la Facultad de Ciencias de la Educación de la Universidad de Sevilla Alberto J. Álvarez. \nObras de W. Byrd\, J. Ernst Eberling\, R. Thomsom\, P. Hindemith\, V. Williams
URL:https://cicus.us.es/evento/coro-de-camara-maese-rodrigo/
LOCATION:Iglesia de la Anunciación\, c/ Laraña s/n\, Sevilla\, Sevilla\, España
END:VEVENT
BEGIN:VEVENT
DTSTART;TZID=Europe/Madrid:20130412T210000
DTEND;TZID=Europe/Madrid:20130412T210000
DTSTAMP:20260420T042123
CREATED:20130331T170923Z
LAST-MODIFIED:20130407T191900Z
UID:12512-1365800400-1365800400@cicus.us.es
SUMMARY:UBICUA · Tannhauser & String- Proyecciones Vdj Alba G. Corral
DESCRIPTION:Un reto en Ubicua: Para esta ocasión el CICUS acomete un nuevo reto\, realizar una producción musical propia\, para ello hemos puesto en relación a Tannhauser un conocido grupo de la escena indi española con  músicos de cuerda de tradición clásica\, también para completar la propuesta la vdj Alba G. Corral hará un ejercicio de improvisación visual.  Esta conjunción supone un esfuerzo creativo de indudable valor que podrá plasmarse en nuestro Festival de Arte y Cultura Digital UBICUA
URL:https://cicus.us.es/evento/ubicua-%c2%b7-tannhauser-string-proyecciones-vdj-alba-g-corral/
LOCATION:CICUS\, C/ Madre de Dios\, 1\, Sevilla\, Sevilla\, España
END:VEVENT
END:VCALENDAR