BEGIN:VCALENDAR
VERSION:2.0
PRODID:-//CICUS · Centro de Iniciativas Culturales de la Universidad de Sevilla - ECPv6.15.20//NONSGML v1.0//EN
CALSCALE:GREGORIAN
METHOD:PUBLISH
X-WR-CALNAME:CICUS · Centro de Iniciativas Culturales de la Universidad de Sevilla
X-ORIGINAL-URL:https://cicus.us.es
X-WR-CALDESC:Eventos para CICUS · Centro de Iniciativas Culturales de la Universidad de Sevilla
REFRESH-INTERVAL;VALUE=DURATION:PT1H
X-Robots-Tag:noindex
X-PUBLISHED-TTL:PT1H
BEGIN:VTIMEZONE
TZID:Europe/Madrid
BEGIN:DAYLIGHT
TZOFFSETFROM:+0100
TZOFFSETTO:+0200
TZNAME:CEST
DTSTART:20110327T010000
END:DAYLIGHT
BEGIN:STANDARD
TZOFFSETFROM:+0200
TZOFFSETTO:+0100
TZNAME:CET
DTSTART:20111030T010000
END:STANDARD
BEGIN:DAYLIGHT
TZOFFSETFROM:+0100
TZOFFSETTO:+0200
TZNAME:CEST
DTSTART:20120325T010000
END:DAYLIGHT
BEGIN:STANDARD
TZOFFSETFROM:+0200
TZOFFSETTO:+0100
TZNAME:CET
DTSTART:20121028T010000
END:STANDARD
BEGIN:DAYLIGHT
TZOFFSETFROM:+0100
TZOFFSETTO:+0200
TZNAME:CEST
DTSTART:20130331T010000
END:DAYLIGHT
BEGIN:STANDARD
TZOFFSETFROM:+0200
TZOFFSETTO:+0100
TZNAME:CET
DTSTART:20131027T010000
END:STANDARD
END:VTIMEZONE
BEGIN:VEVENT
DTSTART;VALUE=DATE:20120704
DTEND;VALUE=DATE:20120904
DTSTAMP:20260422T054627
CREATED:20121015T183536Z
LAST-MODIFIED:20121015T183625Z
UID:11356-1341360000-1346716799@cicus.us.es
SUMMARY:EXPOSICIÓN "DE PASO EN LA TIERRA"
DESCRIPTION:El Instituto Francés de España ha creado la exposición itinerante “De paso en la Tierra”/”De passage sur la Terre”\, con la intención de dar a conocer a un amplio público a más de 40 artistas que viven y trabajan en Francia o en España hoy en día. Se ha querido hacer una exposición de calidad pero fácil de transportar y colgar en espacios públicos. 45 artistas reconocidos\, franceses y españoles\, de diferentes generaciones\, orígenes y sensibilidades han aceptado imaginar una obra original como recuerdo o testimonio de su paso en la Tierra. \nComisarios: Françoise Adamsbaum (F) y William Jeffett (EE-UU). \nArtistas: Rafael Agredano\, Pilar Albarracín\, Virginie Barré\, Jordi Bernardo\, François Boisrond\, Yamandu Canosa\, Miguel Chevalier\, Stéphane Couturier\, Hervé Di Rosa\, Begoña Igurbide\, Evru\, Anthony Freestone\, Curro Gonzalez\, Aicha Hamu\, Fabrice Hyber\, Hippolyte Hentgen\, Iris Levasseur\, Marie-Fleur Lefebvre\, Francesca Llopis\, Luis\nMacias\, Mireya Maso\, Charles Metras\, Pablo Milicua\, Antoni Miralda\, Vincent Olinet\, Orlan\, Jesus Palomino\, Carlos Pazos\, Bruno Peinado\, Alberto Peral\, Françoise Petrovitch\, Joan Rabascall\, Jean-Pierre Raynaud\, Gino Rubert\, Manuel Sáez\, Horacio Sapere\, Jeanne Susplugas\, Agnès Varda\, Alicia Vela\, Begoña Zubero. Curro Gonzalez\, Bruno Peinado\, Françoise Petrovitch\, Virginie Barré\, Horacio Sapere\, Cécile Paris\, Jesus Palomino\, Manuel Sáez\, François Boisrond\, Yamandu Canosa\, Jeanne\nSusplugas\, Begoña Zubero. \nJUEVES 5 DE JULIO\, 12H30 EN EL CICUS\n \nEL CICUS Y EL INSTITUT FRANÇAIS DE ESPAÑA OS INVITAN A : \nDE PASO EN LA TIERRA\, HISTORIA DE UNA EXPOSICIÓN DE UN NUEVO TIPO \nENCUENTRO CON LOS ARTISTAS : CURRO GONZÁLEZ\, BEGOÑA EGURBIDE\, PABLO MILICUA\, MIRALDA\, JESUS PALOMINO\, MANUEL SÁEZ\, JEANNE SUSPLUGAS\, BEGOÑA ZUBERO.\nModera : Victoire Di Rosa\, agregada cultural del Institut Français para el sur de España que ha creado y coordinado la producción de la exposición y del catálogo. \n 
URL:https://cicus.us.es/evento/exposicion-de-paso-en-la-tierra/
LOCATION:CICUS\, C/ Madre de Dios\, SEVILLA\, SEVILLA\, España
END:VEVENT
BEGIN:VEVENT
DTSTART;TZID=Europe/Madrid:20120824T223000
DTEND;TZID=Europe/Madrid:20120824T223000
DTSTAMP:20260422T054627
CREATED:20121015T104852Z
LAST-MODIFIED:20121015T104924Z
UID:11315-1345847400-1345847400@cicus.us.es
SUMMARY:PERSONIFICACION
DESCRIPTION:21 GRADOS \nEl próximo viernes día 24 de agosto el CICUS continúa su agenda de actividades en torno a 21 Grados con la actuación del escritor y poeta Agustín Fernández Mallo que defenderá el espectáculo Personificación en solitario después de que un problema familiar impida poder asistir al también escritor Eloy Fernández Porta. Asimismo\, la noche del CICUS se ampliará con el microshow de la micropoetisa AJO\, cantante\, poeta\, y personaje de referencia en la cultura underground madrileña. \nAgustín Fernández Mallo (A Coruña\, 1967) es autor de los poemarios «Yo siempre regreso a los pezones y al punto 7 del Tractatus»\, «Creta Lateral Travelling»\, «Joan Fontaine Odisea» y «Carne de píxel». Ha publicado el ensayo «Postpoesía: Hacia un nuevo paradigma». Su trilogía Proyecto Nocilla incluye las novelas «Nocilla Dream»\, «Nocilla Experience» y «Nocilla Lab». Ha colaborado en revistas como La Bolsa de Pipas\, La fábrica o Quimera y en diarios como El País o El Mundo. \nPERSONIFICACIÓN es la nueva sesión que ha situado a Afterpop Fernández & Fernández como un referente ineludible en la escena del spoken nacional. Tras una sonorainauguración en el festival Kosmopolis’11\, ha sido presentado en otros eventos de prestigio como SOS (Murcia)\, El Mal de Tourette (Málaga)\, Barcelona Poesia o Coruña Mayúscula\, así como en una reciente gira norteamericana\, con actuaciones en el Instituto Cervantes de Chicago\, el Bijou Theatre de Iowa City\, Dartmouth College y el Congreso Transatlántico de Brown University. El show\, que contiene algunos de sus temas más celebrados\, como Las Máquinas o El justiciero de la noche modelna\, despliega\, a lo largo de diez sorprendentes textos\, una visión humorística y aguda de la creación de la personalidad en la sociedad de consumo\, allí donde las centrales nucleares rebosan glamour\, los amores son corporativos\, los objetos crean la identidad de sus dueños\, y la lírica y la moda son cómplices y aliadas en la producción de una nueva y extraña poesía… o quizá sea postpoesía.
URL:https://cicus.us.es/evento/personificacion/
LOCATION:CICUS
END:VEVENT
END:VCALENDAR